| Back to Multiple platform build/check report for BioC 3.7 | 
 | 
This page was generated on 2018-10-17 08:45:47 -0400 (Wed, 17 Oct 2018).
| Package 196/1561 | Hostname | OS / Arch | INSTALL | BUILD | CHECK | BUILD BIN | ||||||
| ccfindR 1.0.0 Jun Woo 
 | malbec2 | Linux (Ubuntu 16.04.1 LTS) / x86_64 | OK | OK | OK |  | ||||||
| tokay2 | Windows Server 2012 R2 Standard / x64 | OK | [ OK ] | OK | OK |  | ||||||
| merida2 | OS X 10.11.6 El Capitan / x86_64 | OK | OK | OK | OK |  | 
| Package: ccfindR | 
| Version: 1.0.0 | 
| Command: chmod a+r ccfindR -R && C:\Users\biocbuild\bbs-3.7-bioc\R\bin\R.exe CMD build --keep-empty-dirs --no-resave-data ccfindR | 
| StartedAt: 2018-10-17 00:08:20 -0400 (Wed, 17 Oct 2018) | 
| EndedAt: 2018-10-17 00:13:48 -0400 (Wed, 17 Oct 2018) | 
| EllapsedTime: 328.7 seconds | 
| RetCode: 0 | 
| Status: OK | 
| PackageFile: ccfindR_1.0.0.tar.gz | 
| PackageFileSize: 776.7 KiB | 
############################################################################## ############################################################################## ### ### Running command: ### ### chmod a+r ccfindR -R && C:\Users\biocbuild\bbs-3.7-bioc\R\bin\R.exe CMD build --keep-empty-dirs --no-resave-data ccfindR ### ############################################################################## ############################################################################## * checking for file 'ccfindR/DESCRIPTION' ... OK * preparing 'ccfindR': * checking DESCRIPTION meta-information ... OK * installing the package to build vignettes * creating vignettes ... OK * checking for LF line-endings in source and make files and shell scripts * checking for empty or unneeded directories * building 'ccfindR_1.0.0.tar.gz'