| Back to Multiple platform build/check report for BioC 3.7 | 
  | 
This page was generated on 2018-10-17 08:33:29 -0400 (Wed, 17 Oct 2018).
| Package 129/1561 | Hostname | OS / Arch | INSTALL | BUILD | CHECK | BUILD BIN | ||||||
| biocGraph 1.42.0 Florian Hahne 
  | malbec2 | Linux (Ubuntu 16.04.1 LTS) / x86_64 | OK | OK | OK | |||||||
| tokay2 | Windows Server 2012 R2 Standard / x64 | OK | OK | OK | [ OK ] | |||||||
| merida2 | OS X 10.11.6 El Capitan / x86_64 | OK | OK | OK | OK | 
| Package: biocGraph | 
| Version: 1.42.0 | 
| Command: rm -rf biocGraph.buildbin-libdir && mkdir biocGraph.buildbin-libdir && C:\Users\biocbuild\bbs-3.7-bioc\R\bin\R.exe CMD INSTALL --merge-multiarch --build --library=biocGraph.buildbin-libdir biocGraph_1.42.0.tar.gz | 
| StartedAt: 2018-10-17 06:04:55 -0400 (Wed, 17 Oct 2018) | 
| EndedAt: 2018-10-17 06:05:11 -0400 (Wed, 17 Oct 2018) | 
| EllapsedTime: 15.5 seconds | 
| RetCode: 0 | 
| Status: OK | 
| PackageFile: biocGraph_1.42.0.zip | 
| PackageFileSize: 553.8 KiB | 
##############################################################################
##############################################################################
###
### Running command:
###
###   rm -rf biocGraph.buildbin-libdir && mkdir biocGraph.buildbin-libdir && C:\Users\biocbuild\bbs-3.7-bioc\R\bin\R.exe CMD INSTALL --merge-multiarch --build --library=biocGraph.buildbin-libdir biocGraph_1.42.0.tar.gz
###
##############################################################################
##############################################################################
install for i386
* installing *source* package 'biocGraph' ...
** R
** inst
** byte-compile and prepare package for lazy loading
** help
*** installing help indices
  converting help for package 'biocGraph'
    finding HTML links ... done
    imageMap                                html  
** building package indices
** installing vignettes
** testing if installed package can be loaded
In R CMD INSTALL
install for x64
* installing *source* package 'biocGraph' ...
** testing if installed package can be loaded
* MD5 sums
packaged installation of 'biocGraph' as biocGraph_1.42.0.zip
* DONE (biocGraph)
In R CMD INSTALL
In R CMD INSTALL