| Back to Multiple platform build/check report for BioC 3.7 |
|
This page was generated on 2018-10-17 08:47:22 -0400 (Wed, 17 Oct 2018).
| Package 129/1561 | Hostname | OS / Arch | INSTALL | BUILD | CHECK | BUILD BIN | ||||||
| biocGraph 1.42.0 Florian Hahne
| malbec2 | Linux (Ubuntu 16.04.1 LTS) / x86_64 | OK | OK | OK | |||||||
| tokay2 | Windows Server 2012 R2 Standard / x64 | OK | OK | OK | OK | |||||||
| merida2 | OS X 10.11.6 El Capitan / x86_64 | OK | OK | OK | [ OK ] |
| Package: biocGraph |
| Version: 1.42.0 |
| Command: rm -rf biocGraph.buildbin-libdir && mkdir biocGraph.buildbin-libdir && /Users/biocbuild/BBS/utils/build-universal.sh biocGraph_1.42.0.tar.gz /Library/Frameworks/R.framework/Versions/Current/Resources/bin/R biocGraph.buildbin-libdir |
| StartedAt: 2018-10-17 00:58:31 -0400 (Wed, 17 Oct 2018) |
| EndedAt: 2018-10-17 00:59:35 -0400 (Wed, 17 Oct 2018) |
| EllapsedTime: 63.6 seconds |
| RetCode: 0 |
| Status: OK |
| PackageFile: biocGraph_1.42.0.tgz |
| PackageFileSize: 551.1 KiB |
############################################################################## ############################################################################## ### ### Running command: ### ### rm -rf biocGraph.buildbin-libdir && mkdir biocGraph.buildbin-libdir && /Users/biocbuild/BBS/utils/build-universal.sh biocGraph_1.42.0.tar.gz /Library/Frameworks/R.framework/Versions/Current/Resources/bin/R biocGraph.buildbin-libdir ### ############################################################################## ############################################################################## >>>>>>> >>>>>>> INSTALLATION WITH 'R CMD INSTALL --preclean --no-multiarch --library=biocGraph.buildbin-libdir biocGraph_1.42.0.tar.gz' >>>>>>> * installing *source* package ‘biocGraph’ ... ** R ** inst ** byte-compile and prepare package for lazy loading ** help *** installing help indices ** building package indices ** installing vignettes ** testing if installed package can be loaded * DONE (biocGraph)