| Back to Multiple platform build/check report for BioC 3.7 |
|
This page was generated on 2018-10-17 08:33:14 -0400 (Wed, 17 Oct 2018).
| Package 114/1561 | Hostname | OS / Arch | INSTALL | BUILD | CHECK | BUILD BIN | ||||||
| bgx 1.46.0 Ernest Turro
| malbec2 | Linux (Ubuntu 16.04.1 LTS) / x86_64 | OK | OK | OK | |||||||
| tokay2 | Windows Server 2012 R2 Standard / x64 | OK | [ OK ] | OK | OK | |||||||
| merida2 | OS X 10.11.6 El Capitan / x86_64 | OK | OK | OK | OK |
| Package: bgx |
| Version: 1.46.0 |
| Command: chmod a+r bgx -R && C:\Users\biocbuild\bbs-3.7-bioc\R\bin\R.exe CMD build --keep-empty-dirs --no-resave-data bgx |
| StartedAt: 2018-10-16 20:59:56 -0400 (Tue, 16 Oct 2018) |
| EndedAt: 2018-10-16 21:01:45 -0400 (Tue, 16 Oct 2018) |
| EllapsedTime: 108.8 seconds |
| RetCode: 0 |
| Status: OK |
| PackageFile: bgx_1.46.0.tar.gz |
| PackageFileSize: 2.202 MiB |
############################################################################## ############################################################################## ### ### Running command: ### ### chmod a+r bgx -R && C:\Users\biocbuild\bbs-3.7-bioc\R\bin\R.exe CMD build --keep-empty-dirs --no-resave-data bgx ### ############################################################################## ############################################################################## * checking for file 'bgx/DESCRIPTION' ... OK * preparing 'bgx': * checking DESCRIPTION meta-information ... OK * cleaning src * installing the package to build vignettes * creating vignettes ... OK * cleaning src * checking for LF line-endings in source and make files and shell scripts * checking for empty or unneeded directories * building 'bgx_1.46.0.tar.gz' Warning: file 'bgx/configure' did not have execute permissions: corrected