| Back to Multiple platform build/check report for BioC 3.7 |
|
This page was generated on 2018-10-17 08:22:01 -0400 (Wed, 17 Oct 2018).
| Package 114/1561 | Hostname | OS / Arch | INSTALL | BUILD | CHECK | BUILD BIN | ||||||
| bgx 1.46.0 Ernest Turro
| malbec2 | Linux (Ubuntu 16.04.1 LTS) / x86_64 | OK | [ OK ] | OK | |||||||
| tokay2 | Windows Server 2012 R2 Standard / x64 | OK | OK | OK | OK | |||||||
| merida2 | OS X 10.11.6 El Capitan / x86_64 | OK | OK | OK | OK |
| Package: bgx |
| Version: 1.46.0 |
| Command: /home/biocbuild/bbs-3.7-bioc/R/bin/R CMD build --keep-empty-dirs --no-resave-data bgx |
| StartedAt: 2018-10-15 18:51:51 -0400 (Mon, 15 Oct 2018) |
| EndedAt: 2018-10-15 18:53:38 -0400 (Mon, 15 Oct 2018) |
| EllapsedTime: 107.0 seconds |
| RetCode: 0 |
| Status: OK |
| PackageFile: bgx_1.46.0.tar.gz |
| PackageFileSize: 1.233 MiB |
############################################################################## ############################################################################## ### ### Running command: ### ### /home/biocbuild/bbs-3.7-bioc/R/bin/R CMD build --keep-empty-dirs --no-resave-data bgx ### ############################################################################## ############################################################################## * checking for file ‘bgx/DESCRIPTION’ ... OK * preparing ‘bgx’: * checking DESCRIPTION meta-information ... OK * cleaning src * installing the package to build vignettes * creating vignettes ... OK * cleaning src * checking for LF line-endings in source and make files and shell scripts * checking for empty or unneeded directories * building ‘bgx_1.46.0.tar.gz’