| Back to Multiple platform build/check report for BioC 3.7 |
|
This page was generated on 2018-10-17 08:56:07 -0400 (Wed, 17 Oct 2018).
| Package 1527/1561 | Hostname | OS / Arch | INSTALL | BUILD | CHECK | BUILD BIN | ||||||
| Uniquorn 2.0.0 'Raik Otto'
| malbec2 | Linux (Ubuntu 16.04.1 LTS) / x86_64 | OK | OK | WARNINGS | |||||||
| tokay2 | Windows Server 2012 R2 Standard / x64 | OK | OK | WARNINGS | OK | |||||||
| merida2 | OS X 10.11.6 El Capitan / x86_64 | OK | OK | WARNINGS | [ OK ] |
| Package: Uniquorn |
| Version: 2.0.0 |
| Command: rm -rf Uniquorn.buildbin-libdir && mkdir Uniquorn.buildbin-libdir && /Users/biocbuild/BBS/utils/build-universal.sh Uniquorn_2.0.0.tar.gz /Library/Frameworks/R.framework/Versions/Current/Resources/bin/R Uniquorn.buildbin-libdir |
| StartedAt: 2018-10-17 02:18:42 -0400 (Wed, 17 Oct 2018) |
| EndedAt: 2018-10-17 02:19:33 -0400 (Wed, 17 Oct 2018) |
| EllapsedTime: 50.6 seconds |
| RetCode: 0 |
| Status: OK |
| PackageFile: Uniquorn_2.0.0.tgz |
| PackageFileSize: 2.355 MiB |
############################################################################## ############################################################################## ### ### Running command: ### ### rm -rf Uniquorn.buildbin-libdir && mkdir Uniquorn.buildbin-libdir && /Users/biocbuild/BBS/utils/build-universal.sh Uniquorn_2.0.0.tar.gz /Library/Frameworks/R.framework/Versions/Current/Resources/bin/R Uniquorn.buildbin-libdir ### ############################################################################## ############################################################################## >>>>>>> >>>>>>> INSTALLATION WITH 'R CMD INSTALL --preclean --no-multiarch --library=Uniquorn.buildbin-libdir Uniquorn_2.0.0.tar.gz' >>>>>>> * installing *source* package ‘Uniquorn’ ... ** R ** inst ** byte-compile and prepare package for lazy loading Note: possible error in 'create_bed_file(match_t, ': unused argument (manual_identifier_bed_file) ** help *** installing help indices ** building package indices ** installing vignettes ** testing if installed package can be loaded * DONE (Uniquorn)