| Back to Multiple platform build/check report for BioC 3.7 |
|
This page was generated on 2018-10-17 08:40:09 -0400 (Wed, 17 Oct 2018).
| Package 1374/1561 | Hostname | OS / Arch | INSTALL | BUILD | CHECK | BUILD BIN | ||||||
| SIMAT 1.12.1 M. R. Nezami Ranjbar
| malbec2 | Linux (Ubuntu 16.04.1 LTS) / x86_64 | OK | OK | OK | |||||||
| tokay2 | Windows Server 2012 R2 Standard / x64 | [ OK ] | OK | OK | OK | |||||||
| merida2 | OS X 10.11.6 El Capitan / x86_64 | OK | OK | OK | OK |
| Package: SIMAT |
| Version: 1.12.1 |
| Command: C:\cygwin\bin\curl.exe -O https://malbec2.bioconductor.org/BBS/3.7/bioc/src/contrib/SIMAT_1.12.1.tar.gz && rm -rf SIMAT.buildbin-libdir && mkdir SIMAT.buildbin-libdir && C:\Users\biocbuild\bbs-3.7-bioc\R\bin\R.exe CMD INSTALL --merge-multiarch --build --library=SIMAT.buildbin-libdir SIMAT_1.12.1.tar.gz && C:\Users\biocbuild\bbs-3.7-bioc\R\bin\R.exe CMD INSTALL SIMAT_1.12.1.zip && rm SIMAT_1.12.1.tar.gz SIMAT_1.12.1.zip |
| StartedAt: 2018-10-16 19:47:43 -0400 (Tue, 16 Oct 2018) |
| EndedAt: 2018-10-16 19:48:21 -0400 (Tue, 16 Oct 2018) |
| EllapsedTime: 37.1 seconds |
| RetCode: 0 |
| Status: OK |
##############################################################################
##############################################################################
###
### Running command:
###
### C:\cygwin\bin\curl.exe -O https://malbec2.bioconductor.org/BBS/3.7/bioc/src/contrib/SIMAT_1.12.1.tar.gz && rm -rf SIMAT.buildbin-libdir && mkdir SIMAT.buildbin-libdir && C:\Users\biocbuild\bbs-3.7-bioc\R\bin\R.exe CMD INSTALL --merge-multiarch --build --library=SIMAT.buildbin-libdir SIMAT_1.12.1.tar.gz && C:\Users\biocbuild\bbs-3.7-bioc\R\bin\R.exe CMD INSTALL SIMAT_1.12.1.zip && rm SIMAT_1.12.1.tar.gz SIMAT_1.12.1.zip
###
##############################################################################
##############################################################################
% Total % Received % Xferd Average Speed Time Time Time Current
Dload Upload Total Spent Left Speed
0 0 0 0 0 0 0 0 --:--:-- --:--:-- --:--:-- 0
100 920k 100 920k 0 0 13.8M 0 --:--:-- --:--:-- --:--:-- 15.2M
install for i386
* installing *source* package 'SIMAT' ...
** R
** data
** inst
** byte-compile and prepare package for lazy loading
** help
*** installing help indices
converting help for package 'SIMAT'
finding HTML links ... done
Library html
RItable html
Run html
SIMAT-package html
Targets html
getEIC html
getPeak html
getPeakScore html
getRI html
getRIStandard html
getScore html
getTarget html
getTargetTable html
optFrag html
plotEIC html
plotTIC html
putTargetTable html
readCDF html
readMSL html
target.table html
writeMSL html
writeResult html
** building package indices
** installing vignettes
** testing if installed package can be loaded
In R CMD INSTALL
install for x64
* installing *source* package 'SIMAT' ...
** testing if installed package can be loaded
* MD5 sums
packaged installation of 'SIMAT' as SIMAT_1.12.1.zip
* DONE (SIMAT)
In R CMD INSTALL
In R CMD INSTALL
* installing to library 'C:/Users/biocbuild/bbs-3.7-bioc/R/library'
package 'SIMAT' successfully unpacked and MD5 sums checked
In R CMD INSTALL