| Back to Multiple platform build/check report for BioC 3.7 | 
  | 
This page was generated on 2018-10-17 08:40:09 -0400 (Wed, 17 Oct 2018).
| Package 1374/1561 | Hostname | OS / Arch | INSTALL | BUILD | CHECK | BUILD BIN | ||||||
| SIMAT 1.12.1 M. R. Nezami Ranjbar 
  | malbec2 | Linux (Ubuntu 16.04.1 LTS) / x86_64 | OK | OK | OK | |||||||
| tokay2 | Windows Server 2012 R2 Standard / x64 | OK | OK | OK | [ OK ] | |||||||
| merida2 | OS X 10.11.6 El Capitan / x86_64 | OK | OK | OK | OK | 
| Package: SIMAT | 
| Version: 1.12.1 | 
| Command: rm -rf SIMAT.buildbin-libdir && mkdir SIMAT.buildbin-libdir && C:\Users\biocbuild\bbs-3.7-bioc\R\bin\R.exe CMD INSTALL --merge-multiarch --build --library=SIMAT.buildbin-libdir SIMAT_1.12.1.tar.gz | 
| StartedAt: 2018-10-17 07:00:11 -0400 (Wed, 17 Oct 2018) | 
| EndedAt: 2018-10-17 07:00:29 -0400 (Wed, 17 Oct 2018) | 
| EllapsedTime: 17.5 seconds | 
| RetCode: 0 | 
| Status: OK | 
| PackageFile: SIMAT_1.12.1.zip | 
| PackageFileSize: 1.134 MiB | 
##############################################################################
##############################################################################
###
### Running command:
###
###   rm -rf SIMAT.buildbin-libdir && mkdir SIMAT.buildbin-libdir && C:\Users\biocbuild\bbs-3.7-bioc\R\bin\R.exe CMD INSTALL --merge-multiarch --build --library=SIMAT.buildbin-libdir SIMAT_1.12.1.tar.gz
###
##############################################################################
##############################################################################
install for i386
* installing *source* package 'SIMAT' ...
** R
** data
** inst
** byte-compile and prepare package for lazy loading
** help
*** installing help indices
  converting help for package 'SIMAT'
    finding HTML links ... done
    Library                                 html  
    RItable                                 html  
    Run                                     html  
    SIMAT-package                           html  
    Targets                                 html  
    getEIC                                  html  
    getPeak                                 html  
    getPeakScore                            html  
    getRI                                   html  
    getRIStandard                           html  
    getScore                                html  
    getTarget                               html  
    getTargetTable                          html  
    optFrag                                 html  
    plotEIC                                 html  
    plotTIC                                 html  
    putTargetTable                          html  
    readCDF                                 html  
    readMSL                                 html  
    target.table                            html  
    writeMSL                                html  
    writeResult                             html  
** building package indices
** installing vignettes
** testing if installed package can be loaded
In R CMD INSTALL
install for x64
* installing *source* package 'SIMAT' ...
** testing if installed package can be loaded
* MD5 sums
packaged installation of 'SIMAT' as SIMAT_1.12.1.zip
* DONE (SIMAT)
In R CMD INSTALL
In R CMD INSTALL