| Back to Multiple platform build/check report for BioC 3.7 |
|
This page was generated on 2018-10-17 08:54:53 -0400 (Wed, 17 Oct 2018).
| Package 1290/1561 | Hostname | OS / Arch | INSTALL | BUILD | CHECK | BUILD BIN | ||||||
| RTCGAToolbox 2.10.0 Marcel Ramos
| malbec2 | Linux (Ubuntu 16.04.1 LTS) / x86_64 | OK | OK | OK | |||||||
| tokay2 | Windows Server 2012 R2 Standard / x64 | OK | OK | WARNINGS | OK | |||||||
| merida2 | OS X 10.11.6 El Capitan / x86_64 | OK | OK | [ OK ] | OK |
| Package: RTCGAToolbox |
| Version: 2.10.0 |
| Command: /Library/Frameworks/R.framework/Versions/Current/Resources/bin/R CMD check --install=check:RTCGAToolbox.install-out.txt --library=/Library/Frameworks/R.framework/Versions/Current/Resources/library --no-vignettes --timings RTCGAToolbox_2.10.0.tar.gz |
| StartedAt: 2018-10-16 23:50:34 -0400 (Tue, 16 Oct 2018) |
| EndedAt: 2018-10-16 23:53:45 -0400 (Tue, 16 Oct 2018) |
| EllapsedTime: 191.8 seconds |
| RetCode: 0 |
| Status: OK |
| CheckDir: RTCGAToolbox.Rcheck |
| Warnings: 0 |
##############################################################################
##############################################################################
###
### Running command:
###
### /Library/Frameworks/R.framework/Versions/Current/Resources/bin/R CMD check --install=check:RTCGAToolbox.install-out.txt --library=/Library/Frameworks/R.framework/Versions/Current/Resources/library --no-vignettes --timings RTCGAToolbox_2.10.0.tar.gz
###
##############################################################################
##############################################################################
* using log directory ‘/Users/biocbuild/bbs-3.7-bioc/meat/RTCGAToolbox.Rcheck’
* using R version 3.5.1 Patched (2018-07-12 r74967)
* using platform: x86_64-apple-darwin15.6.0 (64-bit)
* using session charset: UTF-8
* using option ‘--no-vignettes’
* checking for file ‘RTCGAToolbox/DESCRIPTION’ ... OK
* checking extension type ... Package
* this is package ‘RTCGAToolbox’ version ‘2.10.0’
* checking package namespace information ... OK
* checking package dependencies ... OK
* checking if this is a source package ... OK
* checking if there is a namespace ... OK
* checking for hidden files and directories ... OK
* checking for portable file names ... OK
* checking for sufficient/correct file permissions ... OK
* checking whether package ‘RTCGAToolbox’ can be installed ... OK
* checking installed package size ... OK
* checking package directory ... OK
* checking ‘build’ directory ... OK
* checking DESCRIPTION meta-information ... OK
* checking top-level files ... OK
* checking for left-over files ... OK
* checking index information ... OK
* checking package subdirectories ... OK
* checking R files for non-ASCII characters ... OK
* checking R files for syntax errors ... OK
* checking whether the package can be loaded ... OK
* checking whether the package can be loaded with stated dependencies ... OK
* checking whether the package can be unloaded cleanly ... OK
* checking whether the namespace can be loaded with stated dependencies ... OK
* checking whether the namespace can be unloaded cleanly ... OK
* checking dependencies in R code ... NOTE
Namespaces in Imports field not imported from:
‘Biobase’ ‘httr’ ‘plyr’
All declared Imports should be used.
Unexported object imported by a ':::' call: ‘GenomicRanges:::.normarg_field’
See the note in ?`:::` about the use of this operator.
* checking S3 generic/method consistency ... OK
* checking replacement functions ... OK
* checking foreign function calls ... OK
* checking R code for possible problems ... OK
* checking Rd files ... OK
* checking Rd metadata ... OK
* checking Rd cross-references ... OK
* checking for missing documentation entries ... OK
* checking for code/documentation mismatches ... OK
* checking Rd \usage sections ... OK
* checking Rd contents ... OK
* checking for unstated dependencies in examples ... OK
* checking contents of ‘data’ directory ... OK
* checking data for non-ASCII characters ... OK
* checking data for ASCII and uncompressed saves ... OK
* checking files in ‘vignettes’ ... OK
* checking examples ... OK
Examples with CPU or elapsed time > 5s
user system elapsed
getReport 9.857 0.297 10.837
getGISTICPeaks 1.989 0.592 5.401
* checking for unstated dependencies in vignettes ... OK
* checking package vignettes in ‘inst/doc’ ... OK
* checking running R code from vignettes ... SKIPPED
* checking re-building of vignette outputs ... SKIPPED
* checking PDF version of manual ... OK
* DONE
Status: 1 NOTE
See
‘/Users/biocbuild/bbs-3.7-bioc/meat/RTCGAToolbox.Rcheck/00check.log’
for details.
RTCGAToolbox.Rcheck/00install.out
############################################################################## ############################################################################## ### ### Running command: ### ### /Library/Frameworks/R.framework/Versions/Current/Resources/bin/R CMD INSTALL RTCGAToolbox ### ############################################################################## ############################################################################## * installing to library ‘/Library/Frameworks/R.framework/Versions/3.5/Resources/library’ * installing *source* package ‘RTCGAToolbox’ ... ** R ** data *** moving datasets to lazyload DB ** inst ** byte-compile and prepare package for lazy loading ** help *** installing help indices ** building package indices ** installing vignettes ** testing if installed package can be loaded * DONE (RTCGAToolbox)
RTCGAToolbox.Rcheck/RTCGAToolbox-Ex.timings
| name | user | system | elapsed | |
| biocExtract | 0.001 | 0.000 | 0.001 | |
| getBroadSubtypes | 0.014 | 0.003 | 0.237 | |
| getCNGECorrelation | 1.522 | 0.071 | 1.598 | |
| getData | 0.428 | 0.278 | 0.710 | |
| getDiffExpressedGenes | 0.289 | 0.020 | 0.314 | |
| getFirehoseAnalyzeDates | 0.003 | 0.001 | 0.163 | |
| getFirehoseData | 0.033 | 0.005 | 0.039 | |
| getFirehoseDatasets | 0.003 | 0.001 | 0.165 | |
| getFirehoseRunningDates | 0.005 | 0.001 | 0.321 | |
| getGISTICPeaks | 1.989 | 0.592 | 5.401 | |
| getMutationRate | 0.060 | 0.005 | 0.066 | |
| getReport | 9.857 | 0.297 | 10.837 | |
| getSurvival | 0.137 | 0.010 | 0.150 | |
| showResults-CorResult | 1.141 | 0.049 | 1.194 | |
| showResults-DGEResult | 0.893 | 0.013 | 0.914 | |
| showResults | 0.232 | 0.016 | 0.249 | |