| Back to Multiple platform build/check report for BioC 3.7 |
|
This page was generated on 2018-10-17 08:35:25 -0400 (Wed, 17 Oct 2018).
| Package 1214/1561 | Hostname | OS / Arch | INSTALL | BUILD | CHECK | BUILD BIN | ||||||
| REDseq 1.26.0 Lihua Julie Zhu
| malbec2 | Linux (Ubuntu 16.04.1 LTS) / x86_64 | OK | OK | OK | |||||||
| tokay2 | Windows Server 2012 R2 Standard / x64 | OK | OK | OK | [ OK ] | |||||||
| merida2 | OS X 10.11.6 El Capitan / x86_64 | OK | OK | OK | OK |
| Package: REDseq |
| Version: 1.26.0 |
| Command: rm -rf REDseq.buildbin-libdir && mkdir REDseq.buildbin-libdir && C:\Users\biocbuild\bbs-3.7-bioc\R\bin\R.exe CMD INSTALL --merge-multiarch --build --library=REDseq.buildbin-libdir REDseq_1.26.0.tar.gz |
| StartedAt: 2018-10-17 06:52:44 -0400 (Wed, 17 Oct 2018) |
| EndedAt: 2018-10-17 06:53:21 -0400 (Wed, 17 Oct 2018) |
| EllapsedTime: 36.7 seconds |
| RetCode: 0 |
| Status: OK |
| PackageFile: REDseq_1.26.0.zip |
| PackageFileSize: 240.7 KiB |
##############################################################################
##############################################################################
###
### Running command:
###
### rm -rf REDseq.buildbin-libdir && mkdir REDseq.buildbin-libdir && C:\Users\biocbuild\bbs-3.7-bioc\R\bin\R.exe CMD INSTALL --merge-multiarch --build --library=REDseq.buildbin-libdir REDseq_1.26.0.tar.gz
###
##############################################################################
##############################################################################
install for i386
* installing *source* package 'REDseq' ...
** R
** data
** inst
** byte-compile and prepare package for lazy loading
No methods found in package 'IRanges' for requests: '%in%', 'rep.int' when loading 'REDseq'
** help
*** installing help indices
converting help for package 'REDseq'
finding HTML links ... done
REDseq-package html
assignSeq2REsite html
binom.test.REDseq html
buildREmap html
compareREDseq html
distanceHistSeq2RE html
example.REDseq html
example.assignedREDseq html
example.map html
plotCutDistribution html
searchPattern html
summarizeByRE html
summarizeBySeq html
writeHits html
** building package indices
** installing vignettes
** testing if installed package can be loaded
No methods found in package 'IRanges' for requests: '%in%', 'rep.int' when loading 'REDseq'
In R CMD INSTALL
install for x64
* installing *source* package 'REDseq' ...
** testing if installed package can be loaded
No methods found in package 'IRanges' for requests: '%in%', 'rep.int' when loading 'REDseq'
* MD5 sums
packaged installation of 'REDseq' as REDseq_1.26.0.zip
* DONE (REDseq)
In R CMD INSTALL
In R CMD INSTALL