| Back to Multiple platform build/check report for BioC 3.7 |
|
This page was generated on 2018-10-17 08:49:17 -0400 (Wed, 17 Oct 2018).
| Package 1214/1561 | Hostname | OS / Arch | INSTALL | BUILD | CHECK | BUILD BIN | ||||||
| REDseq 1.26.0 Lihua Julie Zhu
| malbec2 | Linux (Ubuntu 16.04.1 LTS) / x86_64 | OK | OK | OK | |||||||
| tokay2 | Windows Server 2012 R2 Standard / x64 | OK | OK | OK | OK | |||||||
| merida2 | OS X 10.11.6 El Capitan / x86_64 | OK | OK | OK | [ OK ] |
| Package: REDseq |
| Version: 1.26.0 |
| Command: rm -rf REDseq.buildbin-libdir && mkdir REDseq.buildbin-libdir && /Users/biocbuild/BBS/utils/build-universal.sh REDseq_1.26.0.tar.gz /Library/Frameworks/R.framework/Versions/Current/Resources/bin/R REDseq.buildbin-libdir |
| StartedAt: 2018-10-17 01:59:47 -0400 (Wed, 17 Oct 2018) |
| EndedAt: 2018-10-17 02:01:34 -0400 (Wed, 17 Oct 2018) |
| EllapsedTime: 107.6 seconds |
| RetCode: 0 |
| Status: OK |
| PackageFile: REDseq_1.26.0.tgz |
| PackageFileSize: 232.8 KiB |
############################################################################## ############################################################################## ### ### Running command: ### ### rm -rf REDseq.buildbin-libdir && mkdir REDseq.buildbin-libdir && /Users/biocbuild/BBS/utils/build-universal.sh REDseq_1.26.0.tar.gz /Library/Frameworks/R.framework/Versions/Current/Resources/bin/R REDseq.buildbin-libdir ### ############################################################################## ############################################################################## >>>>>>> >>>>>>> INSTALLATION WITH 'R CMD INSTALL --preclean --no-multiarch --library=REDseq.buildbin-libdir REDseq_1.26.0.tar.gz' >>>>>>> * installing *source* package ‘REDseq’ ... ** R ** data ** inst ** byte-compile and prepare package for lazy loading No methods found in package 'IRanges' for requests: '%in%', 'rep.int' when loading 'REDseq' ** help *** installing help indices ** building package indices ** installing vignettes ** testing if installed package can be loaded No methods found in package 'IRanges' for requests: '%in%', 'rep.int' when loading 'REDseq' * DONE (REDseq)