| Back to Multiple platform build/check report for BioC 3.7 |
|
This page was generated on 2018-10-17 08:43:54 -0400 (Wed, 17 Oct 2018).
| Package 1117/1561 | Hostname | OS / Arch | INSTALL | BUILD | CHECK | BUILD BIN | ||||||
| PPInfer 1.6.0 Dongmin Jung
| malbec2 | Linux (Ubuntu 16.04.1 LTS) / x86_64 | OK | OK | OK | |||||||
| tokay2 | Windows Server 2012 R2 Standard / x64 | OK | [ OK ] | OK | OK | |||||||
| merida2 | OS X 10.11.6 El Capitan / x86_64 | OK | OK | OK | OK |
| Package: PPInfer |
| Version: 1.6.0 |
| Command: chmod a+r PPInfer -R && C:\Users\biocbuild\bbs-3.7-bioc\R\bin\R.exe CMD build --keep-empty-dirs --no-resave-data PPInfer |
| StartedAt: 2018-10-16 23:42:55 -0400 (Tue, 16 Oct 2018) |
| EndedAt: 2018-10-16 23:43:54 -0400 (Tue, 16 Oct 2018) |
| EllapsedTime: 59.1 seconds |
| RetCode: 0 |
| Status: OK |
| PackageFile: PPInfer_1.6.0.tar.gz |
| PackageFileSize: 249 KiB |
##############################################################################
##############################################################################
###
### Running command:
###
### chmod a+r PPInfer -R && C:\Users\biocbuild\bbs-3.7-bioc\R\bin\R.exe CMD build --keep-empty-dirs --no-resave-data PPInfer
###
##############################################################################
##############################################################################
* checking for file 'PPInfer/DESCRIPTION' ... OK
* preparing 'PPInfer':
* checking DESCRIPTION meta-information ... OK
* installing the package to process help pages
* saving partial Rd database
* creating vignettes ... OK
Warning: 'inst/doc' file
'PPInfer.pdf'
ignored as vignettes have been rebuilt.
Run R CMD build with --no-build-vignettes to prevent rebuilding.
* checking for LF line-endings in source and make files and shell scripts
* checking for empty or unneeded directories
* building 'PPInfer_1.6.0.tar.gz'