| Back to Multiple platform build/check report for BioC 3.7 |
|
This page was generated on 2018-10-17 08:43:55 -0400 (Wed, 17 Oct 2018).
| Package 1117/1561 | Hostname | OS / Arch | INSTALL | BUILD | CHECK | BUILD BIN | ||||||
| PPInfer 1.6.0 Dongmin Jung
| malbec2 | Linux (Ubuntu 16.04.1 LTS) / x86_64 | OK | OK | OK | |||||||
| tokay2 | Windows Server 2012 R2 Standard / x64 | OK | OK | OK | [ OK ] | |||||||
| merida2 | OS X 10.11.6 El Capitan / x86_64 | OK | OK | OK | OK |
| Package: PPInfer |
| Version: 1.6.0 |
| Command: rm -rf PPInfer.buildbin-libdir && mkdir PPInfer.buildbin-libdir && C:\Users\biocbuild\bbs-3.7-bioc\R\bin\R.exe CMD INSTALL --merge-multiarch --build --library=PPInfer.buildbin-libdir PPInfer_1.6.0.tar.gz |
| StartedAt: 2018-10-17 06:48:23 -0400 (Wed, 17 Oct 2018) |
| EndedAt: 2018-10-17 06:48:46 -0400 (Wed, 17 Oct 2018) |
| EllapsedTime: 23.0 seconds |
| RetCode: 0 |
| Status: OK |
| PackageFile: PPInfer_1.6.0.zip |
| PackageFileSize: 322.2 KiB |
##############################################################################
##############################################################################
###
### Running command:
###
### rm -rf PPInfer.buildbin-libdir && mkdir PPInfer.buildbin-libdir && C:\Users\biocbuild\bbs-3.7-bioc\R\bin\R.exe CMD INSTALL --merge-multiarch --build --library=PPInfer.buildbin-libdir PPInfer_1.6.0.tar.gz
###
##############################################################################
##############################################################################
install for i386
* installing *source* package 'PPInfer' ...
** R
** inst
** byte-compile and prepare package for lazy loading
** help
*** installing help indices
converting help for package 'PPInfer'
finding HTML links ... done
GSEA.barplot html
ORA html
ORA.dotplot html
PPInfer-package html
enrich.net html
net.infer html
net.infer.ST html
net.kernel html
ppi.infer.human html
ppi.infer.mouse html
self.train.kernel html
** building package indices
** installing vignettes
** testing if installed package can be loaded
In R CMD INSTALL
install for x64
* installing *source* package 'PPInfer' ...
** testing if installed package can be loaded
* MD5 sums
packaged installation of 'PPInfer' as PPInfer_1.6.0.zip
* DONE (PPInfer)
In R CMD INSTALL
In R CMD INSTALL