| Back to Multiple platform build/check report for BioC 3.7 |
|
This page was generated on 2018-10-17 08:45:53 -0400 (Wed, 17 Oct 2018).
| Package 1038/1561 | Hostname | OS / Arch | INSTALL | BUILD | CHECK | BUILD BIN | ||||||
| ORFik 1.0.0 Kornel Labun
| malbec2 | Linux (Ubuntu 16.04.1 LTS) / x86_64 | OK | OK | OK | |||||||
| tokay2 | Windows Server 2012 R2 Standard / x64 | OK | OK | OK | [ OK ] | |||||||
| merida2 | OS X 10.11.6 El Capitan / x86_64 | OK | OK | OK | OK |
| Package: ORFik |
| Version: 1.0.0 |
| Command: rm -rf ORFik.buildbin-libdir && mkdir ORFik.buildbin-libdir && C:\Users\biocbuild\bbs-3.7-bioc\R\bin\R.exe CMD INSTALL --merge-multiarch --build --library=ORFik.buildbin-libdir ORFik_1.0.0.tar.gz |
| StartedAt: 2018-10-17 06:45:43 -0400 (Wed, 17 Oct 2018) |
| EndedAt: 2018-10-17 06:46:58 -0400 (Wed, 17 Oct 2018) |
| EllapsedTime: 74.3 seconds |
| RetCode: 0 |
| Status: OK |
| PackageFile: ORFik_1.0.0.zip |
| PackageFileSize: 1.405 MiB |
##############################################################################
##############################################################################
###
### Running command:
###
### rm -rf ORFik.buildbin-libdir && mkdir ORFik.buildbin-libdir && C:\Users\biocbuild\bbs-3.7-bioc\R\bin\R.exe CMD INSTALL --merge-multiarch --build --library=ORFik.buildbin-libdir ORFik_1.0.0.tar.gz
###
##############################################################################
##############################################################################
install for i386
* installing *source* package 'ORFik' ...
** libs
C:/Rtools/mingw_32/bin/g++ -std=gnu++11 -I"C:/Users/BIOCBU˜1/BBS-3˜1.7-B/R/include" -DNDEBUG -I"C:/Users/biocbuild/bbs-3.7-bioc/R/library/Rcpp/include" -I"C:/extsoft/include" -O2 -Wall -mtune=generic -c RcppExports.cpp -o RcppExports.o
C:/Rtools/mingw_32/bin/g++ -std=gnu++11 -I"C:/Users/BIOCBU˜1/BBS-3˜1.7-B/R/include" -DNDEBUG -I"C:/Users/biocbuild/bbs-3.7-bioc/R/library/Rcpp/include" -I"C:/extsoft/include" -O2 -Wall -mtune=generic -c findORFsHelpers.cpp -o findORFsHelpers.o
C:/Rtools/mingw_32/bin/g++ -std=gnu++11 -I"C:/Users/BIOCBU˜1/BBS-3˜1.7-B/R/include" -DNDEBUG -I"C:/Users/biocbuild/bbs-3.7-bioc/R/library/Rcpp/include" -I"C:/extsoft/include" -O2 -Wall -mtune=generic -c findOrfs.cpp -o findOrfs.o
C:/Rtools/mingw_32/bin/g++ -std=gnu++11 -I"C:/Users/BIOCBU˜1/BBS-3˜1.7-B/R/include" -DNDEBUG -I"C:/Users/biocbuild/bbs-3.7-bioc/R/library/Rcpp/include" -I"C:/extsoft/include" -O2 -Wall -mtune=generic -c findOrfsFasta.cpp -o findOrfsFasta.o
C:/Rtools/mingw_32/bin/g++ -shared -s -static-libgcc -o ORFik.dll tmp.def RcppExports.o findORFsHelpers.o findOrfs.o findOrfsFasta.o -LC:/extsoft/lib/i386 -LC:/extsoft/lib -LC:/Users/BIOCBU˜1/BBS-3˜1.7-B/R/bin/i386 -lR
installing to C:/Users/biocbuild/bbs-3.7-bioc/meat/ORFik.buildbin-libdir/ORFik/libs/i386
** R
** inst
** byte-compile and prepare package for lazy loading
** help
*** installing help indices
converting help for package 'ORFik'
finding HTML links ... done
ORFik-package html
addFirstCdsOnLeaderEnds html
addNewTSSOnLeaders html
asTX html
finding level-2 HTML links ... done
assignAnnotations html
assignFirstExons html
assignFirstExonsStartSite html
assignLastExonsStopSite html
bedToGR html
changePointAnalysis html
checkRFP html
checkRNA html
codonSumsPerGroup html
computeFeatures html
computeFeaturesCage html
coverageByWindow html
coveragePerTiling html
defineIsoform html
defineTrailer html
detectRibosomeShifts html
disengagementScore html
distToCds html
downstreamN html
downstreamOfPerGroup html
entropy html
extendLeaders html
extendsTSSexons html
filterCage html
findCageUTRFivelen html
findFa html
findMapORFs html
findMaxPeaks html
findNewTSS html
findORFs html
findORFsFasta html
firstEndPerGroup html
firstExonPerGroup html
firstStartPerGroup html
fixSeqnames html
floss html
fpkm html
fpkm_calc html
fractionLength html
fread.bed html
gSort html
getStartStopWindows html
groupGRangesBy html
hasHits html
insideOutsideORF html
is.gr_or_grl html
is.grl html
isInFrame html
isOverlapping html
isPeriodic html
kozakSequenceScore html
lastExonEndPerGroup html
lastExonPerGroup html
lastExonStartPerGroup html
makeExonRanks html
makeORFNames html
mapToGRanges html
matchNaming html
matchSeqlevels html
metaWindow html
numExonsPerGroup html
orfID html
orfScore html
parseCigar html
rankOrder html
reassignTSSbyCage html
reduceKeepAttr html
regroupRleList html
removeMetaCols html
riboSeqReadWidths html
ribosomeReleaseScore html
ribosomeStallingScore html
seqnamesPerGroup html
shiftFootprints html
sortPerGroup html
startCodons html
startDefinition html
startSites html
stopCodons html
stopDefinition html
stopSites html
strandBool html
strandPerGroup html
subsetCoverage html
subset_to_frame html
tile1 html
translationalEff html
txLen html
txNames html
txNamesWithLeaders html
txSeqsFromFa html
uniqueGroups html
uniqueOrder html
unlistGrl html
upstreamOfPerGroup html
validExtension html
validGRL html
widthPerGroup html
** building package indices
** installing vignettes
** testing if installed package can be loaded
In R CMD INSTALL
install for x64
* installing *source* package 'ORFik' ...
** libs
C:/Rtools/mingw_64/bin/g++ -std=gnu++11 -I"C:/Users/BIOCBU˜1/BBS-3˜1.7-B/R/include" -DNDEBUG -I"C:/Users/biocbuild/bbs-3.7-bioc/R/library/Rcpp/include" -I"C:/extsoft/include" -O2 -Wall -mtune=generic -c RcppExports.cpp -o RcppExports.o
C:/Rtools/mingw_64/bin/g++ -std=gnu++11 -I"C:/Users/BIOCBU˜1/BBS-3˜1.7-B/R/include" -DNDEBUG -I"C:/Users/biocbuild/bbs-3.7-bioc/R/library/Rcpp/include" -I"C:/extsoft/include" -O2 -Wall -mtune=generic -c findORFsHelpers.cpp -o findORFsHelpers.o
C:/Rtools/mingw_64/bin/g++ -std=gnu++11 -I"C:/Users/BIOCBU˜1/BBS-3˜1.7-B/R/include" -DNDEBUG -I"C:/Users/biocbuild/bbs-3.7-bioc/R/library/Rcpp/include" -I"C:/extsoft/include" -O2 -Wall -mtune=generic -c findOrfs.cpp -o findOrfs.o
C:/Rtools/mingw_64/bin/g++ -std=gnu++11 -I"C:/Users/BIOCBU˜1/BBS-3˜1.7-B/R/include" -DNDEBUG -I"C:/Users/biocbuild/bbs-3.7-bioc/R/library/Rcpp/include" -I"C:/extsoft/include" -O2 -Wall -mtune=generic -c findOrfsFasta.cpp -o findOrfsFasta.o
C:/Rtools/mingw_64/bin/g++ -shared -s -static-libgcc -o ORFik.dll tmp.def RcppExports.o findORFsHelpers.o findOrfs.o findOrfsFasta.o -LC:/extsoft/lib/x64 -LC:/extsoft/lib -LC:/Users/BIOCBU˜1/BBS-3˜1.7-B/R/bin/x64 -lR
installing to C:/Users/biocbuild/bbs-3.7-bioc/meat/ORFik.buildbin-libdir/ORFik/libs/x64
** testing if installed package can be loaded
* MD5 sums
packaged installation of 'ORFik' as ORFik_1.0.0.zip
* DONE (ORFik)
In R CMD INSTALL
In R CMD INSTALL