| Back to Multiple platform build/check report for BioC 3.7 |
|
This page was generated on 2018-10-17 08:31:43 -0400 (Wed, 17 Oct 2018).
| Package 1038/1561 | Hostname | OS / Arch | INSTALL | BUILD | CHECK | BUILD BIN | ||||||
| ORFik 1.0.0 Kornel Labun
| malbec2 | Linux (Ubuntu 16.04.1 LTS) / x86_64 | OK | OK | [ OK ] | |||||||
| tokay2 | Windows Server 2012 R2 Standard / x64 | OK | OK | OK | OK | |||||||
| merida2 | OS X 10.11.6 El Capitan / x86_64 | OK | OK | OK | OK |
| Package: ORFik |
| Version: 1.0.0 |
| Command: /home/biocbuild/bbs-3.7-bioc/R/bin/R CMD check --install=check:ORFik.install-out.txt --library=/home/biocbuild/bbs-3.7-bioc/R/library --no-vignettes --timings ORFik_1.0.0.tar.gz |
| StartedAt: 2018-10-16 02:30:14 -0400 (Tue, 16 Oct 2018) |
| EndedAt: 2018-10-16 02:34:01 -0400 (Tue, 16 Oct 2018) |
| EllapsedTime: 227.7 seconds |
| RetCode: 0 |
| Status: OK |
| CheckDir: ORFik.Rcheck |
| Warnings: 0 |
############################################################################## ############################################################################## ### ### Running command: ### ### /home/biocbuild/bbs-3.7-bioc/R/bin/R CMD check --install=check:ORFik.install-out.txt --library=/home/biocbuild/bbs-3.7-bioc/R/library --no-vignettes --timings ORFik_1.0.0.tar.gz ### ############################################################################## ############################################################################## * using log directory ‘/home/biocbuild/bbs-3.7-bioc/meat/ORFik.Rcheck’ * using R version 3.5.1 Patched (2018-07-12 r74967) * using platform: x86_64-pc-linux-gnu (64-bit) * using session charset: UTF-8 * using option ‘--no-vignettes’ * checking for file ‘ORFik/DESCRIPTION’ ... OK * checking extension type ... Package * this is package ‘ORFik’ version ‘1.0.0’ * checking package namespace information ... OK * checking package dependencies ... OK * checking if this is a source package ... OK * checking if there is a namespace ... OK * checking for hidden files and directories ... OK * checking for portable file names ... OK * checking for sufficient/correct file permissions ... OK * checking whether package ‘ORFik’ can be installed ... OK * checking installed package size ... OK * checking package directory ... OK * checking ‘build’ directory ... OK * checking DESCRIPTION meta-information ... OK * checking top-level files ... OK * checking for left-over files ... OK * checking index information ... OK * checking package subdirectories ... OK * checking R files for non-ASCII characters ... OK * checking R files for syntax errors ... OK * checking whether the package can be loaded ... OK * checking whether the package can be loaded with stated dependencies ... OK * checking whether the package can be unloaded cleanly ... OK * checking whether the namespace can be loaded with stated dependencies ... OK * checking whether the namespace can be unloaded cleanly ... OK * checking dependencies in R code ... OK * checking S3 generic/method consistency ... OK * checking replacement functions ... OK * checking foreign function calls ... OK * checking R code for possible problems ... OK * checking Rd files ... OK * checking Rd metadata ... OK * checking Rd cross-references ... OK * checking for missing documentation entries ... OK * checking for code/documentation mismatches ... OK * checking Rd \usage sections ... OK * checking Rd contents ... OK * checking for unstated dependencies in examples ... OK * checking line endings in C/C++/Fortran sources/headers ... OK * checking line endings in Makefiles ... OK * checking compilation flags in Makevars ... OK * checking for GNU extensions in Makefiles ... OK * checking for portable use of $(BLAS_LIBS) and $(LAPACK_LIBS) ... OK * checking compiled code ... NOTE Note: information on .o files is not available * checking files in ‘vignettes’ ... OK * checking examples ... OK * checking for unstated dependencies in ‘tests’ ... OK * checking tests ... Running ‘testthat.R’ OK * checking for unstated dependencies in vignettes ... OK * checking package vignettes in ‘inst/doc’ ... OK * checking running R code from vignettes ... SKIPPED * checking re-building of vignette outputs ... SKIPPED * checking PDF version of manual ... OK * DONE Status: 1 NOTE See ‘/home/biocbuild/bbs-3.7-bioc/meat/ORFik.Rcheck/00check.log’ for details.
ORFik.Rcheck/00install.out
############################################################################## ############################################################################## ### ### Running command: ### ### /home/biocbuild/bbs-3.7-bioc/R/bin/R CMD INSTALL ORFik ### ############################################################################## ############################################################################## * installing to library ‘/home/biocbuild/bbs-3.7-bioc/R/library’ * installing *source* package ‘ORFik’ ... ** libs g++ -std=gnu++11 -I"/home/biocbuild/bbs-3.7-bioc/R/include" -DNDEBUG -I"/home/biocbuild/bbs-3.7-bioc/R/library/Rcpp/include" -I/usr/local/include -fpic -g -O2 -c RcppExports.cpp -o RcppExports.o g++ -std=gnu++11 -I"/home/biocbuild/bbs-3.7-bioc/R/include" -DNDEBUG -I"/home/biocbuild/bbs-3.7-bioc/R/library/Rcpp/include" -I/usr/local/include -fpic -g -O2 -c findORFsHelpers.cpp -o findORFsHelpers.o g++ -std=gnu++11 -I"/home/biocbuild/bbs-3.7-bioc/R/include" -DNDEBUG -I"/home/biocbuild/bbs-3.7-bioc/R/library/Rcpp/include" -I/usr/local/include -fpic -g -O2 -c findOrfs.cpp -o findOrfs.o g++ -std=gnu++11 -I"/home/biocbuild/bbs-3.7-bioc/R/include" -DNDEBUG -I"/home/biocbuild/bbs-3.7-bioc/R/library/Rcpp/include" -I/usr/local/include -fpic -g -O2 -c findOrfsFasta.cpp -o findOrfsFasta.o g++ -std=gnu++11 -shared -L/home/biocbuild/bbs-3.7-bioc/R/lib -L/usr/local/lib -o ORFik.so RcppExports.o findORFsHelpers.o findOrfs.o findOrfsFasta.o -L/home/biocbuild/bbs-3.7-bioc/R/lib -lR installing to /home/biocbuild/bbs-3.7-bioc/R/library/ORFik/libs ** R ** inst ** byte-compile and prepare package for lazy loading ** help *** installing help indices ** building package indices ** installing vignettes ** testing if installed package can be loaded * DONE (ORFik)
ORFik.Rcheck/tests/testthat.Rout
R version 3.5.1 Patched (2018-07-12 r74967) -- "Feather Spray"
Copyright (C) 2018 The R Foundation for Statistical Computing
Platform: x86_64-pc-linux-gnu (64-bit)
R is free software and comes with ABSOLUTELY NO WARRANTY.
You are welcome to redistribute it under certain conditions.
Type 'license()' or 'licence()' for distribution details.
R is a collaborative project with many contributors.
Type 'contributors()' for more information and
'citation()' on how to cite R or R packages in publications.
Type 'demo()' for some demos, 'help()' for on-line help, or
'help.start()' for an HTML browser interface to help.
Type 'q()' to quit R.
> library(testthat)
> library(ORFik)
Loading required package: IRanges
Loading required package: BiocGenerics
Loading required package: parallel
Attaching package: 'BiocGenerics'
The following objects are masked from 'package:parallel':
clusterApply, clusterApplyLB, clusterCall, clusterEvalQ,
clusterExport, clusterMap, parApply, parCapply, parLapply,
parLapplyLB, parRapply, parSapply, parSapplyLB
The following objects are masked from 'package:stats':
IQR, mad, sd, var, xtabs
The following objects are masked from 'package:base':
Filter, Find, Map, Position, Reduce, anyDuplicated, append,
as.data.frame, basename, cbind, colMeans, colSums, colnames,
dirname, do.call, duplicated, eval, evalq, get, grep, grepl,
intersect, is.unsorted, lapply, lengths, mapply, match, mget,
order, paste, pmax, pmax.int, pmin, pmin.int, rank, rbind,
rowMeans, rowSums, rownames, sapply, setdiff, sort, table, tapply,
union, unique, unsplit, which, which.max, which.min
Loading required package: S4Vectors
Loading required package: stats4
Attaching package: 'S4Vectors'
The following object is masked from 'package:base':
expand.grid
Loading required package: GenomicRanges
Loading required package: GenomeInfoDb
Loading required package: GenomicAlignments
Loading required package: SummarizedExperiment
Loading required package: Biobase
Welcome to Bioconductor
Vignettes contain introductory material; view with
'browseVignettes()'. To cite Bioconductor, see
'citation("Biobase")', and for packages 'citation("pkgname")'.
Loading required package: DelayedArray
Loading required package: matrixStats
Attaching package: 'matrixStats'
The following objects are masked from 'package:Biobase':
anyMissing, rowMedians
Loading required package: BiocParallel
Attaching package: 'DelayedArray'
The following objects are masked from 'package:matrixStats':
colMaxs, colMins, colRanges, rowMaxs, rowMins, rowRanges
The following objects are masked from 'package:base':
aperm, apply
Loading required package: Biostrings
Loading required package: XVector
Attaching package: 'Biostrings'
The following object is masked from 'package:DelayedArray':
type
The following object is masked from 'package:base':
strsplit
Loading required package: Rsamtools
>
> test_check("ORFik")
══ testthat results ═══════════════════════════════════════════════════════════
OK: 222 SKIPPED: 0 FAILED: 0
>
> proc.time()
user system elapsed
39.26 0.36 44.88
ORFik.Rcheck/ORFik-Ex.timings
| name | user | system | elapsed | |
| computeFeatures | 0.000 | 0.000 | 0.001 | |
| computeFeaturesCage | 0.004 | 0.000 | 0.003 | |
| coverageByWindow | 0.820 | 0.036 | 0.860 | |
| coveragePerTiling | 0.308 | 0.020 | 0.366 | |
| defineTrailer | 0.168 | 0.028 | 0.243 | |
| detectRibosomeShifts | 0 | 0 | 0 | |
| disengagementScore | 0.596 | 0.008 | 0.606 | |
| distToCds | 0.416 | 0.000 | 0.530 | |
| entropy | 1.168 | 0.000 | 1.197 | |
| extendLeaders | 0.908 | 0.004 | 1.055 | |
| findMapORFs | 0.868 | 0.000 | 1.015 | |
| findORFs | 0.056 | 0.000 | 0.077 | |
| findORFsFasta | 0.024 | 0.000 | 0.055 | |
| firstEndPerGroup | 0.096 | 0.000 | 0.133 | |
| firstExonPerGroup | 0.088 | 0.000 | 0.089 | |
| firstStartPerGroup | 0.084 | 0.000 | 0.110 | |
| floss | 0.256 | 0.000 | 0.276 | |
| fpkm | 0.088 | 0.000 | 0.086 | |
| fractionLength | 0.072 | 0.000 | 0.072 | |
| fread.bed | 0.060 | 0.048 | 0.144 | |
| getStartStopWindows | 3.276 | 0.136 | 3.708 | |
| groupGRangesBy | 0.044 | 0.000 | 0.045 | |
| insideOutsideORF | 0.540 | 0.000 | 0.542 | |
| isInFrame | 0.204 | 0.004 | 0.211 | |
| isOverlapping | 0.18 | 0.00 | 0.18 | |
| kozakSequenceScore | 0.312 | 0.000 | 0.313 | |
| lastExonEndPerGroup | 0.052 | 0.000 | 0.050 | |
| lastExonPerGroup | 0.052 | 0.000 | 0.051 | |
| lastExonStartPerGroup | 0.044 | 0.004 | 0.048 | |
| makeORFNames | 0.072 | 0.000 | 0.071 | |
| metaWindow | 0.124 | 0.000 | 0.124 | |
| numExonsPerGroup | 0.052 | 0.000 | 0.052 | |
| orfScore | 0.724 | 0.004 | 0.567 | |
| rankOrder | 0.068 | 0.000 | 0.066 | |
| reassignTSSbyCage | 0.252 | 0.008 | 0.260 | |
| reduceKeepAttr | 0.180 | 0.000 | 0.178 | |
| ribosomeReleaseScore | 0.144 | 0.000 | 0.143 | |
| ribosomeStallingScore | 0.220 | 0.000 | 0.222 | |
| seqnamesPerGroup | 0.056 | 0.000 | 0.055 | |
| shiftFootprints | 0.004 | 0.000 | 0.001 | |
| sortPerGroup | 0.208 | 0.000 | 0.207 | |
| startCodons | 0.468 | 0.000 | 0.467 | |
| startDefinition | 0.000 | 0.000 | 0.001 | |
| startSites | 0.252 | 0.000 | 0.253 | |
| stopCodons | 0.428 | 0.000 | 0.430 | |
| stopDefinition | 0 | 0 | 0 | |
| stopSites | 0.272 | 0.000 | 0.275 | |
| strandBool | 0.000 | 0.004 | 0.008 | |
| strandPerGroup | 0.056 | 0.000 | 0.057 | |
| tile1 | 0.172 | 0.000 | 0.172 | |
| translationalEff | 0.120 | 0.000 | 0.122 | |
| txNames | 0.036 | 0.000 | 0.033 | |
| txNamesWithLeaders | 0.800 | 0.000 | 0.775 | |
| uniqueGroups | 0.116 | 0.000 | 0.115 | |
| uniqueOrder | 0.228 | 0.000 | 0.228 | |
| unlistGrl | 0.028 | 0.000 | 0.027 | |
| widthPerGroup | 0.048 | 0.000 | 0.046 | |