| Back to Multiple platform build/check report for BioC 3.7 |
|
This page was generated on 2018-10-17 08:43:02 -0400 (Wed, 17 Oct 2018).
| Package 935/1561 | Hostname | OS / Arch | INSTALL | BUILD | CHECK | BUILD BIN | ||||||
| MoonlightR 1.6.1 Antonio Colaprico
| malbec2 | Linux (Ubuntu 16.04.1 LTS) / x86_64 | OK | OK | OK | |||||||
| tokay2 | Windows Server 2012 R2 Standard / x64 | OK | [ OK ] | OK | OK | |||||||
| merida2 | OS X 10.11.6 El Capitan / x86_64 | OK | OK | WARNINGS | OK |
| Package: MoonlightR |
| Version: 1.6.1 |
| Command: chmod a+r MoonlightR -R && C:\Users\biocbuild\bbs-3.7-bioc\R\bin\R.exe CMD build --keep-empty-dirs --no-resave-data MoonlightR |
| StartedAt: 2018-10-16 23:24:33 -0400 (Tue, 16 Oct 2018) |
| EndedAt: 2018-10-16 23:28:14 -0400 (Tue, 16 Oct 2018) |
| EllapsedTime: 220.6 seconds |
| RetCode: 0 |
| Status: OK |
| PackageFile: MoonlightR_1.6.1.tar.gz |
| PackageFileSize: 13.54 MiB |
############################################################################## ############################################################################## ### ### Running command: ### ### chmod a+r MoonlightR -R && C:\Users\biocbuild\bbs-3.7-bioc\R\bin\R.exe CMD build --keep-empty-dirs --no-resave-data MoonlightR ### ############################################################################## ############################################################################## * checking for file 'MoonlightR/DESCRIPTION' ... OK * preparing 'MoonlightR': * checking DESCRIPTION meta-information ... OK * installing the package to build vignettes * creating vignettes ... OK * checking for LF line-endings in source and make files and shell scripts * checking for empty or unneeded directories * looking to see if a 'data/datalist' file should be added * building 'MoonlightR_1.6.1.tar.gz'