| Back to Multiple platform build/check report for BioC 3.7 | 
 | 
This page was generated on 2018-10-17 08:43:02 -0400 (Wed, 17 Oct 2018).
| Package 935/1561 | Hostname | OS / Arch | INSTALL | BUILD | CHECK | BUILD BIN | ||||||
| MoonlightR 1.6.1 Antonio Colaprico 
 | malbec2 | Linux (Ubuntu 16.04.1 LTS) / x86_64 | OK | OK | OK |  | ||||||
| tokay2 | Windows Server 2012 R2 Standard / x64 | OK | OK | OK | [ OK ] |  | ||||||
| merida2 | OS X 10.11.6 El Capitan / x86_64 | OK | OK | WARNINGS | OK |  | 
| Package: MoonlightR | 
| Version: 1.6.1 | 
| Command: rm -rf MoonlightR.buildbin-libdir && mkdir MoonlightR.buildbin-libdir && C:\Users\biocbuild\bbs-3.7-bioc\R\bin\R.exe CMD INSTALL --merge-multiarch --build --library=MoonlightR.buildbin-libdir MoonlightR_1.6.1.tar.gz | 
| StartedAt: 2018-10-17 06:41:56 -0400 (Wed, 17 Oct 2018) | 
| EndedAt: 2018-10-17 06:42:45 -0400 (Wed, 17 Oct 2018) | 
| EllapsedTime: 48.1 seconds | 
| RetCode: 0 | 
| Status: OK | 
| PackageFile: MoonlightR_1.6.1.zip | 
| PackageFileSize: 8.095 MiB | 
##############################################################################
##############################################################################
###
### Running command:
###
###   rm -rf MoonlightR.buildbin-libdir && mkdir MoonlightR.buildbin-libdir && C:\Users\biocbuild\bbs-3.7-bioc\R\bin\R.exe CMD INSTALL --merge-multiarch --build --library=MoonlightR.buildbin-libdir MoonlightR_1.6.1.tar.gz
###
##############################################################################
##############################################################################
install for i386
* installing *source* package 'MoonlightR' ...
** R
** data
*** moving datasets to lazyload DB
** inst
** byte-compile and prepare package for lazy loading
** help
*** installing help indices
  converting help for package 'MoonlightR'
    finding HTML links ... done
    DEGsmatrix                              html  
    DPA                                     html  
    DiseaseList                             html  
    EAGenes                                 html  
    FEA                                     html  
    GDCprojects                             html  
    GEO_TCGAtab                             html  
    GRN                                     html  
    GSEA                                    html  
    LPA                                     html  
    MoonlightR                              html  
    PRA                                     html  
    URA                                     html  
    dataFilt                                html  
    dataGRN                                 html  
    dataURA                                 html  
    geneInfo                                html  
    getDataGEO                              html  
    getDataTCGA                             html  
    knownDriverGenes                        html  
    listMoonlight                           html  
    moonlight                               html  
    plotCircos                              html  
    plotFEA                                 html  
    plotNetworkHive                         html  
    plotURA                                 html  
    tabGrowBlock                            html  
** building package indices
** installing vignettes
** testing if installed package can be loaded
In R CMD INSTALL
install for x64
* installing *source* package 'MoonlightR' ...
** testing if installed package can be loaded
* MD5 sums
packaged installation of 'MoonlightR' as MoonlightR_1.6.1.zip
* DONE (MoonlightR)
In R CMD INSTALL
In R CMD INSTALL