| Back to Multiple platform build/check report for BioC 3.7 |
|
This page was generated on 2018-10-17 08:42:28 -0400 (Wed, 17 Oct 2018).
| Package 880/1561 | Hostname | OS / Arch | INSTALL | BUILD | CHECK | BUILD BIN | ||||||
| MetCirc 1.10.0 Thomas Naake
| malbec2 | Linux (Ubuntu 16.04.1 LTS) / x86_64 | OK | OK | OK | |||||||
| tokay2 | Windows Server 2012 R2 Standard / x64 | OK | OK | OK | [ OK ] | |||||||
| merida2 | OS X 10.11.6 El Capitan / x86_64 | OK | OK | OK | OK |
| Package: MetCirc |
| Version: 1.10.0 |
| Command: rm -rf MetCirc.buildbin-libdir && mkdir MetCirc.buildbin-libdir && C:\Users\biocbuild\bbs-3.7-bioc\R\bin\R.exe CMD INSTALL --merge-multiarch --build --library=MetCirc.buildbin-libdir MetCirc_1.10.0.tar.gz |
| StartedAt: 2018-10-17 06:39:58 -0400 (Wed, 17 Oct 2018) |
| EndedAt: 2018-10-17 06:40:21 -0400 (Wed, 17 Oct 2018) |
| EllapsedTime: 22.9 seconds |
| RetCode: 0 |
| Status: OK |
| PackageFile: MetCirc_1.10.0.zip |
| PackageFileSize: 2.255 MiB |
##############################################################################
##############################################################################
###
### Running command:
###
### rm -rf MetCirc.buildbin-libdir && mkdir MetCirc.buildbin-libdir && C:\Users\biocbuild\bbs-3.7-bioc\R\bin\R.exe CMD INSTALL --merge-multiarch --build --library=MetCirc.buildbin-libdir MetCirc_1.10.0.tar.gz
###
##############################################################################
##############################################################################
install for i386
* installing *source* package 'MetCirc' ...
** R
** data
** inst
** byte-compile and prepare package for lazy loading
** help
*** installing help indices
converting help for package 'MetCirc'
finding HTML links ... done
MSP html
NDP html
adduct-set html
adduct html
allocatePrecursor2mz html
binnedMSP html
binning html
cart2Polar html
circosLegend html
classes-set html
classes html
combine html
compartmentTissue html
convert2MSP html
convertExampleDF html
convertMSP2MSP html
createLink0Matrix html
createLinkMatrix html
createOrderedSimMat html
createSimilarityMatrix html
cutLinkMatrix html
cutUniquePrecursor html
extract-methods html
getBegEndIndMSP html
getLinkMatrixIndices html
getPrecursorMZ html
getRT html
highlight html
idMSMStoMSP-data html
information-set html
information html
length-method html
minFragCart2Polar html
msp2FunctionalLossesMSP html
msp2msp html
names-set html
names html
peaks html
plotCircos html
printInformationSelect html
sd01_outputXCMS html
sd02_deconvoluted html
shinyCircos html
show-method html
similarityMat html
thresholdLinkMatrix html
tissue html
truncateName html
** building package indices
** installing vignettes
** testing if installed package can be loaded
In R CMD INSTALL
install for x64
* installing *source* package 'MetCirc' ...
** testing if installed package can be loaded
* MD5 sums
packaged installation of 'MetCirc' as MetCirc_1.10.0.zip
* DONE (MetCirc)
In R CMD INSTALL
In R CMD INSTALL