| Back to Multiple platform build/check report for BioC 3.7 |
|
This page was generated on 2018-10-17 08:56:43 -0400 (Wed, 17 Oct 2018).
| Package 880/1561 | Hostname | OS / Arch | INSTALL | BUILD | CHECK | BUILD BIN | ||||||
| MetCirc 1.10.0 Thomas Naake
| malbec2 | Linux (Ubuntu 16.04.1 LTS) / x86_64 | OK | OK | OK | |||||||
| tokay2 | Windows Server 2012 R2 Standard / x64 | OK | OK | OK | OK | |||||||
| merida2 | OS X 10.11.6 El Capitan / x86_64 | OK | OK | OK | [ OK ] |
| Package: MetCirc |
| Version: 1.10.0 |
| Command: rm -rf MetCirc.buildbin-libdir && mkdir MetCirc.buildbin-libdir && /Users/biocbuild/BBS/utils/build-universal.sh MetCirc_1.10.0.tar.gz /Library/Frameworks/R.framework/Versions/Current/Resources/bin/R MetCirc.buildbin-libdir |
| StartedAt: 2018-10-17 01:40:33 -0400 (Wed, 17 Oct 2018) |
| EndedAt: 2018-10-17 01:41:22 -0400 (Wed, 17 Oct 2018) |
| EllapsedTime: 48.3 seconds |
| RetCode: 0 |
| Status: OK |
| PackageFile: MetCirc_1.10.0.tgz |
| PackageFileSize: 2.196 MiB |
############################################################################## ############################################################################## ### ### Running command: ### ### rm -rf MetCirc.buildbin-libdir && mkdir MetCirc.buildbin-libdir && /Users/biocbuild/BBS/utils/build-universal.sh MetCirc_1.10.0.tar.gz /Library/Frameworks/R.framework/Versions/Current/Resources/bin/R MetCirc.buildbin-libdir ### ############################################################################## ############################################################################## >>>>>>> >>>>>>> INSTALLATION WITH 'R CMD INSTALL --preclean --no-multiarch --library=MetCirc.buildbin-libdir MetCirc_1.10.0.tar.gz' >>>>>>> * installing *source* package ‘MetCirc’ ... ** R ** data ** inst ** byte-compile and prepare package for lazy loading ** help *** installing help indices ** building package indices ** installing vignettes ** testing if installed package can be loaded * DONE (MetCirc)