| Back to Multiple platform build/check report for BioC 3.7 | 
 | 
This page was generated on 2018-10-17 08:39:33 -0400 (Wed, 17 Oct 2018).
| Package 730/1561 | Hostname | OS / Arch | INSTALL | BUILD | CHECK | BUILD BIN | ||||||
| IMPCdata 1.16.0 Jeremy Mason 
 | malbec2 | Linux (Ubuntu 16.04.1 LTS) / x86_64 | OK | OK | OK |  | ||||||
| tokay2 | Windows Server 2012 R2 Standard / x64 | OK | OK | OK | [ OK ] |  | ||||||
| merida2 | OS X 10.11.6 El Capitan / x86_64 | OK | OK | OK | OK |  | 
| Package: IMPCdata | 
| Version: 1.16.0 | 
| Command: rm -rf IMPCdata.buildbin-libdir && mkdir IMPCdata.buildbin-libdir && C:\Users\biocbuild\bbs-3.7-bioc\R\bin\R.exe CMD INSTALL --merge-multiarch --build --library=IMPCdata.buildbin-libdir IMPCdata_1.16.0.tar.gz | 
| StartedAt: 2018-10-17 06:34:34 -0400 (Wed, 17 Oct 2018) | 
| EndedAt: 2018-10-17 06:34:45 -0400 (Wed, 17 Oct 2018) | 
| EllapsedTime: 10.9 seconds | 
| RetCode: 0 | 
| Status: OK | 
| PackageFile: IMPCdata_1.16.0.zip | 
| PackageFileSize: 225.5 KiB | 
##############################################################################
##############################################################################
###
### Running command:
###
###   rm -rf IMPCdata.buildbin-libdir && mkdir IMPCdata.buildbin-libdir && C:\Users\biocbuild\bbs-3.7-bioc\R\bin\R.exe CMD INSTALL --merge-multiarch --build --library=IMPCdata.buildbin-libdir IMPCdata_1.16.0.tar.gz
###
##############################################################################
##############################################################################
install for i386
* installing *source* package 'IMPCdata' ...
** R
** inst
** byte-compile and prepare package for lazy loading
** help
*** installing help indices
  converting help for package 'IMPCdata'
    finding HTML links ... done
    getAlleles                              html  
    getGenes                                html  
    getIMPCDataset                          html  
    getIMPCTable                            html  
    getName                                 html  
    getParameters                           html  
    getPhenCenters                          html  
    getPipelines                            html  
    getProcedures                           html  
    getStrains                              html  
    getZygosities                           html  
    printAlleles                            html  
    printGenes                              html  
    printParameters                         html  
    printPhenCenters                        html  
    printPipelines                          html  
    printProcedures                         html  
    printStrains                            html  
** building package indices
** installing vignettes
** testing if installed package can be loaded
In R CMD INSTALL
install for x64
* installing *source* package 'IMPCdata' ...
** testing if installed package can be loaded
* MD5 sums
packaged installation of 'IMPCdata' as IMPCdata_1.16.0.zip
* DONE (IMPCdata)
In R CMD INSTALL
In R CMD INSTALL