| Back to Multiple platform build/check report for BioC 3.7 |
|
This page was generated on 2018-10-17 08:41:48 -0400 (Wed, 17 Oct 2018).
| Package 674/1561 | Hostname | OS / Arch | INSTALL | BUILD | CHECK | BUILD BIN | ||||||
| HDF5Array 1.8.1 Hervé Pagès
| malbec2 | Linux (Ubuntu 16.04.1 LTS) / x86_64 | OK | OK | OK | |||||||
| tokay2 | Windows Server 2012 R2 Standard / x64 | OK | OK | WARNINGS | [ OK ] | |||||||
| merida2 | OS X 10.11.6 El Capitan / x86_64 | OK | OK | OK | OK |
| Package: HDF5Array |
| Version: 1.8.1 |
| Command: rm -rf HDF5Array.buildbin-libdir && mkdir HDF5Array.buildbin-libdir && C:\Users\biocbuild\bbs-3.7-bioc\R\bin\R.exe CMD INSTALL --merge-multiarch --build --library=HDF5Array.buildbin-libdir HDF5Array_1.8.1.tar.gz |
| StartedAt: 2018-10-17 06:29:39 -0400 (Wed, 17 Oct 2018) |
| EndedAt: 2018-10-17 06:30:22 -0400 (Wed, 17 Oct 2018) |
| EllapsedTime: 42.9 seconds |
| RetCode: 0 |
| Status: OK |
| PackageFile: HDF5Array_1.8.1.zip |
| PackageFileSize: 7.845 MiB |
##############################################################################
##############################################################################
###
### Running command:
###
### rm -rf HDF5Array.buildbin-libdir && mkdir HDF5Array.buildbin-libdir && C:\Users\biocbuild\bbs-3.7-bioc\R\bin\R.exe CMD INSTALL --merge-multiarch --build --library=HDF5Array.buildbin-libdir HDF5Array_1.8.1.tar.gz
###
##############################################################################
##############################################################################
install for i386
* installing *source* package 'HDF5Array' ...
** R
** inst
** byte-compile and prepare package for lazy loading
** help
*** installing help indices
converting help for package 'HDF5Array'
finding HTML links ... done
HDF5Array-class html
finding level-2 HTML links ... done
Rd warning: C:/Users/biocbuild/bbs-3.7-bioc/tmpdir/RtmpqkgZKv/R.INSTALL115c6eb74072/HDF5Array/man/HDF5Array-class.Rd:93: file link 'SummarizedExperiment' in package 'SummarizedExperiment' does not exist and so has been treated as a topic
dump-management html
Rd warning: C:/Users/biocbuild/bbs-3.7-bioc/tmpdir/RtmpqkgZKv/R.INSTALL115c6eb74072/HDF5Array/man/dump-management.Rd:104: file link 'type' in package 'DelayedArray' does not exist and so has been treated as a topic
Rd warning: C:/Users/biocbuild/bbs-3.7-bioc/tmpdir/RtmpqkgZKv/R.INSTALL115c6eb74072/HDF5Array/man/dump-management.Rd:199: file link 'type' in package 'DelayedArray' does not exist and so has been treated as a topic
saveHDF5SummarizedExperiment html
Rd warning: C:/Users/biocbuild/bbs-3.7-bioc/tmpdir/RtmpqkgZKv/R.INSTALL115c6eb74072/HDF5Array/man/saveHDF5SummarizedExperiment.Rd:11: file link 'SummarizedExperiment' in package 'SummarizedExperiment' does not exist and so has been treated as a topic
Rd warning: C:/Users/biocbuild/bbs-3.7-bioc/tmpdir/RtmpqkgZKv/R.INSTALL115c6eb74072/HDF5Array/man/saveHDF5SummarizedExperiment.Rd:22: file link 'SummarizedExperiment' in package 'SummarizedExperiment' does not exist and so has been treated as a topic
Rd warning: C:/Users/biocbuild/bbs-3.7-bioc/tmpdir/RtmpqkgZKv/R.INSTALL115c6eb74072/HDF5Array/man/saveHDF5SummarizedExperiment.Rd:26: file link 'SummarizedExperiment' in package 'SummarizedExperiment' does not exist and so has been treated as a topic
Rd warning: C:/Users/biocbuild/bbs-3.7-bioc/tmpdir/RtmpqkgZKv/R.INSTALL115c6eb74072/HDF5Array/man/saveHDF5SummarizedExperiment.Rd:81: file link 'SummarizedExperiment' in package 'SummarizedExperiment' does not exist and so has been treated as a topic
Rd warning: C:/Users/biocbuild/bbs-3.7-bioc/tmpdir/RtmpqkgZKv/R.INSTALL115c6eb74072/HDF5Array/man/saveHDF5SummarizedExperiment.Rd:92: file link 'SummarizedExperiment' in package 'SummarizedExperiment' does not exist and so has been treated as a topic
Rd warning: C:/Users/biocbuild/bbs-3.7-bioc/tmpdir/RtmpqkgZKv/R.INSTALL115c6eb74072/HDF5Array/man/saveHDF5SummarizedExperiment.Rd:93: file link 'RangedSummarizedExperiment' in package 'SummarizedExperiment' does not exist and so has been treated as a topic
writeHDF5Array html
Rd warning: C:/Users/biocbuild/bbs-3.7-bioc/tmpdir/RtmpqkgZKv/R.INSTALL115c6eb74072/HDF5Array/man/writeHDF5Array.Rd:105: file link 'SummarizedExperiment' in package 'SummarizedExperiment' does not exist and so has been treated as a topic
** building package indices
** testing if installed package can be loaded
In R CMD INSTALL
install for x64
* installing *source* package 'HDF5Array' ...
** testing if installed package can be loaded
* MD5 sums
packaged installation of 'HDF5Array' as HDF5Array_1.8.1.zip
* DONE (HDF5Array)
In R CMD INSTALL
In R CMD INSTALL