| Back to Multiple platform build/check report for BioC 3.7 |
|
This page was generated on 2018-10-17 08:39:13 -0400 (Wed, 17 Oct 2018).
| Package 637/1561 | Hostname | OS / Arch | INSTALL | BUILD | CHECK | BUILD BIN | ||||||
| GOsummaries 2.16.1 Raivo Kolde
| malbec2 | Linux (Ubuntu 16.04.1 LTS) / x86_64 | OK | OK | OK | |||||||
| tokay2 | Windows Server 2012 R2 Standard / x64 | OK | [ OK ] | OK | OK | |||||||
| merida2 | OS X 10.11.6 El Capitan / x86_64 | OK | OK | OK | OK |
| Package: GOsummaries |
| Version: 2.16.1 |
| Command: chmod a+r GOsummaries -R && C:\Users\biocbuild\bbs-3.7-bioc\R\bin\R.exe CMD build --keep-empty-dirs --no-resave-data GOsummaries |
| StartedAt: 2018-10-16 22:25:58 -0400 (Tue, 16 Oct 2018) |
| EndedAt: 2018-10-16 22:26:46 -0400 (Tue, 16 Oct 2018) |
| EllapsedTime: 47.9 seconds |
| RetCode: 0 |
| Status: OK |
| PackageFile: GOsummaries_2.16.1.tar.gz |
| PackageFileSize: 2.384 MiB |
##############################################################################
##############################################################################
###
### Running command:
###
### chmod a+r GOsummaries -R && C:\Users\biocbuild\bbs-3.7-bioc\R\bin\R.exe CMD build --keep-empty-dirs --no-resave-data GOsummaries
###
##############################################################################
##############################################################################
* checking for file 'GOsummaries/DESCRIPTION' ... OK
* preparing 'GOsummaries':
* checking DESCRIPTION meta-information ... OK
* cleaning src
* installing the package to build vignettes
* creating vignettes ... OK
Warning: 'inst/doc' files
'GOsummaries-basics.Rnw', 'GOsummaries-basics.R'
ignored as vignettes have been rebuilt.
Run R CMD build with --no-build-vignettes to prevent rebuilding.
* cleaning src
* checking for LF line-endings in source and make files and shell scripts
* checking for empty or unneeded directories
* looking to see if a 'data/datalist' file should be added
* building 'GOsummaries_2.16.1.tar.gz'