Back to Multiple platform build/check report for BioC 3.7 |
|
This page was generated on 2018-10-17 08:53:32 -0400 (Wed, 17 Oct 2018).
Package 637/1561 | Hostname | OS / Arch | INSTALL | BUILD | CHECK | BUILD BIN | ||||||
GOsummaries 2.16.1 Raivo Kolde
| malbec2 | Linux (Ubuntu 16.04.1 LTS) / x86_64 | OK | OK | OK | |||||||
tokay2 | Windows Server 2012 R2 Standard / x64 | OK | OK | OK | OK | |||||||
merida2 | OS X 10.11.6 El Capitan / x86_64 | [ OK ] | OK | OK | OK |
Package: GOsummaries |
Version: 2.16.1 |
Command: /Library/Frameworks/R.framework/Versions/Current/Resources/bin/R CMD INSTALL GOsummaries |
StartedAt: 2018-10-16 15:29:48 -0400 (Tue, 16 Oct 2018) |
EndedAt: 2018-10-16 15:30:27 -0400 (Tue, 16 Oct 2018) |
EllapsedTime: 38.6 seconds |
RetCode: 0 |
Status: OK |
############################################################################## ############################################################################## ### ### Running command: ### ### /Library/Frameworks/R.framework/Versions/Current/Resources/bin/R CMD INSTALL GOsummaries ### ############################################################################## ############################################################################## * installing to library ‘/Library/Frameworks/R.framework/Versions/3.5/Resources/library’ * installing *source* package ‘GOsummaries’ ... ** libs clang++ -I"/Library/Frameworks/R.framework/Resources/include" -DNDEBUG -I"/Library/Frameworks/R.framework/Versions/3.5/Resources/library/Rcpp/include" -I/usr/local/include -fPIC -Wall -g -O2 -c findCoordinates.cpp -o findCoordinates.o clang++ -dynamiclib -Wl,-headerpad_max_install_names -undefined dynamic_lookup -single_module -multiply_defined suppress -L/Library/Frameworks/R.framework/Resources/lib -L/usr/local/lib -o GOsummaries.so findCoordinates.o -F/Library/Frameworks/R.framework/.. -framework R -Wl,-framework -Wl,CoreFoundation installing to /Library/Frameworks/R.framework/Versions/3.5/Resources/library/GOsummaries/libs ** R ** data ** inst ** byte-compile and prepare package for lazy loading ** help *** installing help indices ** building package indices ** installing vignettes ‘GOsummaries-basics.Rnw’ ** testing if installed package can be loaded * DONE (GOsummaries)