| Back to Multiple platform build/check report for BioC 3.7 |
|
This page was generated on 2018-10-17 08:26:40 -0400 (Wed, 17 Oct 2018).
| Package 447/1561 | Hostname | OS / Arch | INSTALL | BUILD | CHECK | BUILD BIN | ||||||
| EnrichmentBrowser 2.10.11 Ludwig Geistlinger
| malbec2 | Linux (Ubuntu 16.04.1 LTS) / x86_64 | OK | OK | [ OK ] | |||||||
| tokay2 | Windows Server 2012 R2 Standard / x64 | OK | OK | OK | OK | |||||||
| merida2 | OS X 10.11.6 El Capitan / x86_64 | OK | OK | OK | OK |
| Package: EnrichmentBrowser |
| Version: 2.10.11 |
| Command: /home/biocbuild/bbs-3.7-bioc/R/bin/R CMD check --install=check:EnrichmentBrowser.install-out.txt --library=/home/biocbuild/bbs-3.7-bioc/R/library --no-vignettes --timings EnrichmentBrowser_2.10.11.tar.gz |
| StartedAt: 2018-10-16 00:09:54 -0400 (Tue, 16 Oct 2018) |
| EndedAt: 2018-10-16 00:14:08 -0400 (Tue, 16 Oct 2018) |
| EllapsedTime: 253.9 seconds |
| RetCode: 0 |
| Status: OK |
| CheckDir: EnrichmentBrowser.Rcheck |
| Warnings: 0 |
##############################################################################
##############################################################################
###
### Running command:
###
### /home/biocbuild/bbs-3.7-bioc/R/bin/R CMD check --install=check:EnrichmentBrowser.install-out.txt --library=/home/biocbuild/bbs-3.7-bioc/R/library --no-vignettes --timings EnrichmentBrowser_2.10.11.tar.gz
###
##############################################################################
##############################################################################
* using log directory ‘/home/biocbuild/bbs-3.7-bioc/meat/EnrichmentBrowser.Rcheck’
* using R version 3.5.1 Patched (2018-07-12 r74967)
* using platform: x86_64-pc-linux-gnu (64-bit)
* using session charset: UTF-8
* using option ‘--no-vignettes’
* checking for file ‘EnrichmentBrowser/DESCRIPTION’ ... OK
* this is package ‘EnrichmentBrowser’ version ‘2.10.11’
* package encoding: UTF-8
* checking package namespace information ... OK
* checking package dependencies ... OK
* checking if this is a source package ... OK
* checking if there is a namespace ... OK
* checking for hidden files and directories ... OK
* checking for portable file names ... OK
* checking for sufficient/correct file permissions ... OK
* checking whether package ‘EnrichmentBrowser’ can be installed ... OK
* checking installed package size ... OK
* checking package directory ... OK
* checking ‘build’ directory ... OK
* checking DESCRIPTION meta-information ... OK
* checking top-level files ... OK
* checking for left-over files ... OK
* checking index information ... OK
* checking package subdirectories ... OK
* checking R files for non-ASCII characters ... OK
* checking R files for syntax errors ... OK
* checking whether the package can be loaded ... OK
* checking whether the package can be loaded with stated dependencies ... OK
* checking whether the package can be unloaded cleanly ... OK
* checking whether the namespace can be loaded with stated dependencies ... OK
* checking whether the namespace can be unloaded cleanly ... OK
* checking dependencies in R code ... NOTE
Unexported object imported by a ':::' call: 'pathview:::parseKGML2Graph2'
See the note in ?`:::` about the use of this operator.
* checking S3 generic/method consistency ... OK
* checking replacement functions ... OK
* checking foreign function calls ... OK
* checking R code for possible problems ... OK
* checking Rd files ... OK
* checking Rd metadata ... OK
* checking Rd cross-references ... OK
* checking for missing documentation entries ... OK
* checking for code/documentation mismatches ... OK
* checking Rd \usage sections ... OK
* checking Rd contents ... OK
* checking for unstated dependencies in examples ... OK
* checking files in ‘vignettes’ ... OK
* checking examples ... OK
Examples with CPU or elapsed time > 5s
user system elapsed
ebrowser 46.224 14.140 60.869
getGenesets 10.996 0.288 18.901
eaBrowse 7.092 1.980 10.140
compileGRN 7.524 0.872 8.402
* checking for unstated dependencies in vignettes ... OK
* checking package vignettes in ‘inst/doc’ ... OK
* checking running R code from vignettes ... SKIPPED
* checking re-building of vignette outputs ... SKIPPED
* checking PDF version of manual ... OK
* DONE
Status: 1 NOTE
See
‘/home/biocbuild/bbs-3.7-bioc/meat/EnrichmentBrowser.Rcheck/00check.log’
for details.
EnrichmentBrowser.Rcheck/00install.out
############################################################################## ############################################################################## ### ### Running command: ### ### /home/biocbuild/bbs-3.7-bioc/R/bin/R CMD INSTALL EnrichmentBrowser ### ############################################################################## ############################################################################## * installing to library ‘/home/biocbuild/bbs-3.7-bioc/R/library’ * installing *source* package ‘EnrichmentBrowser’ ... ** R ** inst ** byte-compile and prepare package for lazy loading ** help *** installing help indices ** building package indices ** installing vignettes ** testing if installed package can be loaded * DONE (EnrichmentBrowser)
EnrichmentBrowser.Rcheck/EnrichmentBrowser-Ex.timings
| name | user | system | elapsed | |
| combResults | 0.388 | 0.016 | 0.405 | |
| compileGRN | 7.524 | 0.872 | 8.402 | |
| configEBrowser | 0 | 0 | 0 | |
| deAna | 2.220 | 0.008 | 2.230 | |
| downloadPathways | 0.000 | 0.000 | 0.001 | |
| eaBrowse | 7.092 | 1.980 | 10.140 | |
| ebrowser | 46.224 | 14.140 | 60.869 | |
| getGenesets | 10.996 | 0.288 | 18.901 | |
| ggeaGraph | 0.804 | 0.048 | 0.852 | |
| idMap | 0.188 | 0.012 | 0.201 | |
| isAvailable | 0.004 | 0.000 | 0.000 | |
| makeExampleData | 0.024 | 0.000 | 0.024 | |
| nbea | 0.256 | 0.000 | 0.255 | |
| normalize | 1.320 | 0.012 | 1.348 | |
| plots | 0.684 | 0.000 | 0.687 | |
| probe2gene | 0.064 | 0.000 | 0.064 | |
| readSE | 0.036 | 0.000 | 0.039 | |
| sbea | 0.144 | 0.000 | 0.146 | |