| Back to Multiple platform build/check report for BioC 3.7 |
|
This page was generated on 2018-10-17 08:35:27 -0400 (Wed, 17 Oct 2018).
| Package 379/1561 | Hostname | OS / Arch | INSTALL | BUILD | CHECK | BUILD BIN | ||||||
| DEXSeq 1.26.0 Alejandro Reyes
| malbec2 | Linux (Ubuntu 16.04.1 LTS) / x86_64 | OK | OK | OK | |||||||
| tokay2 | Windows Server 2012 R2 Standard / x64 | OK | OK | WARNINGS | [ OK ] | |||||||
| merida2 | OS X 10.11.6 El Capitan / x86_64 | OK | OK | OK | OK |
| Package: DEXSeq |
| Version: 1.26.0 |
| Command: rm -rf DEXSeq.buildbin-libdir && mkdir DEXSeq.buildbin-libdir && C:\Users\biocbuild\bbs-3.7-bioc\R\bin\R.exe CMD INSTALL --merge-multiarch --build --library=DEXSeq.buildbin-libdir DEXSeq_1.26.0.tar.gz |
| StartedAt: 2018-10-17 06:15:02 -0400 (Wed, 17 Oct 2018) |
| EndedAt: 2018-10-17 06:15:38 -0400 (Wed, 17 Oct 2018) |
| EllapsedTime: 36.0 seconds |
| RetCode: 0 |
| Status: OK |
| PackageFile: DEXSeq_1.26.0.zip |
| PackageFileSize: 931.4 KiB |
##############################################################################
##############################################################################
###
### Running command:
###
### rm -rf DEXSeq.buildbin-libdir && mkdir DEXSeq.buildbin-libdir && C:\Users\biocbuild\bbs-3.7-bioc\R\bin\R.exe CMD INSTALL --merge-multiarch --build --library=DEXSeq.buildbin-libdir DEXSeq_1.26.0.tar.gz
###
##############################################################################
##############################################################################
install for i386
* installing *source* package 'DEXSeq' ...
** R
** inst
** byte-compile and prepare package for lazy loading
** help
*** installing help indices
converting help for package 'DEXSeq'
finding HTML links ... done
DEXSeq-defunct html
DEXSeq html
DEXSeqDataSet html
DEXSeqHTML html
DEXSeqResults html
accessors html
counts html
estimateDispersions html
estimateExonFoldChanges html
estimateSizeFactors html
methods-gr html
Rd warning: C:/Users/biocbuild/bbs-3.7-bioc/tmpdir/Rtmp4MGOCO/R.INSTALL18ec36b742b2/DEXSeq/man/methods-gr.Rd:32: file link 'findOverlaps' in package 'IRanges' does not exist and so has been treated as a topic
Rd warning: C:/Users/biocbuild/bbs-3.7-bioc/tmpdir/Rtmp4MGOCO/R.INSTALL18ec36b742b2/DEXSeq/man/methods-gr.Rd:36: file link 'findOverlaps' in package 'GenomicRanges' does not exist and so has been treated as a topic
otherMethods html
perGeneQValue html
plotDEXSeq html
plotDispEsts html
plotMA html
testForDEU html
** building package indices
** installing vignettes
** testing if installed package can be loaded
In R CMD INSTALL
install for x64
* installing *source* package 'DEXSeq' ...
** testing if installed package can be loaded
* MD5 sums
packaged installation of 'DEXSeq' as DEXSeq_1.26.0.zip
* DONE (DEXSeq)
In R CMD INSTALL
In R CMD INSTALL