| Back to Multiple platform build/check report for BioC 3.7 |
|
This page was generated on 2018-10-17 08:49:19 -0400 (Wed, 17 Oct 2018).
| Package 379/1561 | Hostname | OS / Arch | INSTALL | BUILD | CHECK | BUILD BIN | ||||||
| DEXSeq 1.26.0 Alejandro Reyes
| malbec2 | Linux (Ubuntu 16.04.1 LTS) / x86_64 | OK | OK | OK | |||||||
| tokay2 | Windows Server 2012 R2 Standard / x64 | OK | OK | WARNINGS | OK | |||||||
| merida2 | OS X 10.11.6 El Capitan / x86_64 | OK | OK | [ OK ] | OK |
| Package: DEXSeq |
| Version: 1.26.0 |
| Command: /Library/Frameworks/R.framework/Versions/Current/Resources/bin/R CMD check --install=check:DEXSeq.install-out.txt --library=/Library/Frameworks/R.framework/Versions/Current/Resources/library --no-vignettes --timings DEXSeq_1.26.0.tar.gz |
| StartedAt: 2018-10-16 20:56:09 -0400 (Tue, 16 Oct 2018) |
| EndedAt: 2018-10-16 21:00:52 -0400 (Tue, 16 Oct 2018) |
| EllapsedTime: 283.8 seconds |
| RetCode: 0 |
| Status: OK |
| CheckDir: DEXSeq.Rcheck |
| Warnings: 0 |
##############################################################################
##############################################################################
###
### Running command:
###
### /Library/Frameworks/R.framework/Versions/Current/Resources/bin/R CMD check --install=check:DEXSeq.install-out.txt --library=/Library/Frameworks/R.framework/Versions/Current/Resources/library --no-vignettes --timings DEXSeq_1.26.0.tar.gz
###
##############################################################################
##############################################################################
* using log directory ‘/Users/biocbuild/bbs-3.7-bioc/meat/DEXSeq.Rcheck’
* using R version 3.5.1 Patched (2018-07-12 r74967)
* using platform: x86_64-apple-darwin15.6.0 (64-bit)
* using session charset: UTF-8
* using option ‘--no-vignettes’
* checking for file ‘DEXSeq/DESCRIPTION’ ... OK
* this is package ‘DEXSeq’ version ‘1.26.0’
* checking package namespace information ... OK
* checking package dependencies ... NOTE
Depends: includes the non-default packages:
‘BiocParallel’ ‘Biobase’ ‘SummarizedExperiment’ ‘IRanges’
‘GenomicRanges’ ‘DESeq2’ ‘AnnotationDbi’ ‘RColorBrewer’ ‘S4Vectors’
Adding so many packages to the search path is excessive and importing
selectively is preferable.
* checking if this is a source package ... OK
* checking if there is a namespace ... OK
* checking for hidden files and directories ... OK
* checking for portable file names ... OK
* checking for sufficient/correct file permissions ... OK
* checking whether package ‘DEXSeq’ can be installed ... OK
* checking installed package size ... OK
* checking package directory ... OK
* checking ‘build’ directory ... OK
* checking DESCRIPTION meta-information ... OK
* checking top-level files ... OK
* checking for left-over files ... OK
* checking index information ... OK
* checking package subdirectories ... OK
* checking R files for non-ASCII characters ... OK
* checking R files for syntax errors ... OK
* checking whether the package can be loaded ... OK
* checking whether the package can be loaded with stated dependencies ... OK
* checking whether the package can be unloaded cleanly ... OK
* checking whether the namespace can be loaded with stated dependencies ... OK
* checking whether the namespace can be unloaded cleanly ... OK
* checking dependencies in R code ... OK
* checking S3 generic/method consistency ... OK
* checking replacement functions ... OK
* checking foreign function calls ... OK
* checking R code for possible problems ... OK
* checking Rd files ... OK
* checking Rd metadata ... OK
* checking Rd cross-references ... OK
* checking for missing documentation entries ... OK
* checking for code/documentation mismatches ... OK
* checking Rd \usage sections ... OK
* checking Rd contents ... OK
* checking for unstated dependencies in examples ... OK
* checking sizes of PDF files under ‘inst/doc’ ... OK
* checking files in ‘vignettes’ ... OK
* checking examples ... OK
Examples with CPU or elapsed time > 5s
user system elapsed
estimateExonFoldChanges 11.768 0.061 11.950
DEXSeqResults 11.042 0.174 11.316
methods-gr 9.586 0.112 9.805
perGeneQValue 9.476 0.045 9.636
testForDEU 8.912 0.030 9.025
estimateDispersions 8.016 0.038 8.123
* checking for unstated dependencies in vignettes ... OK
* checking package vignettes in ‘inst/doc’ ... OK
* checking running R code from vignettes ... SKIPPED
* checking re-building of vignette outputs ... SKIPPED
* checking PDF version of manual ... OK
* DONE
Status: 1 NOTE
See
‘/Users/biocbuild/bbs-3.7-bioc/meat/DEXSeq.Rcheck/00check.log’
for details.
DEXSeq.Rcheck/00install.out
############################################################################## ############################################################################## ### ### Running command: ### ### /Library/Frameworks/R.framework/Versions/Current/Resources/bin/R CMD INSTALL DEXSeq ### ############################################################################## ############################################################################## * installing to library ‘/Library/Frameworks/R.framework/Versions/3.5/Resources/library’ * installing *source* package ‘DEXSeq’ ... ** R ** inst ** byte-compile and prepare package for lazy loading ** help *** installing help indices ** building package indices ** installing vignettes ** testing if installed package can be loaded * DONE (DEXSeq)
DEXSeq.Rcheck/DEXSeq-Ex.timings
| name | user | system | elapsed | |
| DEXSeq | 0.001 | 0.001 | 0.001 | |
| DEXSeqDataSet | 0.004 | 0.000 | 0.005 | |
| DEXSeqHTML | 0.001 | 0.000 | 0.002 | |
| DEXSeqResults | 11.042 | 0.174 | 11.316 | |
| accessors | 0.223 | 0.005 | 0.230 | |
| counts | 0.026 | 0.007 | 0.034 | |
| estimateDispersions | 8.016 | 0.038 | 8.123 | |
| estimateExonFoldChanges | 11.768 | 0.061 | 11.950 | |
| methods-gr | 9.586 | 0.112 | 9.805 | |
| perGeneQValue | 9.476 | 0.045 | 9.636 | |
| plotDEXSeq | 0.001 | 0.000 | 0.001 | |
| plotMA | 0.002 | 0.001 | 0.002 | |
| testForDEU | 8.912 | 0.030 | 9.025 | |