| Back to Multiple platform build/check report for BioC 3.7 | 
  | 
This page was generated on 2018-10-17 08:59:57 -0400 (Wed, 17 Oct 2018).
| Package 223/1561 | Hostname | OS / Arch | INSTALL | BUILD | CHECK | BUILD BIN | ||||||
| ChIC 1.0.0 Carmen Maria Livi 
  | malbec2 | Linux (Ubuntu 16.04.1 LTS) / x86_64 | OK | OK | OK | |||||||
| tokay2 | Windows Server 2012 R2 Standard / x64 | ...NOT SUPPORTED... | ||||||||||
| merida2 | OS X 10.11.6 El Capitan / x86_64 | OK | [ OK ] | OK | OK | |||||||
| Package: ChIC | 
| Version: 1.0.0 | 
| Command: /Library/Frameworks/R.framework/Versions/Current/Resources/bin/R CMD build --keep-empty-dirs --no-resave-data ChIC | 
| StartedAt: 2018-10-16 19:10:25 -0400 (Tue, 16 Oct 2018) | 
| EndedAt: 2018-10-16 19:14:01 -0400 (Tue, 16 Oct 2018) | 
| EllapsedTime: 216.0 seconds | 
| RetCode: 0 | 
| Status: OK | 
| PackageFile: ChIC_1.0.0.tar.gz | 
| PackageFileSize: 657.4 KiB | 
############################################################################## ############################################################################## ### ### Running command: ### ### /Library/Frameworks/R.framework/Versions/Current/Resources/bin/R CMD build --keep-empty-dirs --no-resave-data ChIC ### ############################################################################## ############################################################################## * checking for file ‘ChIC/DESCRIPTION’ ... OK * preparing ‘ChIC’: * checking DESCRIPTION meta-information ... OK * installing the package to build vignettes * creating vignettes ... OK * checking for LF line-endings in source and make files and shell scripts * checking for empty or unneeded directories * building ‘ChIC_1.0.0.tar.gz’