| Back to Multiple platform build/check report for BioC 3.7 | 
  | 
This page was generated on 2018-10-17 08:59:58 -0400 (Wed, 17 Oct 2018).
| Package 223/1561 | Hostname | OS / Arch | INSTALL | BUILD | CHECK | BUILD BIN | ||||||
| ChIC 1.0.0 Carmen Maria Livi 
  | malbec2 | Linux (Ubuntu 16.04.1 LTS) / x86_64 | OK | OK | OK | |||||||
| tokay2 | Windows Server 2012 R2 Standard / x64 | ...NOT SUPPORTED... | ||||||||||
| merida2 | OS X 10.11.6 El Capitan / x86_64 | OK | OK | OK | [ OK ] | |||||||
| Package: ChIC | 
| Version: 1.0.0 | 
| Command: rm -rf ChIC.buildbin-libdir && mkdir ChIC.buildbin-libdir && /Users/biocbuild/BBS/utils/build-universal.sh ChIC_1.0.0.tar.gz /Library/Frameworks/R.framework/Versions/Current/Resources/bin/R ChIC.buildbin-libdir | 
| StartedAt: 2018-10-17 01:03:56 -0400 (Wed, 17 Oct 2018) | 
| EndedAt: 2018-10-17 01:05:13 -0400 (Wed, 17 Oct 2018) | 
| EllapsedTime: 77.5 seconds | 
| RetCode: 0 | 
| Status: OK | 
| PackageFile: ChIC_1.0.0.tgz | 
| PackageFileSize: 581.6 KiB | 
############################################################################## ############################################################################## ### ### Running command: ### ### rm -rf ChIC.buildbin-libdir && mkdir ChIC.buildbin-libdir && /Users/biocbuild/BBS/utils/build-universal.sh ChIC_1.0.0.tar.gz /Library/Frameworks/R.framework/Versions/Current/Resources/bin/R ChIC.buildbin-libdir ### ############################################################################## ############################################################################## >>>>>>> >>>>>>> INSTALLATION WITH 'R CMD INSTALL --preclean --no-multiarch --library=ChIC.buildbin-libdir ChIC_1.0.0.tar.gz' >>>>>>> * installing *source* package ‘ChIC’ ... ** R ** inst ** byte-compile and prepare package for lazy loading ** help *** installing help indices ** building package indices ** installing vignettes ** testing if installed package can be loaded * DONE (ChIC)