| Back to Multiple platform build/check report for BioC 3.7 |
|
This page was generated on 2018-10-17 08:42:10 -0400 (Wed, 17 Oct 2018).
| Package 112/1561 | Hostname | OS / Arch | INSTALL | BUILD | CHECK | BUILD BIN | ||||||
| BgeeDB 2.6.2 Julien Wollbrett
| malbec2 | Linux (Ubuntu 16.04.1 LTS) / x86_64 | OK | OK | OK | |||||||
| tokay2 | Windows Server 2012 R2 Standard / x64 | OK | OK | OK | [ OK ] | |||||||
| merida2 | OS X 10.11.6 El Capitan / x86_64 | OK | OK | OK | OK |
| Package: BgeeDB |
| Version: 2.6.2 |
| Command: rm -rf BgeeDB.buildbin-libdir && mkdir BgeeDB.buildbin-libdir && C:\Users\biocbuild\bbs-3.7-bioc\R\bin\R.exe CMD INSTALL --merge-multiarch --build --library=BgeeDB.buildbin-libdir BgeeDB_2.6.2.tar.gz |
| StartedAt: 2018-10-17 06:04:23 -0400 (Wed, 17 Oct 2018) |
| EndedAt: 2018-10-17 06:04:42 -0400 (Wed, 17 Oct 2018) |
| EllapsedTime: 19.3 seconds |
| RetCode: 0 |
| Status: OK |
| PackageFile: BgeeDB_2.6.2.zip |
| PackageFileSize: 318.4 KiB |
##############################################################################
##############################################################################
###
### Running command:
###
### rm -rf BgeeDB.buildbin-libdir && mkdir BgeeDB.buildbin-libdir && C:\Users\biocbuild\bbs-3.7-bioc\R\bin\R.exe CMD INSTALL --merge-multiarch --build --library=BgeeDB.buildbin-libdir BgeeDB_2.6.2.tar.gz
###
##############################################################################
##############################################################################
install for i386
* installing *source* package 'BgeeDB' ...
** R
** data
** inst
** byte-compile and prepare package for lazy loading
groupGOTerms: GOBPTerm, GOMFTerm, GOCCTerm environments built.
** help
*** installing help indices
converting help for package 'BgeeDB'
finding HTML links ... done
Bgee-class html
formatData html
geneList html
getAnnotation html
getData html
listBgeeRelease html
listBgeeSpecies html
loadTopAnatData html
makeTable html
topAnat html
** building package indices
** installing vignettes
** testing if installed package can be loaded
groupGOTerms: GOBPTerm, GOMFTerm, GOCCTerm environments built.
In R CMD INSTALL
install for x64
* installing *source* package 'BgeeDB' ...
** testing if installed package can be loaded
groupGOTerms: GOBPTerm, GOMFTerm, GOCCTerm environments built.
* MD5 sums
packaged installation of 'BgeeDB' as BgeeDB_2.6.2.zip
* DONE (BgeeDB)
In R CMD INSTALL
In R CMD INSTALL