| Back to Multiple platform build/check report for BioC 3.6 experimental data |
This page was generated on 2018-04-12 12:49:26 -0400 (Thu, 12 Apr 2018).
| Package 166/326 | Hostname | OS / Arch | INSTALL | BUILD | CHECK | BUILD BIN | ||||||
| KEGGdzPathwaysGEO 1.16.0 Gaurav Bhatti
| malbec1 | Linux (Ubuntu 16.04.1 LTS) / x86_64 | OK | OK | [ OK ] |
| Package: KEGGdzPathwaysGEO |
| Version: 1.16.0 |
| Command: /home/biocbuild/bbs-3.6-bioc/R/bin/R CMD check --no-vignettes --timings KEGGdzPathwaysGEO_1.16.0.tar.gz |
| StartedAt: 2018-04-12 10:10:01 -0400 (Thu, 12 Apr 2018) |
| EndedAt: 2018-04-12 10:15:07 -0400 (Thu, 12 Apr 2018) |
| EllapsedTime: 306.3 seconds |
| RetCode: 0 |
| Status: OK |
| CheckDir: KEGGdzPathwaysGEO.Rcheck |
| Warnings: 0 |
##############################################################################
##############################################################################
###
### Running command:
###
### /home/biocbuild/bbs-3.6-bioc/R/bin/R CMD check --no-vignettes --timings KEGGdzPathwaysGEO_1.16.0.tar.gz
###
##############################################################################
##############################################################################
* using log directory ‘/home/biocbuild/bbs-3.6-data-experiment/meat/KEGGdzPathwaysGEO.Rcheck’
* using R version 3.4.4 (2018-03-15)
* using platform: x86_64-pc-linux-gnu (64-bit)
* using session charset: UTF-8
* using option ‘--no-vignettes’
* checking for file ‘KEGGdzPathwaysGEO/DESCRIPTION’ ... OK
* checking extension type ... Package
* this is package ‘KEGGdzPathwaysGEO’ version ‘1.16.0’
* checking package namespace information ... OK
* checking package dependencies ... OK
* checking if this is a source package ... OK
* checking if there is a namespace ... OK
* checking for hidden files and directories ... OK
* checking for portable file names ... OK
* checking for sufficient/correct file permissions ... OK
* checking whether package ‘KEGGdzPathwaysGEO’ can be installed ... OK
* checking installed package size ... NOTE
installed size is 300.8Mb
sub-directories of 1Mb or more:
data 300.6Mb
* checking package directory ... OK
* checking DESCRIPTION meta-information ... OK
* checking top-level files ... OK
* checking for left-over files ... OK
* checking index information ... OK
* checking package subdirectories ... OK
* checking R files for non-ASCII characters ... OK
* checking R files for syntax errors ... OK
* checking whether the package can be loaded ... OK
* checking whether the package can be loaded with stated dependencies ... OK
* checking whether the package can be unloaded cleanly ... OK
* checking whether the namespace can be loaded with stated dependencies ... OK
* checking whether the namespace can be unloaded cleanly ... OK
* checking dependencies in R code ... NOTE
Namespaces in Imports field not imported from:
‘Biobase’ ‘BiocGenerics’
All declared Imports should be used.
* checking S3 generic/method consistency ... OK
* checking replacement functions ... OK
* checking foreign function calls ... OK
* checking R code for possible problems ... OK
* checking Rd files ... OK
* checking Rd metadata ... OK
* checking Rd cross-references ... OK
* checking for missing documentation entries ... OK
* checking for code/documentation mismatches ... OK
* checking Rd \usage sections ... OK
* checking Rd contents ... OK
* checking for unstated dependencies in examples ... OK
* checking contents of ‘data’ directory ... OK
* checking data for non-ASCII characters ... OK
* checking data for ASCII and uncompressed saves ... OK
* checking examples ... OK
* checking PDF version of manual ... OK
* DONE
Status: 2 NOTEs
See
‘/home/biocbuild/bbs-3.6-data-experiment/meat/KEGGdzPathwaysGEO.Rcheck/00check.log’
for details.
KEGGdzPathwaysGEO.Rcheck/00install.out
* installing *source* package ‘KEGGdzPathwaysGEO’ ... ** R ** data ** preparing package for lazy loading ** help *** installing help indices ** building package indices ** testing if installed package can be loaded * DONE (KEGGdzPathwaysGEO)
KEGGdzPathwaysGEO.Rcheck/KEGGdzPathwaysGEO-Ex.timings
| name | user | system | elapsed | |
| GSE1297 | 0.092 | 0.008 | 0.100 | |
| GSE14762 | 0.164 | 0.004 | 0.169 | |
| GSE15471 | 0.324 | 0.020 | 0.345 | |
| GSE16515 | 0.172 | 0.020 | 0.192 | |
| GSE18842 | 0.404 | 0.004 | 0.408 | |
| GSE19188 | 0.628 | 0.040 | 0.670 | |
| GSE19728 | 0.144 | 0.000 | 0.142 | |
| GSE20153 | 0.116 | 0.000 | 0.116 | |
| GSE20291 | 0.064 | 0.004 | 0.069 | |
| GSE21354 | 0.116 | 0.000 | 0.116 | |
| GSE3467 | 0.148 | 0.004 | 0.151 | |
| GSE3585 | 0.04 | 0.00 | 0.04 | |
| GSE3678 | 0.104 | 0.000 | 0.104 | |
| GSE4107 | 0.124 | 0.004 | 0.127 | |
| GSE5281_EC | 0.128 | 0.004 | 0.131 | |
| GSE5281_HIP | 0.136 | 0.000 | 0.133 | |
| GSE5281_VCX | 0.176 | 0.000 | 0.175 | |
| GSE6956AA | 0.040 | 0.000 | 0.042 | |
| GSE6956C | 0.040 | 0.000 | 0.044 | |
| GSE781 | 0.044 | 0.000 | 0.046 | |
| GSE8671 | 0.276 | 0.012 | 0.286 | |
| GSE8762 | 0.132 | 0.004 | 0.134 | |
| GSE9348 | 0.360 | 0.004 | 0.366 | |
| GSE9476 | 0.120 | 0.004 | 0.124 | |
| KEGGdzPathwaysGEO-package | 0.340 | 0.020 | 0.361 | |