| Back to Multiple platform build/check report for BioC 3.6 |
|
This page was generated on 2018-04-12 13:11:48 -0400 (Thu, 12 Apr 2018).
| Package 677/1472 | Hostname | OS / Arch | INSTALL | BUILD | CHECK | BUILD BIN | ||||||
| iClusterPlus 1.14.0 Qianxing Mo
| malbec1 | Linux (Ubuntu 16.04.1 LTS) / x86_64 | [ OK ] | OK | OK | |||||||
| tokay1 | Windows Server 2012 R2 Standard / x64 | OK | OK | OK | OK | |||||||
| veracruz1 | OS X 10.11.6 El Capitan / x86_64 | OK | OK | WARNINGS | OK |
| Package: iClusterPlus |
| Version: 1.14.0 |
| Command: /home/biocbuild/bbs-3.6-bioc/R/bin/R CMD INSTALL iClusterPlus |
| StartedAt: 2018-04-11 17:56:36 -0400 (Wed, 11 Apr 2018) |
| EndedAt: 2018-04-11 17:56:52 -0400 (Wed, 11 Apr 2018) |
| EllapsedTime: 15.2 seconds |
| RetCode: 0 |
| Status: OK |
##############################################################################
##############################################################################
###
### Running command:
###
### /home/biocbuild/bbs-3.6-bioc/R/bin/R CMD INSTALL iClusterPlus
###
##############################################################################
##############################################################################
* installing to library ‘/home/biocbuild/bbs-3.6-bioc/R/library’
* installing *source* package ‘iClusterPlus’ ...
This package has only been tested with gfortran.
So some checks are needed.
R_HOME is /home/biocbuild/bbs-3.6-bioc/R
Attempting to determine R_ARCH...
R_ARCH is
Attempting to detect how R was configured for Fortran 90....
R configured for gfortran; Good!
configure: creating ./config.status
config.status: creating src/Makevars
** libs
gcc -I/home/biocbuild/bbs-3.6-bioc/R/include -DNDEBUG -I/usr/local/include -fpic -g -O2 -Wall -c iClusterPlus.c -o iClusterPlus.o
iClusterPlus.c: In function ‘iClusterCore’:
iClusterPlus.c:1098:60: warning: unused variable ‘tempm3’ [-Wunused-variable]
double *btp,*btpb, *EXZt,*tempX,*tempm0,*tempm1,*tempm2,*tempm3,*BOld,*PhivecOld, *XtXdiag;
^
iClusterPlus.c:1096:18: warning: variable ‘pp’ set but not used [-Wunused-but-set-variable]
int i, j,kk,pk,pp,s,t;
^
gfortran -fdefault-real-8 -ffixed-form -fpic -g -O2 -c newGLMnet.f90 -o newGLMnet.o
gfortran -shared -L/home/biocbuild/bbs-3.6-bioc/R/lib -L/usr/local/lib -o iClusterPlus.so iClusterPlus.o newGLMnet.o -L/home/biocbuild/bbs-3.6-bioc/R/lib -lRlapack -L/home/biocbuild/bbs-3.6-bioc/R/lib -lRblas -lgfortran -lm -lquadmath -L/home/biocbuild/bbs-3.6-bioc/R/lib -lR
installing to /home/biocbuild/bbs-3.6-bioc/R/library/iClusterPlus/libs
** R
** data
*** moving datasets to lazyload DB
** demo
** inst
** preparing package for lazy loading
** help
*** installing help indices
** building package indices
** installing vignettes
‘iClusterPlus.Rnw’ using ‘UTF-8’
** testing if installed package can be loaded
* DONE (iClusterPlus)