| Back to Multiple platform build/check report for BioC 3.6 | 
 | 
This page was generated on 2018-04-12 13:23:31 -0400 (Thu, 12 Apr 2018).
| Package 1395/1472 | Hostname | OS / Arch | INSTALL | BUILD | CHECK | BUILD BIN | ||||||
| TFBSTools 1.16.0 Ge Tan 
 | malbec1 | Linux (Ubuntu 16.04.1 LTS) / x86_64 | OK | OK | OK |  | ||||||
| tokay1 | Windows Server 2012 R2 Standard / x64 | OK | [ OK ] | WARNINGS | OK |  | ||||||
| veracruz1 | OS X 10.11.6 El Capitan / x86_64 | OK | OK | OK | OK |  | 
| Package: TFBSTools | 
| Version: 1.16.0 | 
| Command: chmod a+r TFBSTools -R && C:\Users\biocbuild\bbs-3.6-bioc\R\bin\R.exe CMD build --keep-empty-dirs --no-resave-data TFBSTools | 
| StartedAt: 2018-04-11 20:07:23 -0400 (Wed, 11 Apr 2018) | 
| EndedAt: 2018-04-11 20:09:43 -0400 (Wed, 11 Apr 2018) | 
| EllapsedTime: 140.6 seconds | 
| RetCode: 0 | 
| Status: OK | 
| PackageFile: TFBSTools_1.16.0.tar.gz | 
| PackageFileSize: 510.1 KiB | 
############################################################################## ############################################################################## ### ### Running command: ### ### chmod a+r TFBSTools -R && C:\Users\biocbuild\bbs-3.6-bioc\R\bin\R.exe CMD build --keep-empty-dirs --no-resave-data TFBSTools ### ############################################################################## ############################################################################## * checking for file 'TFBSTools/DESCRIPTION' ... OK * preparing 'TFBSTools': * checking DESCRIPTION meta-information ... OK * cleaning src * installing the package to build vignettes * creating vignettes ... OK * cleaning src * checking for LF line-endings in source and make files and shell scripts * checking for empty or unneeded directories * looking to see if a 'data/datalist' file should be added * building 'TFBSTools_1.16.0.tar.gz'