| Back to Multiple platform build/check report for BioC 3.6 | 
 | 
This page was generated on 2018-04-12 13:11:40 -0400 (Thu, 12 Apr 2018).
| Package 1395/1472 | Hostname | OS / Arch | INSTALL | BUILD | CHECK | BUILD BIN | ||||||
| TFBSTools 1.16.0 Ge Tan 
 | malbec1 | Linux (Ubuntu 16.04.1 LTS) / x86_64 | OK | OK | [ OK ] |  | ||||||
| tokay1 | Windows Server 2012 R2 Standard / x64 | OK | OK | WARNINGS | OK |  | ||||||
| veracruz1 | OS X 10.11.6 El Capitan / x86_64 | OK | OK | OK | OK |  | 
| Package: TFBSTools | 
| Version: 1.16.0 | 
| Command: /home/biocbuild/bbs-3.6-bioc/R/bin/R CMD check --no-vignettes --timings TFBSTools_1.16.0.tar.gz | 
| StartedAt: 2018-04-12 03:19:35 -0400 (Thu, 12 Apr 2018) | 
| EndedAt: 2018-04-12 03:24:23 -0400 (Thu, 12 Apr 2018) | 
| EllapsedTime: 288.7 seconds | 
| RetCode: 0 | 
| Status: OK | 
| CheckDir: TFBSTools.Rcheck | 
| Warnings: 0 | 
##############################################################################
##############################################################################
###
### Running command:
###
###   /home/biocbuild/bbs-3.6-bioc/R/bin/R CMD check --no-vignettes --timings TFBSTools_1.16.0.tar.gz
###
##############################################################################
##############################################################################
* using log directory ‘/home/biocbuild/bbs-3.6-bioc/meat/TFBSTools.Rcheck’
* using R version 3.4.4 (2018-03-15)
* using platform: x86_64-pc-linux-gnu (64-bit)
* using session charset: UTF-8
* using option ‘--no-vignettes’
* checking for file ‘TFBSTools/DESCRIPTION’ ... OK
* checking extension type ... Package
* this is package ‘TFBSTools’ version ‘1.16.0’
* checking package namespace information ... OK
* checking package dependencies ... OK
* checking if this is a source package ... OK
* checking if there is a namespace ... OK
* checking for hidden files and directories ... OK
* checking for portable file names ... OK
* checking for sufficient/correct file permissions ... OK
* checking whether package ‘TFBSTools’ can be installed ... OK
* checking installed package size ... OK
* checking package directory ... OK
* checking ‘build’ directory ... OK
* checking DESCRIPTION meta-information ... OK
* checking top-level files ... OK
* checking for left-over files ... OK
* checking index information ... OK
* checking package subdirectories ... OK
* checking R files for non-ASCII characters ... OK
* checking R files for syntax errors ... OK
* checking whether the package can be loaded ... OK
* checking whether the package can be loaded with stated dependencies ... OK
* checking whether the package can be unloaded cleanly ... OK
* checking whether the namespace can be loaded with stated dependencies ... OK
* checking whether the namespace can be unloaded cleanly ... OK
* checking dependencies in R code ... NOTE
Unexported objects imported by ':::' calls:
  ‘S4Vectors:::new_SimpleList_from_list’ ‘seqLogo:::pwm2ic’
  See the note in ?`:::` about the use of this operator.
* checking S3 generic/method consistency ... OK
* checking replacement functions ... OK
* checking foreign function calls ... OK
* checking R code for possible problems ... OK
* checking Rd files ... OK
* checking Rd metadata ... OK
* checking Rd cross-references ... OK
* checking for missing documentation entries ... OK
* checking for code/documentation mismatches ... OK
* checking Rd \usage sections ... OK
* checking Rd contents ... OK
* checking for unstated dependencies in examples ... OK
* checking contents of ‘data’ directory ... OK
* checking data for non-ASCII characters ... OK
* checking data for ASCII and uncompressed saves ... OK
* checking line endings in C/C++/Fortran sources/headers ... OK
* checking line endings in Makefiles ... OK
* checking compilation flags in Makevars ... OK
* checking for GNU extensions in Makefiles ... OK
* checking for portable use of $(BLAS_LIBS) and $(LAPACK_LIBS) ... OK
* checking compiled code ... OK
* checking installed files from ‘inst/doc’ ... OK
* checking files in ‘vignettes’ ... OK
* checking examples ... OK
Examples with CPU or elapsed time > 5s
                        user system elapsed
SiteSetList-class     55.972  0.048  56.049
searchAln-methods      7.284  0.008   7.314
SiteSet-class          6.728  0.032   6.762
toGRangesList-methods  6.028  0.000   6.035
* checking for unstated dependencies in ‘tests’ ... OK
* checking tests ...
  Running ‘testthat.R’
 OK
* checking for unstated dependencies in vignettes ... OK
* checking package vignettes in ‘inst/doc’ ... OK
* checking running R code from vignettes ... SKIPPED
* checking re-building of vignette outputs ... SKIPPED
* checking PDF version of manual ... OK
* DONE
Status: 1 NOTE
See
  ‘/home/biocbuild/bbs-3.6-bioc/meat/TFBSTools.Rcheck/00check.log’
for details.
TFBSTools.Rcheck/00install.out
* installing *source* package ‘TFBSTools’ ...
** libs
gcc -I/home/biocbuild/bbs-3.6-bioc/R/include -DNDEBUG   -I/usr/local/include   -fpic  -g -O2  -Wall -c matrixAlignerDynamic.c -o matrixAlignerDynamic.o
matrixAlignerDynamic.c: In function ‘score’:
matrixAlignerDynamic.c:235:22: warning: ‘best_pntr’ may be used uninitialized in this function [-Wmaybe-uninitialized]
   while (current_pntr->father != NULL){ // while the father of the current pointer exists, walk through the best posible alignment
                      ^
gcc -I/home/biocbuild/bbs-3.6-bioc/R/include -DNDEBUG   -I/usr/local/include   -fpic  -g -O2  -Wall -c R_init_TFBSTools.c -o R_init_TFBSTools.o
g++ -shared -L/home/biocbuild/bbs-3.6-bioc/R/lib -L/usr/local/lib -o TFBSTools.so matrixAlignerDynamic.o R_init_TFBSTools.o -L/home/biocbuild/bbs-3.6-bioc/R/lib -lR
installing to /home/biocbuild/bbs-3.6-bioc/meat/TFBSTools.Rcheck/TFBSTools/libs
** R
** data
*** moving datasets to lazyload DB
** inst
** preparing package for lazy loading
Creating a new generic function for ‘seqLogo’ in package ‘TFBSTools’
** help
*** installing help indices
** building package indices
** installing vignettes
** testing if installed package can be loaded
* DONE (TFBSTools)
TFBSTools.Rcheck/tests/testthat.Rout
R version 3.4.4 (2018-03-15) -- "Someone to Lean On"
Copyright (C) 2018 The R Foundation for Statistical Computing
Platform: x86_64-pc-linux-gnu (64-bit)
R is free software and comes with ABSOLUTELY NO WARRANTY.
You are welcome to redistribute it under certain conditions.
Type 'license()' or 'licence()' for distribution details.
R is a collaborative project with many contributors.
Type 'contributors()' for more information and
'citation()' on how to cite R or R packages in publications.
Type 'demo()' for some demos, 'help()' for on-line help, or
'help.start()' for an HTML browser interface to help.
Type 'q()' to quit R.
> library(testthat)
> library(TFBSTools)
> 
> test_check("TFBSTools")
══ testthat results  ═══════════════════════════════════════════════════════════
OK: 34 SKIPPED: 0 FAILED: 0
> 
> proc.time()
   user  system elapsed 
 10.700   0.176  10.880 
TFBSTools.Rcheck/TFBSTools-Ex.timings
| name | user | system | elapsed | |
| IUPAC2Matrix | 0.000 | 0.000 | 0.001 | |
| MA0004.1 | 0.004 | 0.000 | 0.005 | |
| MotifSet-class | 0 | 0 | 0 | |
| PFMSimilarity-methods | 0.384 | 0.008 | 0.485 | |
| PWMSimilarity-methods | 0.032 | 0.000 | 0.030 | |
| SiteSet-class | 6.728 | 0.032 | 6.762 | |
| SiteSetList-class | 55.972 | 0.048 | 56.049 | |
| TFFM-class | 0.024 | 0.000 | 0.027 | |
| XMatrix-class | 0.012 | 0.000 | 0.009 | |
| XMatrixList-class | 0.004 | 0.000 | 0.003 | |
| deleteMatrixHavingID-methods | 0.060 | 0.004 | 0.064 | |
| dmmEM-methods | 0.000 | 0.000 | 0.001 | |
| getEmissionProb | 0.276 | 0.004 | 0.281 | |
| getMatrixByID-methods | 0.236 | 0.004 | 0.239 | |
| getMatrixSet-methods | 0.000 | 0.000 | 0.001 | |
| getPosProb | 0.208 | 0.000 | 0.209 | |
| makeFlatFileDir | 0 | 0 | 0 | |
| parseMEMEOutput | 0.112 | 0.000 | 0.110 | |
| permuteMatrix-methods | 0.020 | 0.000 | 0.022 | |
| rPWMDmm-methods | 0 | 0 | 0 | |
| readJASPARMatrix | 0.028 | 0.000 | 0.028 | |
| readXMLTFFM | 0.024 | 0.000 | 0.022 | |
| runMEME-methods | 0 | 0 | 0 | |
| sampleRanges | 0.276 | 0.000 | 0.275 | |
| searchAln-methods | 7.284 | 0.008 | 7.314 | |
| searchPairBSgenome-methods | 0.000 | 0.000 | 0.001 | |
| searchSeq-methods | 0.708 | 0.008 | 0.717 | |
| seqLogo | 1.728 | 0.008 | 1.741 | |
| shannon.entropy | 0.000 | 0.000 | 0.001 | |
| toGRangesList-methods | 6.028 | 0.000 | 6.035 | |
| toICM-methods | 0.040 | 0.000 | 0.044 | |
| toPWM-methods | 0.004 | 0.000 | 0.008 | |