| Back to Multiple platform build/check report for BioC 3.6 | 
 | 
This page was generated on 2018-04-12 13:36:03 -0400 (Thu, 12 Apr 2018).
| Package 1160/1472 | Hostname | OS / Arch | INSTALL | BUILD | CHECK | BUILD BIN | ||||||
| ReportingTools 2.17.3 Jason A. Hackney 
 | malbec1 | Linux (Ubuntu 16.04.1 LTS) / x86_64 | OK | OK | OK |  | ||||||
| tokay1 | Windows Server 2012 R2 Standard / x64 | OK | OK | OK | OK |  | ||||||
| veracruz1 | OS X 10.11.6 El Capitan / x86_64 | OK | OK | OK | [ OK ] |  | 
| Package: ReportingTools | 
| Version: 2.17.3 | 
| Command: rm -rf ReportingTools.buildbin-libdir && mkdir ReportingTools.buildbin-libdir && /Users/biocbuild/BBS/utils/build-universal.sh ReportingTools_2.17.3.tar.gz /Library/Frameworks/R.framework/Versions/Current/Resources/bin/R ReportingTools.buildbin-libdir | 
| StartedAt: 2018-04-12 12:07:07 -0400 (Thu, 12 Apr 2018) | 
| EndedAt: 2018-04-12 12:07:40 -0400 (Thu, 12 Apr 2018) | 
| EllapsedTime: 33.7 seconds | 
| RetCode: 0 | 
| Status: OK | 
| PackageFile: ReportingTools_2.17.3.tgz | 
| PackageFileSize: 2.191 MiB | 
############################################################################## ############################################################################## ### ### Running command: ### ### rm -rf ReportingTools.buildbin-libdir && mkdir ReportingTools.buildbin-libdir && /Users/biocbuild/BBS/utils/build-universal.sh ReportingTools_2.17.3.tar.gz /Library/Frameworks/R.framework/Versions/Current/Resources/bin/R ReportingTools.buildbin-libdir ### ############################################################################## ############################################################################## >>>>>>> >>>>>>> INSTALLATION WITH 'R CMD INSTALL --preclean --no-multiarch --library=ReportingTools.buildbin-libdir ReportingTools_2.17.3.tar.gz' >>>>>>> * installing *source* package ‘ReportingTools’ ... ** R ** data ** inst ** byte-compile and prepare package for lazy loading in method for 'objectToHTML' with signature 'object="ggbio"': no definition for class "ggbio" Note: no visible binding for '<<-' assignment to '.reportDirectory' Note: no visible binding for '<<-' assignment to '.reportDirectory' ** help *** installing help indices ** building package indices ** installing vignettes ** testing if installed package can be loaded * DONE (ReportingTools)