| Back to Multiple platform build/check report for BioC 3.6 |
|
This page was generated on 2018-04-12 13:22:07 -0400 (Thu, 12 Apr 2018).
| Package 1160/1472 | Hostname | OS / Arch | INSTALL | BUILD | CHECK | BUILD BIN | ||||||
| ReportingTools 2.17.3 Jason A. Hackney
| malbec1 | Linux (Ubuntu 16.04.1 LTS) / x86_64 | OK | OK | OK | |||||||
| tokay1 | Windows Server 2012 R2 Standard / x64 | [ OK ] | OK | OK | OK | |||||||
| veracruz1 | OS X 10.11.6 El Capitan / x86_64 | OK | OK | OK | OK |
| Package: ReportingTools |
| Version: 2.17.3 |
| Command: rm -rf ReportingTools.buildbin-libdir && mkdir ReportingTools.buildbin-libdir && C:\cygwin\bin\curl.exe -O https://malbec1.bioconductor.org/BBS/3.6/bioc/src/contrib/ReportingTools_2.17.3.tar.gz && C:\Users\biocbuild\bbs-3.6-bioc\R\bin\R.exe CMD INSTALL --build --library=ReportingTools.buildbin-libdir --merge-multiarch ReportingTools_2.17.3.tar.gz && C:\Users\biocbuild\bbs-3.6-bioc\R\bin\R.exe CMD INSTALL ReportingTools_2.17.3.zip && rm ReportingTools_2.17.3.tar.gz ReportingTools_2.17.3.zip |
| StartedAt: 2018-04-11 18:56:21 -0400 (Wed, 11 Apr 2018) |
| EndedAt: 2018-04-11 18:58:39 -0400 (Wed, 11 Apr 2018) |
| EllapsedTime: 137.9 seconds |
| RetCode: 0 |
| Status: OK |
##############################################################################
##############################################################################
###
### Running command:
###
### rm -rf ReportingTools.buildbin-libdir && mkdir ReportingTools.buildbin-libdir && C:\cygwin\bin\curl.exe -O https://malbec1.bioconductor.org/BBS/3.6/bioc/src/contrib/ReportingTools_2.17.3.tar.gz && C:\Users\biocbuild\bbs-3.6-bioc\R\bin\R.exe CMD INSTALL --build --library=ReportingTools.buildbin-libdir --merge-multiarch ReportingTools_2.17.3.tar.gz && C:\Users\biocbuild\bbs-3.6-bioc\R\bin\R.exe CMD INSTALL ReportingTools_2.17.3.zip && rm ReportingTools_2.17.3.tar.gz ReportingTools_2.17.3.zip
###
##############################################################################
##############################################################################
% Total % Received % Xferd Average Speed Time Time Time Current
Dload Upload Total Spent Left Speed
0 0 0 0 0 0 0 0 --:--:-- --:--:-- --:--:-- 0
100 1098k 100 1098k 0 0 21.3M 0 --:--:-- --:--:-- --:--:-- 23.3M
install for i386
* installing *source* package 'ReportingTools' ...
** R
** data
** inst
** byte-compile and prepare package for lazy loading
in method for 'objectToHTML' with signature 'object="ggbio"': no definition for class "ggbio"
Note: no visible binding for '<<-' assignment to '.reportDirectory'
Note: no visible binding for '<<-' assignment to '.reportDirectory'
** help
*** installing help indices
converting help for package 'ReportingTools'
finding HTML links ... done
BaseReportType-class html
CSVFile-class html
CSVFile html
DataPackage-class html
DataPackage html
HTMLReport-class html
HTMLReport html
HTMLReportRef-class html
Link html
ReportHandlers-class html
addReportColumns-methods html
custHeaderPanel html
filename-methods html
finish-methods html
makeDESeqDF html
mockRnaSeqData html
objectToHTML-methods html
publish-methods html
finding level-2 HTML links ... done
readReport html
reporting.theme html
reporting.theme.alternate html
toReportDF-methods html
validConnection html
** building package indices
** installing vignettes
** testing if installed package can be loaded
In R CMD INSTALL
install for x64
* installing *source* package 'ReportingTools' ...
** testing if installed package can be loaded
* MD5 sums
packaged installation of 'ReportingTools' as ReportingTools_2.17.3.zip
* DONE (ReportingTools)
In R CMD INSTALL
In R CMD INSTALL
* installing to library 'C:/Users/biocbuild/bbs-3.6-bioc/R/library'
package 'ReportingTools' successfully unpacked and MD5 sums checked
In R CMD INSTALL