| Back to Multiple platform build/check report for BioC 3.6 |
|
This page was generated on 2018-04-12 13:25:45 -0400 (Thu, 12 Apr 2018).
| Package 1082/1472 | Hostname | OS / Arch | INSTALL | BUILD | CHECK | BUILD BIN | ||||||
| ProtGenerics 1.10.0 Laurent Gatto
| malbec1 | Linux (Ubuntu 16.04.1 LTS) / x86_64 | OK | OK | OK | |||||||
| tokay1 | Windows Server 2012 R2 Standard / x64 | [ OK ] | OK | WARNINGS | OK | |||||||
| veracruz1 | OS X 10.11.6 El Capitan / x86_64 | OK | OK | OK | OK |
| Package: ProtGenerics |
| Version: 1.10.0 |
| Command: rm -rf ProtGenerics.buildbin-libdir && mkdir ProtGenerics.buildbin-libdir && C:\cygwin\bin\curl.exe -O https://malbec1.bioconductor.org/BBS/3.6/bioc/src/contrib/ProtGenerics_1.10.0.tar.gz && C:\Users\biocbuild\bbs-3.6-bioc\R\bin\R.exe CMD INSTALL --build --library=ProtGenerics.buildbin-libdir --merge-multiarch ProtGenerics_1.10.0.tar.gz && C:\Users\biocbuild\bbs-3.6-bioc\R\bin\R.exe CMD INSTALL ProtGenerics_1.10.0.zip && rm ProtGenerics_1.10.0.tar.gz ProtGenerics_1.10.0.zip |
| StartedAt: 2018-04-11 18:12:07 -0400 (Wed, 11 Apr 2018) |
| EndedAt: 2018-04-11 18:12:29 -0400 (Wed, 11 Apr 2018) |
| EllapsedTime: 22.4 seconds |
| RetCode: 0 |
| Status: OK |
##############################################################################
##############################################################################
###
### Running command:
###
### rm -rf ProtGenerics.buildbin-libdir && mkdir ProtGenerics.buildbin-libdir && C:\cygwin\bin\curl.exe -O https://malbec1.bioconductor.org/BBS/3.6/bioc/src/contrib/ProtGenerics_1.10.0.tar.gz && C:\Users\biocbuild\bbs-3.6-bioc\R\bin\R.exe CMD INSTALL --build --library=ProtGenerics.buildbin-libdir --merge-multiarch ProtGenerics_1.10.0.tar.gz && C:\Users\biocbuild\bbs-3.6-bioc\R\bin\R.exe CMD INSTALL ProtGenerics_1.10.0.zip && rm ProtGenerics_1.10.0.tar.gz ProtGenerics_1.10.0.zip
###
##############################################################################
##############################################################################
% Total % Received % Xferd Average Speed Time Time Time Current
Dload Upload Total Spent Left Speed
0 0 0 0 0 0 0 0 --:--:-- --:--:-- --:--:-- 0
100 4124 100 4124 0 0 21712 0 --:--:-- --:--:-- --:--:-- 22053
100 4124 100 4124 0 0 21696 0 --:--:-- --:--:-- --:--:-- 22053
install for i386
* installing *source* package 'ProtGenerics' ...
** R
** preparing package for lazy loading
** help
*** installing help indices
converting help for package 'ProtGenerics'
finding HTML links ... done
protgenerics html
Rd warning: C:/Users/biocbuild/bbs-3.6-bioc/tmpdir/RtmpCIpvHB/R.INSTALL61c3c9e248a/ProtGenerics/man/protgenerics.Rd:129: missing file link 'selectMethod'
** building package indices
** testing if installed package can be loaded
In R CMD INSTALL
install for x64
* installing *source* package 'ProtGenerics' ...
** testing if installed package can be loaded
* MD5 sums
packaged installation of 'ProtGenerics' as ProtGenerics_1.10.0.zip
* DONE (ProtGenerics)
In R CMD INSTALL
In R CMD INSTALL
* installing to library 'C:/Users/biocbuild/bbs-3.6-bioc/R/library'
package 'ProtGenerics' successfully unpacked and MD5 sums checked
In R CMD INSTALL