Back to Multiple platform build/check report for BioC 3.6 |
|
This page was generated on 2018-04-12 13:25:46 -0400 (Thu, 12 Apr 2018).
Package 1082/1472 | Hostname | OS / Arch | INSTALL | BUILD | CHECK | BUILD BIN | ||||||
ProtGenerics 1.10.0 Laurent Gatto
| malbec1 | Linux (Ubuntu 16.04.1 LTS) / x86_64 | OK | OK | OK | ![]() | ||||||
tokay1 | Windows Server 2012 R2 Standard / x64 | OK | OK | WARNINGS | [ OK ] | ![]() | ||||||
veracruz1 | OS X 10.11.6 El Capitan / x86_64 | OK | OK | OK | OK | ![]() |
Package: ProtGenerics |
Version: 1.10.0 |
Command: cd ProtGenerics.buildbin-libdir/ProtGenerics && zip -r ../../ProtGenerics_1.10.0.zip . & cd ../.. |
StartedAt: 2018-04-12 04:57:58 -0400 (Thu, 12 Apr 2018) |
EndedAt: 2018-04-12 04:58:28 -0400 (Thu, 12 Apr 2018) |
EllapsedTime: 30.2 seconds |
RetCode: 0 |
Status: OK |
PackageFile: ProtGenerics_1.10.0.zip |
PackageFileSize: 69.37 KiB |
############################################################################## ############################################################################## ### ### Running command: ### ### cd ProtGenerics.buildbin-libdir/ProtGenerics && zip -r ../../ProtGenerics_1.10.0.zip . & cd ../.. ### ############################################################################## ############################################################################## adding: DESCRIPTION (332 bytes security) (deflated 40%) adding: help/ (372 bytes security) (stored 0%) adding: help/aliases.rds (332 bytes security) (stored 0%) adding: help/AnIndex (332 bytes security) (deflated 69%) adding: help/paths.rds (332 bytes security) (stored 0%) adding: help/ProtGenerics.rdb (332 bytes security) (stored 0%) adding: help/ProtGenerics.rdx (332 bytes security) (stored 0%) adding: html/ (372 bytes security) (stored 0%) adding: html/00Index.html (332 bytes security) (deflated 84%) adding: html/protgenerics.html (332 bytes security) (deflated 60%) adding: html/R.css (332 bytes security) (deflated 75%) adding: INDEX (332 bytes security) (deflated 32%) adding: MD5 (332 bytes security) (deflated 42%) adding: Meta/ (372 bytes security) (stored 0%) adding: Meta/features.rds (332 bytes security) (stored 0%) adding: Meta/hsearch.rds (332 bytes security) (stored 0%) adding: Meta/links.rds (332 bytes security) (stored 0%) adding: Meta/nsInfo.rds (332 bytes security) (stored 0%) adding: Meta/package.rds (332 bytes security) (stored 0%) adding: Meta/Rd.rds (332 bytes security) (stored 0%) adding: NAMESPACE (332 bytes security) (deflated 55%) adding: NEWS (332 bytes security) (deflated 70%) adding: R/ (372 bytes security) (stored 0%) adding: R/ProtGenerics (332 bytes security) (deflated 41%) adding: R/ProtGenerics.rdb (332 bytes security) (deflated 39%) adding: R/ProtGenerics.rdx (332 bytes security) (stored 0%)