| Back to Multiple platform build/check report for BioC 3.6 |
|
This page was generated on 2018-04-08 14:23:15 -0400 (Sun, 08 Apr 2018).
| Package 903/1472 | Hostname | OS / Arch | INSTALL | BUILD | CHECK | BUILD BIN | ||||||
| MSnbase 2.4.2 Laurent Gatto
| malbec1 | Linux (Ubuntu 16.04.1 LTS) / x86_64 | OK | OK | [ OK ] | |||||||
| tokay1 | Windows Server 2012 R2 Standard / x64 | OK | OK | WARNINGS | OK | |||||||
| veracruz1 | OS X 10.11.6 El Capitan / x86_64 | OK | ERROR | skipped | skipped |
| Package: MSnbase |
| Version: 2.4.2 |
| Command: /home/biocbuild/bbs-3.6-bioc/R/bin/R CMD check --no-vignettes --timings MSnbase_2.4.2.tar.gz |
| StartedAt: 2018-04-08 01:39:28 -0400 (Sun, 08 Apr 2018) |
| EndedAt: 2018-04-08 01:52:18 -0400 (Sun, 08 Apr 2018) |
| EllapsedTime: 770.1 seconds |
| RetCode: 0 |
| Status: OK |
| CheckDir: MSnbase.Rcheck |
| Warnings: 0 |
##############################################################################
##############################################################################
###
### Running command:
###
### /home/biocbuild/bbs-3.6-bioc/R/bin/R CMD check --no-vignettes --timings MSnbase_2.4.2.tar.gz
###
##############################################################################
##############################################################################
* using log directory ‘/home/biocbuild/bbs-3.6-bioc/meat/MSnbase.Rcheck’
* using R version 3.4.4 (2018-03-15)
* using platform: x86_64-pc-linux-gnu (64-bit)
* using session charset: UTF-8
* using option ‘--no-vignettes’
* checking for file ‘MSnbase/DESCRIPTION’ ... OK
* this is package ‘MSnbase’ version ‘2.4.2’
* checking package namespace information ... OK
* checking package dependencies ... OK
* checking if this is a source package ... OK
* checking if there is a namespace ... OK
* checking for hidden files and directories ... OK
* checking for portable file names ... OK
* checking for sufficient/correct file permissions ... OK
* checking whether package ‘MSnbase’ can be installed ... OK
* checking installed package size ... NOTE
installed size is 10.5Mb
sub-directories of 1Mb or more:
data 1.9Mb
doc 5.7Mb
* checking package directory ... OK
* checking ‘build’ directory ... OK
* checking DESCRIPTION meta-information ... NOTE
Authors@R field gives more than one person with maintainer role:
Laurent Gatto <lg390@cam.ac.uk> [aut, cre]
Johannes Rainer <Johannes.Rainer@eurac.edu> [aut, cre]
Sebastian Gibb <mail@sebastiangibb.de> [aut, cre]
* checking top-level files ... OK
* checking for left-over files ... OK
* checking index information ... OK
* checking package subdirectories ... OK
* checking R files for non-ASCII characters ... OK
* checking R files for syntax errors ... OK
* checking whether the package can be loaded ... OK
* checking whether the package can be loaded with stated dependencies ... OK
* checking whether the package can be unloaded cleanly ... OK
* checking whether the namespace can be loaded with stated dependencies ... OK
* checking whether the namespace can be unloaded cleanly ... OK
* checking dependencies in R code ... NOTE
Unexported objects imported by ':::' calls:
‘Biobase:::.showAnnotatedDataFrame’ ‘MALDIquant:::.estimateNoise’
‘MALDIquant:::.localMaxima’ ‘MALDIquant:::.movingAverage’
‘MALDIquant:::.savitzkyGolay’
See the note in ?`:::` about the use of this operator.
* checking S3 generic/method consistency ... OK
* checking replacement functions ... OK
* checking foreign function calls ... OK
* checking R code for possible problems ... OK
* checking Rd files ... OK
* checking Rd metadata ... OK
* checking Rd cross-references ... OK
* checking for missing documentation entries ... OK
* checking for code/documentation mismatches ... OK
* checking Rd \usage sections ... OK
* checking Rd contents ... OK
* checking for unstated dependencies in examples ... OK
* checking contents of ‘data’ directory ... OK
* checking data for non-ASCII characters ... OK
* checking data for ASCII and uncompressed saves ... OK
* checking line endings in C/C++/Fortran sources/headers ... OK
* checking compiled code ... OK
* checking installed files from ‘inst/doc’ ... OK
* checking files in ‘vignettes’ ... OK
* checking examples ... OK
Examples with CPU or elapsed time > 5s
user system elapsed
OnDiskMSnExp-class 11.256 0.148 11.491
chromatogram-MSnExp-method 7.128 0.216 7.512
MSnSet-class 6.636 0.020 6.675
averageMSnSet 6.148 0.056 6.445
MzTab-class 2.016 0.060 6.056
* checking for unstated dependencies in ‘tests’ ... OK
* checking tests ...
Running ‘testthat.R’
OK
* checking for unstated dependencies in vignettes ... OK
* checking package vignettes in ‘inst/doc’ ... OK
* checking running R code from vignettes ... SKIPPED
* checking re-building of vignette outputs ... SKIPPED
* checking PDF version of manual ... OK
* DONE
Status: 3 NOTEs
See
‘/home/biocbuild/bbs-3.6-bioc/meat/MSnbase.Rcheck/00check.log’
for details.
MSnbase.Rcheck/00install.out
* installing *source* package ‘MSnbase’ ...
** libs
g++ -I/home/biocbuild/bbs-3.6-bioc/R/include -DNDEBUG -I"/home/biocbuild/bbs-3.6-bioc/R/library/Rcpp/include" -I/usr/local/include -fpic -g -O2 -Wall -c RcppExports.cpp -o RcppExports.o
gcc -I/home/biocbuild/bbs-3.6-bioc/R/include -DNDEBUG -I"/home/biocbuild/bbs-3.6-bioc/R/library/Rcpp/include" -I/usr/local/include -fpic -g -O2 -Wall -c Spectrum1_class.c -o Spectrum1_class.o
Spectrum1_class.c:8:13: warning: ‘_new_Spectrum1’ defined but not used [-Wunused-function]
static SEXP _new_Spectrum1(SEXP msLevel, SEXP peaksCount, SEXP rt,
^
gcc -I/home/biocbuild/bbs-3.6-bioc/R/include -DNDEBUG -I"/home/biocbuild/bbs-3.6-bioc/R/library/Rcpp/include" -I/usr/local/include -fpic -g -O2 -Wall -c Spectrum2_class.c -o Spectrum2_class.o
Spectrum2_class.c:9:13: warning: ‘_new_Spectrum2’ defined but not used [-Wunused-function]
static SEXP _new_Spectrum2(SEXP msLevel, SEXP peaksCount, SEXP rt,
^
g++ -I/home/biocbuild/bbs-3.6-bioc/R/include -DNDEBUG -I"/home/biocbuild/bbs-3.6-bioc/R/library/Rcpp/include" -I/usr/local/include -fpic -g -O2 -Wall -c imp_neighbour_avg.cpp -o imp_neighbour_avg.o
gcc -I/home/biocbuild/bbs-3.6-bioc/R/include -DNDEBUG -I"/home/biocbuild/bbs-3.6-bioc/R/library/Rcpp/include" -I/usr/local/include -fpic -g -O2 -Wall -c utils.c -o utils.o
utils.c: In function ‘compar_double_dd_for_stable_asc_order’:
utils.c:92:15: warning: unused variable ‘ret’ [-Wunused-variable]
int i1, i2, ret;
^
utils.c: In function ‘compar_double_dd_for_stable_desc_order’:
utils.c:107:15: warning: unused variable ‘ret’ [-Wunused-variable]
int i1, i2, ret;
^
utils.c: In function ‘compar_double_asc_order’:
utils.c:123:18: warning: unused variable ‘ret’ [-Wunused-variable]
double d1, d2, ret;
^
utils.c: In function ‘compar_double_desc_order’:
utils.c:133:18: warning: unused variable ‘ret’ [-Wunused-variable]
double d1, d2, ret;
^
utils.c: At top level:
utils.c:121:12: warning: ‘compar_double_asc_order’ defined but not used [-Wunused-function]
static int compar_double_asc_order(const void *p1, const void *p2)
^
utils.c:131:12: warning: ‘compar_double_desc_order’ defined but not used [-Wunused-function]
static int compar_double_desc_order(const void *p1, const void *p2)
^
g++ -shared -L/home/biocbuild/bbs-3.6-bioc/R/lib -L/usr/local/lib -o MSnbase.so RcppExports.o Spectrum1_class.o Spectrum2_class.o imp_neighbour_avg.o utils.o -L/home/biocbuild/bbs-3.6-bioc/R/lib -lR
installing to /home/biocbuild/bbs-3.6-bioc/meat/MSnbase.Rcheck/MSnbase/libs
** R
** data
*** moving datasets to lazyload DB
Creating a new generic function for ‘smooth’ in package ‘MSnbase’
Creating a new generic function for ‘trimws’ in package ‘MSnbase’
in method for ‘coerce’ with signature ‘"IBSpectra","MSnSet"’: no definition for class “IBSpectra”
** inst
** preparing package for lazy loading
Creating a new generic function for ‘smooth’ in package ‘MSnbase’
Creating a new generic function for ‘trimws’ in package ‘MSnbase’
in method for ‘coerce’ with signature ‘"IBSpectra","MSnSet"’: no definition for class “IBSpectra”
** help
*** installing help indices
** building package indices
** installing vignettes
** testing if installed package can be loaded
* DONE (MSnbase)
MSnbase.Rcheck/tests/testthat.Rout
R version 3.4.4 (2018-03-15) -- "Someone to Lean On"
Copyright (C) 2018 The R Foundation for Statistical Computing
Platform: x86_64-pc-linux-gnu (64-bit)
R is free software and comes with ABSOLUTELY NO WARRANTY.
You are welcome to redistribute it under certain conditions.
Type 'license()' or 'licence()' for distribution details.
R is a collaborative project with many contributors.
Type 'contributors()' for more information and
'citation()' on how to cite R or R packages in publications.
Type 'demo()' for some demos, 'help()' for on-line help, or
'help.start()' for an HTML browser interface to help.
Type 'q()' to quit R.
> # setting R_TESTS to empty string because of
> # https://github.com/hadley/testthat/issues/144
> # revert this when that issue in R is fixed.
> Sys.setenv("R_TESTS" = "")
> library("testthat")
> library("MSnbase")
Loading required package: BiocGenerics
Loading required package: parallel
Attaching package: 'BiocGenerics'
The following objects are masked from 'package:parallel':
clusterApply, clusterApplyLB, clusterCall, clusterEvalQ,
clusterExport, clusterMap, parApply, parCapply, parLapply,
parLapplyLB, parRapply, parSapply, parSapplyLB
The following objects are masked from 'package:stats':
IQR, mad, sd, var, xtabs
The following objects are masked from 'package:base':
Filter, Find, Map, Position, Reduce, anyDuplicated, append,
as.data.frame, cbind, colMeans, colSums, colnames, do.call,
duplicated, eval, evalq, get, grep, grepl, intersect, is.unsorted,
lapply, lengths, mapply, match, mget, order, paste, pmax, pmax.int,
pmin, pmin.int, rank, rbind, rowMeans, rowSums, rownames, sapply,
setdiff, sort, table, tapply, union, unique, unsplit, which,
which.max, which.min
Loading required package: Biobase
Welcome to Bioconductor
Vignettes contain introductory material; view with
'browseVignettes()'. To cite Bioconductor, see
'citation("Biobase")', and for packages 'citation("pkgname")'.
Loading required package: mzR
Loading required package: Rcpp
Loading required package: BiocParallel
Loading required package: ProtGenerics
This is MSnbase version 2.4.2
Visit https://lgatto.github.io/MSnbase/ to get started.
Attaching package: 'MSnbase'
The following object is masked from 'package:stats':
smooth
The following object is masked from 'package:base':
trimws
> setMSnbaseVerbose(FALSE)
> ## register(SerialParam()) ## see issue 205
>
> ## Erwinia
> f <- msdata::proteomics(full.names = TRUE,
+ pattern = "TMT_Erwinia_1uLSike_Top10HCD_isol2_45stepped_60min_01.mzML.gz")
> tmt_erwinia_in_mem_ms1 <- readMSData(f, msLevel = 1)
> tmt_erwinia_in_mem_ms2 <- readMSData(f, msLevel = 2)
> tmt_erwinia_on_disk <- readMSData(f, mode = "onDisk")
> tmt_erwinia_on_disk_ms1 <- readMSData(f, msLevel = 1, mode = "onDisk")
> tmt_erwinia_on_disk_ms2 <- readMSData(f, msLevel = 2, mode = "onDisk")
>
> ## microtofq
> f <- c(system.file("microtofq/MM14.mzML", package = "msdata"),
+ system.file("microtofq/MM8.mzML", package = "msdata"))
> microtofq_in_mem_ms1 <- readMSData(f, msLevel = 1)
> microtofq_on_disk_ms1 <- readMSData(f, msLevel = 1, mode = "onDisk")
> microtofq_on_disk <- readMSData(f, mode = "onDisk")
>
> ## extdata mzML
> f <- dir(system.file(package = "MSnbase", dir = "extdata"),
+ full.name = TRUE, pattern = "mzXML$")
> extdata_mzXML_in_mem_ms2 <- readMSData(f, verbose = FALSE, centroided. = FALSE)
> extdata_mzXML_on_disk <- readMSData(f, centroided. = FALSE, mode = "onDisk")
> extdata_mzXML_on_disk_ms2 <- readMSData(f, msLevel = 2, centroided. = FALSE, mode = "onDisk")
>
>
> test_check("MSnbase")
Experiment data
Experimenter name: Laurent Gatto
Laboratory: Cambridge Centre for Proteomics (CCP)
Contact information: Laurent Gatto
Contact email: lg390@cam.ac.uk
Title: Example 'MSnExp' data set
URL:
PMIDs:
No abstract available.
Instrument :
Model: test (1)
Manufacturer:
Customisations:
Use 'msInfo(object)' for more MIAPE-MS information.
Experiment data
Experimenter name: Laurent Gatto
Laboratory: Cambridge Centre for Proteomics (CCP)
Contact information: Laurent Gatto
Contact email: lg390@cam.ac.uk
Title: Example 'MSnExp' data set
URL:
PMIDs:
No abstract available.
notes:
Note1:
First note
MIAPE-MS information:
1. General features:
Date stamp:
Contact: Laurent Gatto
Name: Laurent Gatto
Laboratory: Cambridge Centre for Proteomics (CCP)
Instument model: test
Manufacturer:
Customisations:
Software:
Version:
Switching:
Param file:
2. Ion source
Source:
Source details:
3. Post-source componentry
Analyzer:
Analyzer details:
Collision gas:
Pressure: bars
Energy:
Detector type:
Sensitivity:
Error in x$.self$finalize() : attempt to apply non-function
1
Object of class "MSmap"
Map [75, 401]
[1] Retention time: 30:1 - 34:58
[2] M/Z: 521 - 523 (res 0.005)
Object of class "MSmap"
Map [401, 75]
[1] M/Z: 521 - 523 (res 0.005)
[2] Retention time: 30:1 - 34:58
1
1
Object of class "MzTab".
Description: mzTab example file for reporting a summary report of
quantification data quantified on the protein level
Mode: Complete
Type: Quantification
Available data: Proteins PSMs
Instance of class 'MSnSetList' containig 3 objects.
MSn experiment data ("OnDiskMSnExp")
Object size in memory: 0.17 Mb
- - - Spectra data - - -
MS level(s): 1 2
Number of spectra: 509
MSn retention times: 18:28 - 22:3 minutes
- - - Processing information - - -
Data loaded [Sun Apr 8 01:43:40 2018]
MSnbase version: 2.4.2
- - - Meta data - - -
phenoData
rowNames:
TMT_Erwinia_1uLSike_Top10HCD_isol2_45stepped_60min_01.mzML.gz
varLabels: sampleNames
varMetadata: labelDescription
Loaded from:
TMT_Erwinia_1uLSike_Top10HCD_isol2_45stepped_60min_01.mzML.gz
protocolData: none
featureData
featureNames: F1.S001 F1.S002 ... F1.S509 (509 total)
fvarLabels: fileIdx spIdx ... spectrum (28 total)
fvarMetadata: labelDescription
experimentData: use 'experimentData(object)'
Object of class "ReporterIons"
TMT10HCD: '10-plex TMT HCD' with 10 reporter ions
- 126.1277 +/- 0.002 (#8DD3C7)
- 127.1248 +/- 0.002 (#FFFFB3)
- 127.1311 +/- 0.002 (#BEBADA)
- 128.1281 +/- 0.002 (#FB8072)
- 128.1344 +/- 0.002 (#80B1D3)
- 129.1315 +/- 0.002 (#FDB462)
- 129.1378 +/- 0.002 (#B3DE69)
- 130.1348 +/- 0.002 (#FCCDE5)
- 130.1411 +/- 0.002 (#D9D9D9)
- 131.1382 +/- 0.002 (#BC80BD)
Object of class "Spectrum1"
Retention time: 0:0
MSn level: 1
Total ion count: 684
Polarity: 1
MSn experiment data ("MSnExp")
Object size in memory: 0.18 Mb
- - - Spectra data - - -
MS level(s): 2
Number of spectra: 5
MSn retention times: 25:1 - 25:2 minutes
- - - Processing information - - -
Data loaded: Sun Apr 8 01:48:48 2018
MSnbase version: 2.4.2
- - - Meta data - - -
phenoData
rowNames: dummyiTRAQ.mzXML
varLabels: sampleNames
varMetadata: labelDescription
Loaded from:
dummyiTRAQ.mzXML
protocolData: none
featureData
featureNames: F1.S1 F1.S2 ... F1.S5 (5 total)
fvarLabels: spectrum
fvarMetadata: labelDescription
experimentData: use 'experimentData(object)'
MSn experiment data ("MSnExp")
Object size in memory: 0.2 Mb
- - - Spectra data - - -
MS level(s): 2
Number of spectra: 5
MSn retention times: 25:1 - 25:2 minutes
- - - Processing information - - -
Data loaded: Sun Apr 8 01:48:48 2018
MSnbase version: 2.4.2
- - - Meta data - - -
phenoData
rowNames: dummyiTRAQ.mzXML
varLabels: sampleNames
varMetadata: labelDescription
Loaded from:
dummyiTRAQ.mzXML
protocolData: none
featureData
featureNames: F1.S1 F1.S2 ... F1.S5 (5 total)
fvarLabels: spectrum
fvarMetadata: labelDescription
experimentData: use 'experimentData(object)'
1
Object of class "FeaturesOfInterest"
Created on Sun Apr 8 01:49:37 2018
Description:
small foi
3 features of interest:
P20353, P53501, Q7KU78
Traceable object of class "FeaturesOfInterest"
Created on Sun Apr 8 01:49:37 2018
Description:
my description
10 features of interest:
P20353, P53501 ... Q9VCK0, Q9VIU7
A collection of 1 features of interest.
A collection of 10 features of interest.
reading dummyiTRAQ.mzid... DONE!
Iterations of EM:
1...2...3...4...5...6...7...8...9...10...11...
[1] 0.07947339
══ testthat results ═══════════════════════════════════════════════════════════
OK: 1690 SKIPPED: 6 FAILED: 0
>
> proc.time()
user system elapsed
501.652 10.188 527.632
MSnbase.Rcheck/MSnbase-Ex.timings
| name | user | system | elapsed | |
| Chromatogram-class | 0.088 | 0.000 | 0.091 | |
| Chromatograms-class | 0.224 | 0.000 | 0.224 | |
| FeatComp-class | 0.280 | 0.004 | 0.367 | |
| FeaturesOfInterest-class | 0.084 | 0.000 | 0.083 | |
| MSmap-class | 0.004 | 0.000 | 0.001 | |
| MSnExp-class | 0.376 | 0.004 | 0.382 | |
| MSnProcess-class | 0.004 | 0.000 | 0.001 | |
| MSnSet-class | 6.636 | 0.020 | 6.675 | |
| MSnSetList-class | 2.752 | 0.016 | 2.771 | |
| MzTab-class | 2.016 | 0.060 | 6.056 | |
| NAnnotatedDataFrame-class | 0.012 | 0.000 | 0.015 | |
| OnDiskMSnExp-class | 11.256 | 0.148 | 11.491 | |
| ProcessingStep-class | 0.008 | 0.000 | 0.005 | |
| ReporterIons-class | 0.016 | 0.000 | 0.015 | |
| TMT6 | 0.016 | 0.000 | 0.014 | |
| addIdentificationData-methods | 0.404 | 0.000 | 0.403 | |
| aggvar | 4.208 | 0.000 | 4.228 | |
| averageMSnSet | 6.148 | 0.056 | 6.445 | |
| bin-methods | 0.312 | 0.004 | 0.316 | |
| calculateFragments-methods | 0.772 | 0.012 | 0.784 | |
| chromatogram-MSnExp-method | 7.128 | 0.216 | 7.512 | |
| clean-methods | 0.156 | 0.008 | 0.164 | |
| combineFeatures | 0.768 | 0.008 | 0.774 | |
| commonFeatureNames | 0.384 | 0.008 | 0.392 | |
| compareSpectra-methods | 0.164 | 0.008 | 0.173 | |
| estimateNoise-method | 0.008 | 0.000 | 0.009 | |
| exprsToRatios-methods | 0.08 | 0.00 | 0.08 | |
| extractPrecSpectra-methods | 0.572 | 0.028 | 0.600 | |
| factorsAsStrings | 0.012 | 0.000 | 0.011 | |
| featureCV | 0.028 | 0.000 | 0.027 | |
| fillUp | 0.012 | 0.000 | 0.012 | |
| formatRt | 0.000 | 0.000 | 0.001 | |
| get.amino.acids | 0.004 | 0.000 | 0.003 | |
| get.atomic.mass | 0.000 | 0.000 | 0.001 | |
| getVariableName | 0.004 | 0.000 | 0.003 | |
| iPQF | 0.380 | 0.000 | 0.379 | |
| iTRAQ4 | 0.008 | 0.000 | 0.009 | |
| imageNA2 | 3.228 | 0.016 | 3.249 | |
| impute-methods | 0.784 | 0.012 | 0.886 | |
| isCentroidedFromFile | 2.404 | 0.052 | 2.454 | |
| itraqdata | 0.084 | 0.004 | 0.086 | |
| listOf | 0.004 | 0.000 | 0.003 | |
| makeCamelCase | 0 | 0 | 0 | |
| makeNaData | 0.816 | 0.004 | 0.823 | |
| missing-data | 2.636 | 0.000 | 2.638 | |
| mzRident2dfr | 0.048 | 0.000 | 0.047 | |
| nFeatures | 0.548 | 0.004 | 0.550 | |
| nQuants | 0.108 | 0.000 | 0.108 | |
| naplot | 0.056 | 0.004 | 0.061 | |
| navMS | 1.044 | 0.036 | 1.166 | |
| normToReference | 0.196 | 0.000 | 0.196 | |
| normalise-methods | 0.016 | 0.000 | 0.016 | |
| npcv | 0.004 | 0.000 | 0.004 | |
| pSet-class | 0.004 | 0.000 | 0.001 | |
| pickPeaks-method | 0.216 | 0.000 | 0.216 | |
| plot-methods | 1.172 | 0.004 | 1.178 | |
| plot2d-methods | 0.588 | 0.000 | 0.589 | |
| plotDensity-methods | 0.916 | 0.000 | 0.920 | |
| plotMzDelta-methods | 0.800 | 0.000 | 0.802 | |
| plotNA-methods | 0.420 | 0.000 | 0.421 | |
| plotSpectrumSpectrum-methods | 0.816 | 0.000 | 0.820 | |
| precSelection | 0.016 | 0.000 | 0.017 | |
| purityCorrect-methods | 0.072 | 0.004 | 0.075 | |
| quantify-methods | 1.184 | 0.120 | 1.899 | |
| readMSData | 1.064 | 0.000 | 1.067 | |
| readMSnSet | 0.112 | 0.004 | 0.137 | |
| readMgfData | 2.492 | 0.008 | 2.501 | |
| readMzIdData | 1.00 | 0.18 | 1.52 | |
| readMzTabData | 2.020 | 0.032 | 3.943 | |
| readMzTabData_v0.9 | 0.392 | 0.008 | 0.964 | |
| reduce-data.frame-method | 0.016 | 0.000 | 0.016 | |
| removeNoId-methods | 0.744 | 0.000 | 0.746 | |
| removePeaks-methods | 0.752 | 0.000 | 0.752 | |
| removeReporters-methods | 0.640 | 0.000 | 0.641 | |
| selectFeatureData | 0.108 | 0.000 | 0.123 | |
| smooth-methods | 0.232 | 0.000 | 0.233 | |
| trimMz-methods | 0.172 | 0.000 | 0.174 | |
| writeMgfData-methods | 0.000 | 0.000 | 0.001 | |