| Back to Multiple platform build/check report for BioC 3.6 | 
 | 
This page was generated on 2018-04-12 13:17:37 -0400 (Thu, 12 Apr 2018).
| Package 876/1472 | Hostname | OS / Arch | INSTALL | BUILD | CHECK | BUILD BIN | ||||||
| MLInterfaces 1.58.1 V. Carey 
 | malbec1 | Linux (Ubuntu 16.04.1 LTS) / x86_64 | OK | OK | OK |  | ||||||
| tokay1 | Windows Server 2012 R2 Standard / x64 | [ OK ] | OK | WARNINGS | OK |  | ||||||
| veracruz1 | OS X 10.11.6 El Capitan / x86_64 | OK | OK | OK | OK |  | 
| Package: MLInterfaces | 
| Version: 1.58.1 | 
| Command: rm -rf MLInterfaces.buildbin-libdir && mkdir MLInterfaces.buildbin-libdir && C:\cygwin\bin\curl.exe -O https://malbec1.bioconductor.org/BBS/3.6/bioc/src/contrib/MLInterfaces_1.58.1.tar.gz && C:\Users\biocbuild\bbs-3.6-bioc\R\bin\R.exe CMD INSTALL --build --library=MLInterfaces.buildbin-libdir --merge-multiarch MLInterfaces_1.58.1.tar.gz && C:\Users\biocbuild\bbs-3.6-bioc\R\bin\R.exe CMD INSTALL MLInterfaces_1.58.1.zip && rm MLInterfaces_1.58.1.tar.gz MLInterfaces_1.58.1.zip | 
| StartedAt: 2018-04-11 18:32:44 -0400 (Wed, 11 Apr 2018) | 
| EndedAt: 2018-04-11 18:35:24 -0400 (Wed, 11 Apr 2018) | 
| EllapsedTime: 159.1 seconds | 
| RetCode: 0 | 
| Status: OK | 
##############################################################################
##############################################################################
###
### Running command:
###
###   rm -rf MLInterfaces.buildbin-libdir && mkdir MLInterfaces.buildbin-libdir  && C:\cygwin\bin\curl.exe -O https://malbec1.bioconductor.org/BBS/3.6/bioc/src/contrib/MLInterfaces_1.58.1.tar.gz && C:\Users\biocbuild\bbs-3.6-bioc\R\bin\R.exe CMD INSTALL --build --library=MLInterfaces.buildbin-libdir --merge-multiarch MLInterfaces_1.58.1.tar.gz && C:\Users\biocbuild\bbs-3.6-bioc\R\bin\R.exe CMD INSTALL MLInterfaces_1.58.1.zip  && rm MLInterfaces_1.58.1.tar.gz MLInterfaces_1.58.1.zip
###
##############################################################################
##############################################################################
  % Total    % Received % Xferd  Average Speed   Time    Time     Time  Current
                                 Dload  Upload   Total   Spent    Left  Speed
  0     0    0     0    0     0      0      0 --:--:-- --:--:-- --:--:--     0
100  205k  100  205k    0     0  8526k      0 --:--:-- --:--:-- --:--:-- 9791k
install for i386
* installing *source* package 'MLInterfaces' ...
** R
** inst
** preparing package for lazy loading
** help
*** installing help indices
  converting help for package 'MLInterfaces'
    finding HTML links ... done
    MLIntInternals                          html  
    MLearn-new                              html  
Rd warning: C:/Users/biocbuild/bbs-3.6-bioc/tmpdir/RtmpOw0OT1/R.INSTALLf3cbd42499/MLInterfaces/man/MLearn-new.Rd:163: missing file link 'mclapply'
    RAB                                     html  
    balKfold.xvspec                         html  
    classifierOutput-class                  html  
    clusteringOutput-class                  html  
    confuMat-methods                        html  
    confuTab                                html  
    fs.absT                                 html  
    fsHistory                               html  
    hclustWidget                            html  
Rd warning: C:/Users/biocbuild/bbs-3.6-bioc/tmpdir/RtmpOw0OT1/R.INSTALLf3cbd42499/MLInterfaces/man/hclustWidget.Rd:35: missing file link 'ExpressionSet-class'
    learnerSchema-class                     html  
    performance-analytics                   html  
    planarPlot-methods                      html  
    plspinHcube                             html  
    predict.classifierOutput                html  
    projectLearnerToGrid                    html  
    projectedLearner-class                  html  
    raboostCont-class                       html  
    varImpStruct-class                      html  
    xvalLoop                                html  
    xvalSpec                                html  
Rd warning: C:/Users/biocbuild/bbs-3.6-bioc/tmpdir/RtmpOw0OT1/R.INSTALLf3cbd42499/MLInterfaces/man/xvalSpec.Rd:43: missing file link 'mclapply'
** building package indices
** installing vignettes
** testing if installed package can be loaded
In R CMD INSTALL
install for x64
* installing *source* package 'MLInterfaces' ...
** testing if installed package can be loaded
* MD5 sums
packaged installation of 'MLInterfaces' as MLInterfaces_1.58.1.zip
* DONE (MLInterfaces)
In R CMD INSTALL
In R CMD INSTALL
* installing to library 'C:/Users/biocbuild/bbs-3.6-bioc/R/library'
package 'MLInterfaces' successfully unpacked and MD5 sums checked
In R CMD INSTALL