| Back to Multiple platform build/check report for BioC 3.6 |
|
This page was generated on 2018-04-12 13:14:56 -0400 (Thu, 12 Apr 2018).
| Package 700/1472 | Hostname | OS / Arch | INSTALL | BUILD | CHECK | BUILD BIN | ||||||
| InteractionSet 1.6.0 Aaron Lun
| malbec1 | Linux (Ubuntu 16.04.1 LTS) / x86_64 | OK | OK | [ OK ] | |||||||
| tokay1 | Windows Server 2012 R2 Standard / x64 | OK | OK | WARNINGS | OK | |||||||
| veracruz1 | OS X 10.11.6 El Capitan / x86_64 | OK | OK | OK | OK |
| Package: InteractionSet |
| Version: 1.6.0 |
| Command: /home/biocbuild/bbs-3.6-bioc/R/bin/R CMD check --no-vignettes --timings InteractionSet_1.6.0.tar.gz |
| StartedAt: 2018-04-12 00:25:40 -0400 (Thu, 12 Apr 2018) |
| EndedAt: 2018-04-12 00:29:02 -0400 (Thu, 12 Apr 2018) |
| EllapsedTime: 201.9 seconds |
| RetCode: 0 |
| Status: OK |
| CheckDir: InteractionSet.Rcheck |
| Warnings: 0 |
############################################################################## ############################################################################## ### ### Running command: ### ### /home/biocbuild/bbs-3.6-bioc/R/bin/R CMD check --no-vignettes --timings InteractionSet_1.6.0.tar.gz ### ############################################################################## ############################################################################## * using log directory ‘/home/biocbuild/bbs-3.6-bioc/meat/InteractionSet.Rcheck’ * using R version 3.4.4 (2018-03-15) * using platform: x86_64-pc-linux-gnu (64-bit) * using session charset: UTF-8 * using option ‘--no-vignettes’ * checking for file ‘InteractionSet/DESCRIPTION’ ... OK * this is package ‘InteractionSet’ version ‘1.6.0’ * checking package namespace information ... OK * checking package dependencies ... OK * checking if this is a source package ... OK * checking if there is a namespace ... OK * checking for hidden files and directories ... OK * checking for portable file names ... OK * checking for sufficient/correct file permissions ... OK * checking whether package ‘InteractionSet’ can be installed ... OK * checking installed package size ... OK * checking package directory ... OK * checking ‘build’ directory ... OK * checking DESCRIPTION meta-information ... OK * checking top-level files ... OK * checking for left-over files ... OK * checking index information ... OK * checking package subdirectories ... OK * checking R files for non-ASCII characters ... OK * checking R files for syntax errors ... OK * checking whether the package can be loaded ... OK * checking whether the package can be loaded with stated dependencies ... OK * checking whether the package can be unloaded cleanly ... OK * checking whether the namespace can be loaded with stated dependencies ... OK * checking whether the namespace can be unloaded cleanly ... OK * checking dependencies in R code ... NOTE Unexported objects imported by ':::' calls: ‘GenomicRanges:::extraColumnSlotNames’ ‘S4Vectors:::disableValidity’ ‘S4Vectors:::makeClassinfoRowForCompactPrinting’ ‘S4Vectors:::makePrettyMatrixForCompactPrinting’ ‘S4Vectors:::selectSome’ See the note in ?`:::` about the use of this operator. * checking S3 generic/method consistency ... OK * checking replacement functions ... OK * checking foreign function calls ... OK * checking R code for possible problems ... OK * checking Rd files ... OK * checking Rd metadata ... OK * checking Rd cross-references ... OK * checking for missing documentation entries ... OK * checking for code/documentation mismatches ... OK * checking Rd \usage sections ... OK * checking Rd contents ... OK * checking for unstated dependencies in examples ... OK * checking line endings in C/C++/Fortran sources/headers ... OK * checking compiled code ... OK * checking installed files from ‘inst/doc’ ... OK * checking files in ‘vignettes’ ... OK * checking examples ... OK * checking for unstated dependencies in ‘tests’ ... OK * checking tests ... Running ‘testthat.R’ OK * checking for unstated dependencies in vignettes ... OK * checking package vignettes in ‘inst/doc’ ... OK * checking running R code from vignettes ... SKIPPED * checking re-building of vignette outputs ... SKIPPED * checking PDF version of manual ... OK * DONE Status: 1 NOTE See ‘/home/biocbuild/bbs-3.6-bioc/meat/InteractionSet.Rcheck/00check.log’ for details.
InteractionSet.Rcheck/00install.out
* installing *source* package ‘InteractionSet’ ... ** libs g++ -std=gnu++11 -I/home/biocbuild/bbs-3.6-bioc/R/include -DNDEBUG -I"/home/biocbuild/bbs-3.6-bioc/R/library/Rcpp/include" -I/usr/local/include -fpic -g -O2 -c box_bounds.cpp -o box_bounds.o g++ -std=gnu++11 -I/home/biocbuild/bbs-3.6-bioc/R/include -DNDEBUG -I"/home/biocbuild/bbs-3.6-bioc/R/library/Rcpp/include" -I/usr/local/include -fpic -g -O2 -c init.cpp -o init.o g++ -std=gnu++11 -I/home/biocbuild/bbs-3.6-bioc/R/include -DNDEBUG -I"/home/biocbuild/bbs-3.6-bioc/R/library/Rcpp/include" -I/usr/local/include -fpic -g -O2 -c overlaps.cpp -o overlaps.o g++ -std=gnu++11 -shared -L/home/biocbuild/bbs-3.6-bioc/R/lib -L/usr/local/lib -o InteractionSet.so box_bounds.o init.o overlaps.o -L/home/biocbuild/bbs-3.6-bioc/R/lib -lR installing to /home/biocbuild/bbs-3.6-bioc/meat/InteractionSet.Rcheck/InteractionSet/libs ** R ** inst ** preparing package for lazy loading ** help *** installing help indices ** building package indices ** installing vignettes ** testing if installed package can be loaded * DONE (InteractionSet)
InteractionSet.Rcheck/tests/testthat.Rout
R version 3.4.4 (2018-03-15) -- "Someone to Lean On"
Copyright (C) 2018 The R Foundation for Statistical Computing
Platform: x86_64-pc-linux-gnu (64-bit)
R is free software and comes with ABSOLUTELY NO WARRANTY.
You are welcome to redistribute it under certain conditions.
Type 'license()' or 'licence()' for distribution details.
R is a collaborative project with many contributors.
Type 'contributors()' for more information and
'citation()' on how to cite R or R packages in publications.
Type 'demo()' for some demos, 'help()' for on-line help, or
'help.start()' for an HTML browser interface to help.
Type 'q()' to quit R.
> library(testthat)
> library(InteractionSet)
Loading required package: GenomicRanges
Loading required package: stats4
Loading required package: BiocGenerics
Loading required package: parallel
Attaching package: 'BiocGenerics'
The following objects are masked from 'package:parallel':
clusterApply, clusterApplyLB, clusterCall, clusterEvalQ,
clusterExport, clusterMap, parApply, parCapply, parLapply,
parLapplyLB, parRapply, parSapply, parSapplyLB
The following objects are masked from 'package:stats':
IQR, mad, sd, var, xtabs
The following objects are masked from 'package:base':
Filter, Find, Map, Position, Reduce, anyDuplicated, append,
as.data.frame, cbind, colMeans, colSums, colnames, do.call,
duplicated, eval, evalq, get, grep, grepl, intersect, is.unsorted,
lapply, lengths, mapply, match, mget, order, paste, pmax, pmax.int,
pmin, pmin.int, rank, rbind, rowMeans, rowSums, rownames, sapply,
setdiff, sort, table, tapply, union, unique, unsplit, which,
which.max, which.min
Loading required package: S4Vectors
Attaching package: 'S4Vectors'
The following object is masked from 'package:base':
expand.grid
Loading required package: IRanges
Loading required package: GenomeInfoDb
Loading required package: SummarizedExperiment
Loading required package: Biobase
Welcome to Bioconductor
Vignettes contain introductory material; view with
'browseVignettes()'. To cite Bioconductor, see
'citation("Biobase")', and for packages 'citation("pkgname")'.
Loading required package: DelayedArray
Loading required package: matrixStats
Attaching package: 'matrixStats'
The following objects are masked from 'package:Biobase':
anyMissing, rowMedians
Attaching package: 'DelayedArray'
The following objects are masked from 'package:matrixStats':
colMaxs, colMins, colRanges, rowMaxs, rowMins, rowRanges
The following object is masked from 'package:base':
apply
>
> test_check("InteractionSet")
══ testthat results ═══════════════════════════════════════════════════════════
OK: 1663 SKIPPED: 0 FAILED: 0
>
>
> proc.time()
user system elapsed
57.456 0.176 57.677
InteractionSet.Rcheck/InteractionSet-Ex.timings
| name | user | system | elapsed | |
| ContactMatrix-accessors | 1.304 | 0.020 | 1.326 | |
| ContactMatrix-class | 0.168 | 0.000 | 0.167 | |
| ContactMatrix-distances | 0.124 | 0.000 | 0.124 | |
| ContactMatrix-overlaps | 0.496 | 0.000 | 0.497 | |
| ContactMatrix-sorting | 0.288 | 0.000 | 0.290 | |
| ContactMatrix-subset | 0.132 | 0.000 | 0.133 | |
| GInteractions-class | 0.304 | 0.000 | 0.302 | |
| InteractionSet-class | 0.268 | 0.000 | 0.269 | |
| boundingBox | 0.292 | 0.000 | 0.292 | |
| conversion | 0.592 | 0.004 | 0.598 | |
| distances | 0.268 | 0.000 | 0.269 | |
| granges-methods | 0.604 | 0.000 | 0.604 | |
| interaction-accessors | 0.624 | 0.004 | 0.626 | |
| interaction-bind | 0.944 | 0.000 | 0.944 | |
| interaction-compare | 0.528 | 0.016 | 0.545 | |
| interaction-subset | 0.508 | 0.004 | 0.510 | |
| linearize | 0.776 | 0.004 | 0.780 | |
| linkOverlaps | 0.576 | 0.000 | 0.578 | |
| overlaps | 1.152 | 0.000 | 1.150 | |
| pairs | 0.496 | 0.004 | 0.499 | |