| Back to Multiple platform build/check report for BioC 3.6 |
|
This page was generated on 2018-04-12 13:40:23 -0400 (Thu, 12 Apr 2018).
| Package 160/1472 | Hostname | OS / Arch | INSTALL | BUILD | CHECK | BUILD BIN | ||||||
| BrowserViz 1.10.0 Paul Shannon
| malbec1 | Linux (Ubuntu 16.04.1 LTS) / x86_64 | OK | OK | OK | |||||||
| tokay1 | Windows Server 2012 R2 Standard / x64 | ...NOT SUPPORTED...NOT SUPPORTED...NOT SUPPORTED... | ||||||||||
| veracruz1 | OS X 10.11.6 El Capitan / x86_64 | OK | OK | ERROR | [ OK ] | |||||||
| Package: BrowserViz |
| Version: 1.10.0 |
| Command: rm -rf BrowserViz.buildbin-libdir && mkdir BrowserViz.buildbin-libdir && /Users/biocbuild/BBS/utils/build-universal.sh BrowserViz_1.10.0.tar.gz /Library/Frameworks/R.framework/Versions/Current/Resources/bin/R BrowserViz.buildbin-libdir |
| StartedAt: 2018-04-12 11:11:32 -0400 (Thu, 12 Apr 2018) |
| EndedAt: 2018-04-12 11:11:42 -0400 (Thu, 12 Apr 2018) |
| EllapsedTime: 10.3 seconds |
| RetCode: 0 |
| Status: OK |
| PackageFile: BrowserViz_1.10.0.tgz |
| PackageFileSize: 199.7 KiB |
############################################################################## ############################################################################## ### ### Running command: ### ### rm -rf BrowserViz.buildbin-libdir && mkdir BrowserViz.buildbin-libdir && /Users/biocbuild/BBS/utils/build-universal.sh BrowserViz_1.10.0.tar.gz /Library/Frameworks/R.framework/Versions/Current/Resources/bin/R BrowserViz.buildbin-libdir ### ############################################################################## ############################################################################## >>>>>>> >>>>>>> INSTALLATION WITH 'R CMD INSTALL --preclean --no-multiarch --library=BrowserViz.buildbin-libdir BrowserViz_1.10.0.tar.gz' >>>>>>> * installing *source* package ‘BrowserViz’ ... ** R ** inst ** preparing package for lazy loading ** help *** installing help indices ** building package indices ** installing vignettes ** testing if installed package can be loaded * DONE (BrowserViz)