| Back to Multiple platform build/check report for BioC 3.6 | 
 | 
This page was generated on 2018-04-12 13:13:18 -0400 (Thu, 12 Apr 2018).
| Package 160/1472 | Hostname | OS / Arch | INSTALL | BUILD | CHECK | BUILD BIN | ||||||
| BrowserViz 1.10.0 Paul Shannon 
 | malbec1 | Linux (Ubuntu 16.04.1 LTS) / x86_64 | OK | [ OK ] | OK |  | ||||||
| tokay1 | Windows Server 2012 R2 Standard / x64 | ...NOT SUPPORTED...NOT SUPPORTED...NOT SUPPORTED... | ||||||||||
| veracruz1 | OS X 10.11.6 El Capitan / x86_64 | OK | OK | ERROR | OK | |||||||
| Package: BrowserViz | 
| Version: 1.10.0 | 
| Command: /home/biocbuild/bbs-3.6-bioc/R/bin/R CMD build --keep-empty-dirs --no-resave-data BrowserViz | 
| StartedAt: 2018-04-11 19:50:44 -0400 (Wed, 11 Apr 2018) | 
| EndedAt: 2018-04-11 19:50:48 -0400 (Wed, 11 Apr 2018) | 
| EllapsedTime: 4.1 seconds | 
| RetCode: 0 | 
| Status: OK | 
| PackageFile: BrowserViz_1.10.0.tar.gz | 
| PackageFileSize: 163.5 KiB | 
############################################################################## ############################################################################## ### ### Running command: ### ### /home/biocbuild/bbs-3.6-bioc/R/bin/R CMD build --keep-empty-dirs --no-resave-data BrowserViz ### ############################################################################## ############################################################################## * checking for file ‘BrowserViz/DESCRIPTION’ ... OK * preparing ‘BrowserViz’: * checking DESCRIPTION meta-information ... OK * installing the package to build vignettes * creating vignettes ... OK * checking for LF line-endings in source and make files and shell scripts * checking for empty or unneeded directories * building ‘BrowserViz_1.10.0.tar.gz’