| Back to Multiple platform build/check report for BioC 3.6 |
|
This page was generated on 2018-04-12 13:36:19 -0400 (Thu, 12 Apr 2018).
| Package 1453/1472 | Hostname | OS / Arch | INSTALL | BUILD | CHECK | BUILD BIN | ||||||
| wateRmelon 1.22.1 Leo
| malbec1 | Linux (Ubuntu 16.04.1 LTS) / x86_64 | OK | OK | OK | |||||||
| tokay1 | Windows Server 2012 R2 Standard / x64 | OK | OK | OK | OK | |||||||
| veracruz1 | OS X 10.11.6 El Capitan / x86_64 | OK | OK | OK | [ OK ] |
| Package: wateRmelon |
| Version: 1.22.1 |
| Command: rm -rf wateRmelon.buildbin-libdir && mkdir wateRmelon.buildbin-libdir && /Users/biocbuild/BBS/utils/build-universal.sh wateRmelon_1.22.1.tar.gz /Library/Frameworks/R.framework/Versions/Current/Resources/bin/R wateRmelon.buildbin-libdir |
| StartedAt: 2018-04-12 12:22:56 -0400 (Thu, 12 Apr 2018) |
| EndedAt: 2018-04-12 12:23:32 -0400 (Thu, 12 Apr 2018) |
| EllapsedTime: 36.1 seconds |
| RetCode: 0 |
| Status: OK |
| PackageFile: wateRmelon_1.22.1.tgz |
| PackageFileSize: 1.183 MiB |
############################################################################## ############################################################################## ### ### Running command: ### ### rm -rf wateRmelon.buildbin-libdir && mkdir wateRmelon.buildbin-libdir && /Users/biocbuild/BBS/utils/build-universal.sh wateRmelon_1.22.1.tar.gz /Library/Frameworks/R.framework/Versions/Current/Resources/bin/R wateRmelon.buildbin-libdir ### ############################################################################## ############################################################################## >>>>>>> >>>>>>> INSTALLATION WITH 'R CMD INSTALL --preclean --no-multiarch --library=wateRmelon.buildbin-libdir wateRmelon_1.22.1.tar.gz' >>>>>>> * installing *source* package ‘wateRmelon’ ... ** R ** data ** inst ** preparing package for lazy loading Creating a generic function from function ‘as.methylumi’ in package ‘wateRmelon’ ** help *** installing help indices ** building package indices ** installing vignettes ** testing if installed package can be loaded * DONE (wateRmelon)