| Back to Multiple platform build/check report for BioC 3.6 |
|
This page was generated on 2018-04-12 13:22:20 -0400 (Thu, 12 Apr 2018).
| Package 1453/1472 | Hostname | OS / Arch | INSTALL | BUILD | CHECK | BUILD BIN | ||||||
| wateRmelon 1.22.1 Leo
| malbec1 | Linux (Ubuntu 16.04.1 LTS) / x86_64 | OK | OK | OK | |||||||
| tokay1 | Windows Server 2012 R2 Standard / x64 | OK | [ OK ] | OK | OK | |||||||
| veracruz1 | OS X 10.11.6 El Capitan / x86_64 | OK | OK | OK | OK |
| Package: wateRmelon |
| Version: 1.22.1 |
| Command: chmod a+r wateRmelon -R && C:\Users\biocbuild\bbs-3.6-bioc\R\bin\R.exe CMD build --keep-empty-dirs --no-resave-data wateRmelon |
| StartedAt: 2018-04-11 19:55:50 -0400 (Wed, 11 Apr 2018) |
| EndedAt: 2018-04-11 19:57:09 -0400 (Wed, 11 Apr 2018) |
| EllapsedTime: 78.6 seconds |
| RetCode: 0 |
| Status: OK |
| PackageFile: wateRmelon_1.22.1.tar.gz |
| PackageFileSize: 1.015 MiB |
##############################################################################
##############################################################################
###
### Running command:
###
### chmod a+r wateRmelon -R && C:\Users\biocbuild\bbs-3.6-bioc\R\bin\R.exe CMD build --keep-empty-dirs --no-resave-data wateRmelon
###
##############################################################################
##############################################################################
* checking for file 'wateRmelon/DESCRIPTION' ... OK
* preparing 'wateRmelon':
* checking DESCRIPTION meta-information ... OK
* installing the package to build vignettes
* creating vignettes ... OK
Warning: 'inst/doc' file
'wateRmelon.pdf'
ignored as vignettes have been rebuilt.
Run R CMD build with --no-build-vignettes to prevent rebuilding.
* checking for LF line-endings in source and make files and shell scripts
* checking for empty or unneeded directories
* looking to see if a 'data/datalist' file should be added
* building 'wateRmelon_1.22.1.tar.gz'