| Back to Multiple platform build/check report for BioC 3.6 |
|
This page was generated on 2018-04-12 13:44:11 -0400 (Thu, 12 Apr 2018).
| Package 1418/1472 | Hostname | OS / Arch | INSTALL | BUILD | CHECK | BUILD BIN | ||||||
| treeio 1.2.2 Guangchuang Yu
| malbec1 | Linux (Ubuntu 16.04.1 LTS) / x86_64 | OK | OK | OK | |||||||
| tokay1 | Windows Server 2012 R2 Standard / x64 | OK | OK | WARNINGS | OK | |||||||
| veracruz1 | OS X 10.11.6 El Capitan / x86_64 | OK | OK | OK | [ OK ] |
| Package: treeio |
| Version: 1.2.2 |
| Command: rm -rf treeio.buildbin-libdir && mkdir treeio.buildbin-libdir && /Users/biocbuild/BBS/utils/build-universal.sh treeio_1.2.2.tar.gz /Library/Frameworks/R.framework/Versions/Current/Resources/bin/R treeio.buildbin-libdir |
| StartedAt: 2018-04-12 12:21:20 -0400 (Thu, 12 Apr 2018) |
| EndedAt: 2018-04-12 12:21:28 -0400 (Thu, 12 Apr 2018) |
| EllapsedTime: 8.0 seconds |
| RetCode: 0 |
| Status: OK |
| PackageFile: treeio_1.2.2.tgz |
| PackageFileSize: 622.6 KiB |
############################################################################## ############################################################################## ### ### Running command: ### ### rm -rf treeio.buildbin-libdir && mkdir treeio.buildbin-libdir && /Users/biocbuild/BBS/utils/build-universal.sh treeio_1.2.2.tar.gz /Library/Frameworks/R.framework/Versions/Current/Resources/bin/R treeio.buildbin-libdir ### ############################################################################## ############################################################################## >>>>>>> >>>>>>> INSTALLATION WITH 'R CMD INSTALL --preclean --no-multiarch --library=treeio.buildbin-libdir treeio_1.2.2.tar.gz' >>>>>>> * installing *source* package ‘treeio’ ... ** R ** inst ** byte-compile and prepare package for lazy loading Note: wrong number of arguments to '>' ** help *** installing help indices ** building package indices ** installing vignettes ** testing if installed package can be loaded * DONE (treeio)