| Back to Multiple platform build/check report for BioC 3.6 |
|
This page was generated on 2018-04-12 13:29:11 -0400 (Thu, 12 Apr 2018).
| Package 1418/1472 | Hostname | OS / Arch | INSTALL | BUILD | CHECK | BUILD BIN | ||||||
| treeio 1.2.2 Guangchuang Yu
| malbec1 | Linux (Ubuntu 16.04.1 LTS) / x86_64 | OK | OK | OK | |||||||
| tokay1 | Windows Server 2012 R2 Standard / x64 | [ OK ] | OK | WARNINGS | OK | |||||||
| veracruz1 | OS X 10.11.6 El Capitan / x86_64 | OK | OK | OK | OK |
| Package: treeio |
| Version: 1.2.2 |
| Command: rm -rf treeio.buildbin-libdir && mkdir treeio.buildbin-libdir && C:\cygwin\bin\curl.exe -O https://malbec1.bioconductor.org/BBS/3.6/bioc/src/contrib/treeio_1.2.2.tar.gz && C:\Users\biocbuild\bbs-3.6-bioc\R\bin\R.exe CMD INSTALL --build --library=treeio.buildbin-libdir --merge-multiarch treeio_1.2.2.tar.gz && C:\Users\biocbuild\bbs-3.6-bioc\R\bin\R.exe CMD INSTALL treeio_1.2.2.zip && rm treeio_1.2.2.tar.gz treeio_1.2.2.zip |
| StartedAt: 2018-04-11 18:19:02 -0400 (Wed, 11 Apr 2018) |
| EndedAt: 2018-04-11 18:21:34 -0400 (Wed, 11 Apr 2018) |
| EllapsedTime: 151.6 seconds |
| RetCode: 0 |
| Status: OK |
##############################################################################
##############################################################################
###
### Running command:
###
### rm -rf treeio.buildbin-libdir && mkdir treeio.buildbin-libdir && C:\cygwin\bin\curl.exe -O https://malbec1.bioconductor.org/BBS/3.6/bioc/src/contrib/treeio_1.2.2.tar.gz && C:\Users\biocbuild\bbs-3.6-bioc\R\bin\R.exe CMD INSTALL --build --library=treeio.buildbin-libdir --merge-multiarch treeio_1.2.2.tar.gz && C:\Users\biocbuild\bbs-3.6-bioc\R\bin\R.exe CMD INSTALL treeio_1.2.2.zip && rm treeio_1.2.2.tar.gz treeio_1.2.2.zip
###
##############################################################################
##############################################################################
% Total % Received % Xferd Average Speed Time Time Time Current
Dload Upload Total Spent Left Speed
0 0 0 0 0 0 0 0 --:--:-- --:--:-- --:--:-- 0
100 953k 100 953k 0 0 30.5M 0 --:--:-- --:--:-- --:--:-- 34.5M
install for i386
* installing *source* package 'treeio' ...
** R
** inst
** byte-compile and prepare package for lazy loading
Note: wrong number of arguments to '>'
** help
*** installing help indices
converting help for package 'treeio'
finding HTML links ... done
Nnode html
Ntip html
as.treedata html
beast-class html
codeml-class html
codeml_mlc-class html
drop.tip-methods html
get.fields-methods html
get.placements-methods html
get.subs-methods html
get.tipseq-methods html
get.tree-methods html
get.treetext-methods html
getNodeNum html
getRoot html
groupClade-methods html
groupOTU-methods html
groupOTU.phylo html
hyphy-class html
is.ggtree html
jplace-class html
label_branch_paml html
mask html
merge_tree html
paml_rst-class html
phangorn-class html
phyPML html
phylip-class html
pmlToSeq html
print.beastList html
r8s-class html
raxml2nwk html
read.baseml html
read.beast html
read.codeml html
read.codeml_mlc html
read.hyphy html
read.jplace html
read.newick html
read.nhx html
read.paml_rst html
read.phylip html
read.phyloT html
read.r8s html
read.raxml html
reexports html
Rd warning: C:/Users/biocbuild/bbs-3.6-bioc/tmpdir/RtmpYlWPNI/R.INSTALLd84540457/treeio/man/reexports.Rd:19: missing file link '%>%'
show-methods html
taxa_rename html
treedata-class html
write.jplace html
** building package indices
** installing vignettes
** testing if installed package can be loaded
In R CMD INSTALL
install for x64
* installing *source* package 'treeio' ...
** testing if installed package can be loaded
* MD5 sums
packaged installation of 'treeio' as treeio_1.2.2.zip
* DONE (treeio)
In R CMD INSTALL
In R CMD INSTALL
* installing to library 'C:/Users/biocbuild/bbs-3.6-bioc/R/library'
package 'treeio' successfully unpacked and MD5 sums checked
In R CMD INSTALL