| Back to Multiple platform build/check report for BioC 3.6 |
|
This page was generated on 2018-04-12 13:38:04 -0400 (Thu, 12 Apr 2018).
| Package 1412/1472 | Hostname | OS / Arch | INSTALL | BUILD | CHECK | BUILD BIN | ||||||
| trackViewer 1.14.1 Jianhong Ou
| malbec1 | Linux (Ubuntu 16.04.1 LTS) / x86_64 | OK | OK | OK | |||||||
| tokay1 | Windows Server 2012 R2 Standard / x64 | OK | OK | WARNINGS | OK | |||||||
| veracruz1 | OS X 10.11.6 El Capitan / x86_64 | OK | OK | [ OK ] | OK |
| Package: trackViewer |
| Version: 1.14.1 |
| Command: /Library/Frameworks/R.framework/Versions/Current/Resources/bin/R CMD check --no-vignettes --timings trackViewer_1.14.1.tar.gz |
| StartedAt: 2018-04-12 10:25:33 -0400 (Thu, 12 Apr 2018) |
| EndedAt: 2018-04-12 10:31:52 -0400 (Thu, 12 Apr 2018) |
| EllapsedTime: 379.1 seconds |
| RetCode: 0 |
| Status: OK |
| CheckDir: trackViewer.Rcheck |
| Warnings: 0 |
##############################################################################
##############################################################################
###
### Running command:
###
### /Library/Frameworks/R.framework/Versions/Current/Resources/bin/R CMD check --no-vignettes --timings trackViewer_1.14.1.tar.gz
###
##############################################################################
##############################################################################
* using log directory ‘/Users/biocbuild/bbs-3.6-bioc/meat/trackViewer.Rcheck’
* using R version 3.4.4 (2018-03-15)
* using platform: x86_64-apple-darwin15.6.0 (64-bit)
* using session charset: UTF-8
* using option ‘--no-vignettes’
* checking for file ‘trackViewer/DESCRIPTION’ ... OK
* checking extension type ... Package
* this is package ‘trackViewer’ version ‘1.14.1’
* checking package namespace information ... OK
* checking package dependencies ... OK
* checking if this is a source package ... OK
* checking if there is a namespace ... OK
* checking for hidden files and directories ... OK
* checking for portable file names ... OK
* checking for sufficient/correct file permissions ... OK
* checking whether package ‘trackViewer’ can be installed ... OK
* checking installed package size ... NOTE
installed size is 8.6Mb
sub-directories of 1Mb or more:
doc 7.4Mb
* checking package directory ... OK
* checking ‘build’ directory ... OK
* checking DESCRIPTION meta-information ... OK
* checking top-level files ... OK
* checking for left-over files ... OK
* checking index information ... OK
* checking package subdirectories ... OK
* checking R files for non-ASCII characters ... OK
* checking R files for syntax errors ... OK
* checking whether the package can be loaded ... OK
* checking whether the package can be loaded with stated dependencies ... OK
* checking whether the package can be unloaded cleanly ... OK
* checking whether the namespace can be loaded with stated dependencies ... OK
* checking whether the namespace can be unloaded cleanly ... OK
* checking dependencies in R code ... NOTE
There are ::: calls to the package's namespace in its code. A package
almost never needs to use ::: for its own objects:
'filterTracks'
* checking S3 generic/method consistency ... OK
* checking replacement functions ... OK
* checking foreign function calls ... OK
* checking R code for possible problems ... OK
* checking Rd files ... OK
* checking Rd metadata ... OK
* checking Rd cross-references ... OK
* checking for missing documentation entries ... OK
* checking for code/documentation mismatches ... OK
* checking Rd \usage sections ... OK
* checking Rd contents ... OK
* checking for unstated dependencies in examples ... OK
* checking installed files from ‘inst/doc’ ... OK
* checking files in ‘vignettes’ ... OK
* checking examples ... OK
Examples with CPU or elapsed time > 5s
user system elapsed
trackViewer-package 19.642 0.153 20.084
browseTracks 11.746 0.117 12.101
parseWIG 10.375 0.037 10.623
geneModelFromTxdb 9.352 0.447 10.675
viewTracks 9.424 0.050 9.613
* checking for unstated dependencies in ‘tests’ ... OK
* checking tests ...
Running ‘runTests.R’
OK
* checking for unstated dependencies in vignettes ... OK
* checking package vignettes in ‘inst/doc’ ... OK
* checking running R code from vignettes ... SKIPPED
* checking re-building of vignette outputs ... SKIPPED
* checking PDF version of manual ... OK
* DONE
Status: 2 NOTEs
See
‘/Users/biocbuild/bbs-3.6-bioc/meat/trackViewer.Rcheck/00check.log’
for details.
trackViewer.Rcheck/00install.out
* installing *source* package ‘trackViewer’ ... ** R ** inst ** preparing package for lazy loading ** help *** installing help indices ** building package indices ** installing vignettes ** testing if installed package can be loaded * DONE (trackViewer)
trackViewer.Rcheck/tests/runTests.Rout
R version 3.4.4 (2018-03-15) -- "Someone to Lean On"
Copyright (C) 2018 The R Foundation for Statistical Computing
Platform: x86_64-apple-darwin15.6.0 (64-bit)
R is free software and comes with ABSOLUTELY NO WARRANTY.
You are welcome to redistribute it under certain conditions.
Type 'license()' or 'licence()' for distribution details.
R is a collaborative project with many contributors.
Type 'contributors()' for more information and
'citation()' on how to cite R or R packages in publications.
Type 'demo()' for some demos, 'help()' for on-line help, or
'help.start()' for an HTML browser interface to help.
Type 'q()' to quit R.
> require("trackViewer") || stop("unable to load Package:trackViewer")
Loading required package: trackViewer
Loading required package: GenomicRanges
Loading required package: stats4
Loading required package: BiocGenerics
Loading required package: parallel
Attaching package: 'BiocGenerics'
The following objects are masked from 'package:parallel':
clusterApply, clusterApplyLB, clusterCall, clusterEvalQ,
clusterExport, clusterMap, parApply, parCapply, parLapply,
parLapplyLB, parRapply, parSapply, parSapplyLB
The following objects are masked from 'package:stats':
IQR, mad, sd, var, xtabs
The following objects are masked from 'package:base':
Filter, Find, Map, Position, Reduce, anyDuplicated, append,
as.data.frame, cbind, colMeans, colSums, colnames, do.call,
duplicated, eval, evalq, get, grep, grepl, intersect, is.unsorted,
lapply, lengths, mapply, match, mget, order, paste, pmax, pmax.int,
pmin, pmin.int, rank, rbind, rowMeans, rowSums, rownames, sapply,
setdiff, sort, table, tapply, union, unique, unsplit, which,
which.max, which.min
Loading required package: S4Vectors
Attaching package: 'S4Vectors'
The following object is masked from 'package:base':
expand.grid
Loading required package: IRanges
Loading required package: GenomeInfoDb
Loading required package: grid
[1] TRUE
> BiocGenerics:::testPackage("trackViewer")
RUNIT TEST PROTOCOL -- Thu Apr 12 10:31:47 2018
***********************************************
Number of test functions: 1
Number of errors: 0
Number of failures: 0
1 Test Suite :
trackViewer RUnit Tests - 1 test function, 0 errors, 0 failures
Number of test functions: 1
Number of errors: 0
Number of failures: 0
>
> proc.time()
user system elapsed
13.755 0.459 15.108
trackViewer.Rcheck/trackViewer-Ex.timings
| name | user | system | elapsed | |
| GRoperator | 2.983 | 0.048 | 3.065 | |
| addArrowMark | 0.013 | 0.001 | 0.014 | |
| addGuideLine | 0.007 | 0.001 | 0.008 | |
| browseTracks | 11.746 | 0.117 | 12.101 | |
| coverageGR | 0.268 | 0.002 | 0.277 | |
| dandelion.plot | 1.487 | 0.008 | 1.520 | |
| geneModelFromTxdb | 9.352 | 0.447 | 10.675 | |
| getCurTrackViewport | 0.058 | 0.000 | 0.058 | |
| ideogramPlot | 0.001 | 0.001 | 0.001 | |
| importBam | 0.442 | 0.002 | 0.450 | |
| importData | 1.588 | 0.017 | 1.637 | |
| importScore | 0.864 | 0.026 | 0.907 | |
| loadIdeogram | 0.001 | 0.000 | 0.001 | |
| lolliplot | 1.105 | 0.005 | 1.129 | |
| optimizeStyle | 0.952 | 0.012 | 0.985 | |
| parse2GRanges | 0.008 | 0.000 | 0.008 | |
| parseWIG | 10.375 | 0.037 | 10.623 | |
| plotGRanges | 1.510 | 0.006 | 1.535 | |
| track | 0.040 | 0.001 | 0.040 | |
| trackViewer-package | 19.642 | 0.153 | 20.084 | |
| trackViewerStyle | 0.001 | 0.000 | 0.001 | |
| viewTracks | 9.424 | 0.050 | 9.613 | |