| Back to Multiple platform build/check report for BioC 3.6 |
|
This page was generated on 2018-04-12 13:35:09 -0400 (Thu, 12 Apr 2018).
| Package 930/1472 | Hostname | OS / Arch | INSTALL | BUILD | CHECK | BUILD BIN | ||||||
| ncdfFlow 2.24.0 Mike Jiang
| malbec1 | Linux (Ubuntu 16.04.1 LTS) / x86_64 | OK | OK | OK | |||||||
| tokay1 | Windows Server 2012 R2 Standard / x64 | OK | OK | OK | OK | |||||||
| veracruz1 | OS X 10.11.6 El Capitan / x86_64 | OK | OK | OK | [ OK ] |
| Package: ncdfFlow |
| Version: 2.24.0 |
| Command: rm -rf ncdfFlow.buildbin-libdir && mkdir ncdfFlow.buildbin-libdir && /Users/biocbuild/BBS/utils/build-universal.sh ncdfFlow_2.24.0.tar.gz /Library/Frameworks/R.framework/Versions/Current/Resources/bin/R ncdfFlow.buildbin-libdir |
| StartedAt: 2018-04-12 11:54:11 -0400 (Thu, 12 Apr 2018) |
| EndedAt: 2018-04-12 11:54:52 -0400 (Thu, 12 Apr 2018) |
| EllapsedTime: 41.6 seconds |
| RetCode: 0 |
| Status: OK |
| PackageFile: ncdfFlow_2.24.0.tgz |
| PackageFileSize: 2.197 MiB |
##############################################################################
##############################################################################
###
### Running command:
###
### rm -rf ncdfFlow.buildbin-libdir && mkdir ncdfFlow.buildbin-libdir && /Users/biocbuild/BBS/utils/build-universal.sh ncdfFlow_2.24.0.tar.gz /Library/Frameworks/R.framework/Versions/Current/Resources/bin/R ncdfFlow.buildbin-libdir
###
##############################################################################
##############################################################################
>>>>>>>
>>>>>>> INSTALLATION WITH 'R CMD INSTALL --preclean --no-multiarch --library=ncdfFlow.buildbin-libdir ncdfFlow_2.24.0.tar.gz'
>>>>>>>
* installing *source* package ‘ncdfFlow’ ...
** libs
clang++ -I/Library/Frameworks/R.framework/Resources/include -DNDEBUG -I"/Library/Frameworks/R.framework/Versions/3.4/Resources/library/Rcpp/include" -I"/Library/Frameworks/R.framework/Versions/3.4/Resources/library/RcppArmadillo/include" -I"/Library/Frameworks/R.framework/Versions/3.4/Resources/library/BH/include" -I"/Library/Frameworks/R.framework/Versions/3.4/Resources/library/Rhdf5lib/include" -I/usr/local/include -fPIC -Wall -g -O2 -c RcppExports.cpp -o RcppExports.o
clang++ -I/Library/Frameworks/R.framework/Resources/include -DNDEBUG -I"/Library/Frameworks/R.framework/Versions/3.4/Resources/library/Rcpp/include" -I"/Library/Frameworks/R.framework/Versions/3.4/Resources/library/RcppArmadillo/include" -I"/Library/Frameworks/R.framework/Versions/3.4/Resources/library/BH/include" -I"/Library/Frameworks/R.framework/Versions/3.4/Resources/library/Rhdf5lib/include" -I/usr/local/include -fPIC -Wall -g -O2 -c bitOps.cpp -o bitOps.o
clang++ -I/Library/Frameworks/R.framework/Resources/include -DNDEBUG -I"/Library/Frameworks/R.framework/Versions/3.4/Resources/library/Rcpp/include" -I"/Library/Frameworks/R.framework/Versions/3.4/Resources/library/RcppArmadillo/include" -I"/Library/Frameworks/R.framework/Versions/3.4/Resources/library/BH/include" -I"/Library/Frameworks/R.framework/Versions/3.4/Resources/library/Rhdf5lib/include" -I/usr/local/include -fPIC -Wall -g -O2 -c hdfFlow.cpp -o hdfFlow.o
In file included from hdfFlow.cpp:2:
In file included from /Library/Frameworks/R.framework/Versions/3.4/Resources/library/BH/include/boost/lexical_cast.hpp:32:
In file included from /Library/Frameworks/R.framework/Versions/3.4/Resources/library/BH/include/boost/lexical_cast/try_lexical_convert.hpp:42:
In file included from /Library/Frameworks/R.framework/Versions/3.4/Resources/library/BH/include/boost/lexical_cast/detail/converter_lexical.hpp:52:
In file included from /Library/Frameworks/R.framework/Versions/3.4/Resources/library/BH/include/boost/container/container_fwd.hpp:61:
/Library/Frameworks/R.framework/Versions/3.4/Resources/library/BH/include/boost/container/detail/std_fwd.hpp:27:1: warning: inline namespaces are a C++11 feature [-Wc++11-inline-namespace]
BOOST_MOVE_STD_NS_BEG
^
/Library/Frameworks/R.framework/Versions/3.4/Resources/library/BH/include/boost/move/detail/std_ns_begin.hpp:18:34: note: expanded from macro 'BOOST_MOVE_STD_NS_BEG'
#define BOOST_MOVE_STD_NS_BEG _LIBCPP_BEGIN_NAMESPACE_STD
^
/usr/local/clang4/bin/../include/c++/v1/__config:388:52: note: expanded from macro '_LIBCPP_BEGIN_NAMESPACE_STD'
#define _LIBCPP_BEGIN_NAMESPACE_STD namespace std {inline namespace _LIBCPP_NAMESPACE {
^
1 warning generated.
clang -I/Library/Frameworks/R.framework/Resources/include -DNDEBUG -I"/Library/Frameworks/R.framework/Versions/3.4/Resources/library/Rcpp/include" -I"/Library/Frameworks/R.framework/Versions/3.4/Resources/library/RcppArmadillo/include" -I"/Library/Frameworks/R.framework/Versions/3.4/Resources/library/BH/include" -I"/Library/Frameworks/R.framework/Versions/3.4/Resources/library/Rhdf5lib/include" -I/usr/local/include -fPIC -Wall -g -O2 -c init.c -o init.o
clang++ -I/Library/Frameworks/R.framework/Resources/include -DNDEBUG -I"/Library/Frameworks/R.framework/Versions/3.4/Resources/library/Rcpp/include" -I"/Library/Frameworks/R.framework/Versions/3.4/Resources/library/RcppArmadillo/include" -I"/Library/Frameworks/R.framework/Versions/3.4/Resources/library/BH/include" -I"/Library/Frameworks/R.framework/Versions/3.4/Resources/library/Rhdf5lib/include" -I/usr/local/include -fPIC -Wall -g -O2 -c readFrame.cpp -o readFrame.o
mkdir -p "/Users/biocbuild/bbs-3.6-bioc/meat/ncdfFlow.buildbin-libdir/ncdfFlow/lib"
ar rs "/Users/biocbuild/bbs-3.6-bioc/meat/ncdfFlow.buildbin-libdir/ncdfFlow/lib/libncdfFlow.a" RcppExports.o bitOps.o hdfFlow.o init.o readFrame.o
ar: creating archive /Users/biocbuild/bbs-3.6-bioc/meat/ncdfFlow.buildbin-libdir/ncdfFlow/lib/libncdfFlow.a
clang++ -dynamiclib -Wl,-headerpad_max_install_names -undefined dynamic_lookup -single_module -multiply_defined suppress -L/Library/Frameworks/R.framework/Resources/lib -L/usr/local/lib -o ncdfFlow.so RcppExports.o bitOps.o hdfFlow.o init.o readFrame.o /Library/Frameworks/R.framework/Versions/3.4/Resources/library/Rhdf5lib/lib/libhdf5.a /Library/Frameworks/R.framework/Versions/3.4/Resources/library/Rhdf5lib/lib/libsz.a -F/Library/Frameworks/R.framework/.. -framework R -Wl,-framework -Wl,CoreFoundation
installing to /Users/biocbuild/bbs-3.6-bioc/meat/ncdfFlow.buildbin-libdir/ncdfFlow/libs
** R
** inst
** preparing package for lazy loading
** help
*** installing help indices
** building package indices
** installing vignettes
** testing if installed package can be loaded
* DONE (ncdfFlow)
>>>>>>>
>>>>>>> FIXING LINKS FOR ncdfFlow.buildbin-libdir/ncdfFlow/libs//ncdfFlow.so
>>>>>>>
install_name_tool -change "/usr/local/lib/libgcc_s.1.dylib" "/Library/Frameworks/R.framework/Versions/3.4/Resources/lib/libgcc_s.1.dylib" "ncdfFlow.buildbin-libdir/ncdfFlow/libs//ncdfFlow.so"
install_name_tool -change "/usr/local/lib/libgfortran.3.dylib" "/Library/Frameworks/R.framework/Versions/3.4/Resources/lib/libgfortran.3.dylib" "ncdfFlow.buildbin-libdir/ncdfFlow/libs//ncdfFlow.so"
install_name_tool -change "/usr/local/lib/libreadline.5.2.dylib" "/Library/Frameworks/R.framework/Versions/3.4/Resources/lib/libreadline.5.2.dylib" "ncdfFlow.buildbin-libdir/ncdfFlow/libs//ncdfFlow.so"
install_name_tool -change "/usr/local/lib/libreadline.dylib" "/Library/Frameworks/R.framework/Versions/3.4/Resources/lib/libreadline.dylib" "ncdfFlow.buildbin-libdir/ncdfFlow/libs//ncdfFlow.so"
install_name_tool -change "/usr/local/lib/libquadmath.0.dylib" "/Library/Frameworks/R.framework/Versions/3.4/Resources/lib/libquadmath.0.dylib" "ncdfFlow.buildbin-libdir/ncdfFlow/libs//ncdfFlow.so"