| Back to Multiple platform build/check report for BioC 3.6 |
|
This page was generated on 2018-04-12 13:10:02 -0400 (Thu, 12 Apr 2018).
| Package 930/1472 | Hostname | OS / Arch | INSTALL | BUILD | CHECK | BUILD BIN | ||||||
| ncdfFlow 2.24.0 Mike Jiang
| malbec1 | Linux (Ubuntu 16.04.1 LTS) / x86_64 | OK | OK | [ OK ] | |||||||
| tokay1 | Windows Server 2012 R2 Standard / x64 | OK | OK | OK | OK | |||||||
| veracruz1 | OS X 10.11.6 El Capitan / x86_64 | OK | OK | OK | OK |
| Package: ncdfFlow |
| Version: 2.24.0 |
| Command: /home/biocbuild/bbs-3.6-bioc/R/bin/R CMD check --no-vignettes --timings ncdfFlow_2.24.0.tar.gz |
| StartedAt: 2018-04-12 01:26:34 -0400 (Thu, 12 Apr 2018) |
| EndedAt: 2018-04-12 01:28:06 -0400 (Thu, 12 Apr 2018) |
| EllapsedTime: 92.0 seconds |
| RetCode: 0 |
| Status: OK |
| CheckDir: ncdfFlow.Rcheck |
| Warnings: 0 |
##############################################################################
##############################################################################
###
### Running command:
###
### /home/biocbuild/bbs-3.6-bioc/R/bin/R CMD check --no-vignettes --timings ncdfFlow_2.24.0.tar.gz
###
##############################################################################
##############################################################################
* using log directory ‘/home/biocbuild/bbs-3.6-bioc/meat/ncdfFlow.Rcheck’
* using R version 3.4.4 (2018-03-15)
* using platform: x86_64-pc-linux-gnu (64-bit)
* using session charset: UTF-8
* using option ‘--no-vignettes’
* checking for file ‘ncdfFlow/DESCRIPTION’ ... OK
* this is package ‘ncdfFlow’ version ‘2.24.0’
* checking package namespace information ... OK
* checking package dependencies ... OK
* checking if this is a source package ... OK
* checking if there is a namespace ... OK
* checking for hidden files and directories ... OK
* checking for portable file names ... OK
* checking for sufficient/correct file permissions ... OK
* checking whether package ‘ncdfFlow’ can be installed ... OK
* checking installed package size ... NOTE
installed size is 19.0Mb
sub-directories of 1Mb or more:
lib 6.0Mb
libs 12.4Mb
* checking package directory ... OK
* checking ‘build’ directory ... OK
* checking DESCRIPTION meta-information ... NOTE
Malformed Title field: should not end in a period.
Package listed in more than one of Depends, Imports, Suggests, Enhances:
‘flowCore’
A package should be listed in only one of these fields.
* checking top-level files ... OK
* checking for left-over files ... OK
* checking index information ... OK
* checking package subdirectories ... OK
* checking R files for non-ASCII characters ... OK
* checking R files for syntax errors ... OK
* checking whether the package can be loaded ... OK
* checking whether the package can be loaded with stated dependencies ... OK
* checking whether the package can be unloaded cleanly ... OK
* checking whether the namespace can be loaded with stated dependencies ... OK
* checking whether the namespace can be unloaded cleanly ... OK
* checking dependencies in R code ... NOTE
'library' or 'require' call to ‘parallel’ in package code.
Please use :: or requireNamespace() instead.
See section 'Suggested packages' in the 'Writing R Extensions' manual.
Packages in Depends field not imported from:
‘BH’ ‘RcppArmadillo’
These packages need to be imported from (in the NAMESPACE file)
for when this namespace is loaded but not attached.
Unexported objects imported by ':::' calls:
‘flowCore:::makeFCSparameters’ ‘flowCore:::readFCSgetPar’
See the note in ?`:::` about the use of this operator.
* checking S3 generic/method consistency ... OK
* checking replacement functions ... OK
* checking foreign function calls ... OK
* checking R code for possible problems ... NOTE
ncdfFlowSet,flowSet: warning in assign(guid, new("flowFrame", exprs =
matrix(numeric(0), nrow = 0, ncol = 0), parameters(x[[guid]]),
description(x[[guid]])), env = e1): partial argument match of 'env'
to 'envir'
rbind2,ncdfFlowList-ANY : <anonymous> : <anonymous>: warning in
assign(curSample, NA, env = indiceEnv): partial argument match of
'env' to 'envir'
read.ncdfFlowSet: no visible global function definition for ‘mclapply’
Undefined global functions or variables:
mclapply
* checking Rd files ... OK
* checking Rd metadata ... OK
* checking Rd cross-references ... OK
* checking for missing documentation entries ... OK
* checking for code/documentation mismatches ... OK
* checking Rd \usage sections ... OK
* checking Rd contents ... OK
* checking for unstated dependencies in examples ... OK
* checking line endings in C/C++/Fortran sources/headers ... OK
* checking line endings in Makefiles ... OK
* checking compilation flags in Makevars ... OK
* checking for GNU extensions in Makefiles ... OK
* checking for portable use of $(BLAS_LIBS) and $(LAPACK_LIBS) ... OK
* checking compiled code ... OK
* checking installed files from ‘inst/doc’ ... OK
* checking files in ‘vignettes’ ... OK
* checking examples ... OK
* checking for unstated dependencies in ‘tests’ ... OK
* checking tests ...
Running ‘testthat.R’
OK
* checking for unstated dependencies in vignettes ... OK
* checking package vignettes in ‘inst/doc’ ... OK
* checking running R code from vignettes ... SKIPPED
* checking re-building of vignette outputs ... SKIPPED
* checking PDF version of manual ... OK
* DONE
Status: 4 NOTEs
See
‘/home/biocbuild/bbs-3.6-bioc/meat/ncdfFlow.Rcheck/00check.log’
for details.
ncdfFlow.Rcheck/00install.out
* installing *source* package ‘ncdfFlow’ ...
** libs
g++ -I/home/biocbuild/bbs-3.6-bioc/R/include -DNDEBUG -I"/home/biocbuild/bbs-3.6-bioc/R/library/Rcpp/include" -I"/home/biocbuild/bbs-3.6-bioc/R/library/RcppArmadillo/include" -I"/home/biocbuild/bbs-3.6-bioc/R/library/BH/include" -I"/home/biocbuild/bbs-3.6-bioc/R/library/Rhdf5lib/include" -I/usr/local/include -fpic -g -O2 -Wall -c RcppExports.cpp -o RcppExports.o
g++ -I/home/biocbuild/bbs-3.6-bioc/R/include -DNDEBUG -I"/home/biocbuild/bbs-3.6-bioc/R/library/Rcpp/include" -I"/home/biocbuild/bbs-3.6-bioc/R/library/RcppArmadillo/include" -I"/home/biocbuild/bbs-3.6-bioc/R/library/BH/include" -I"/home/biocbuild/bbs-3.6-bioc/R/library/Rhdf5lib/include" -I/usr/local/include -fpic -g -O2 -Wall -c bitOps.cpp -o bitOps.o
g++ -I/home/biocbuild/bbs-3.6-bioc/R/include -DNDEBUG -I"/home/biocbuild/bbs-3.6-bioc/R/library/Rcpp/include" -I"/home/biocbuild/bbs-3.6-bioc/R/library/RcppArmadillo/include" -I"/home/biocbuild/bbs-3.6-bioc/R/library/BH/include" -I"/home/biocbuild/bbs-3.6-bioc/R/library/Rhdf5lib/include" -I/usr/local/include -fpic -g -O2 -Wall -c hdfFlow.cpp -o hdfFlow.o
hdfFlow.cpp: In function ‘void readSlice_cpp(hid_t, hid_t, hid_t, std::vector<unsigned int, std::allocator<unsigned int> >, unsigned int, unsigned int, double*, bool)’:
hdfFlow.cpp:484:14: warning: variable ‘status’ set but not used [-Wunused-but-set-variable]
herr_t status;
^
gcc -I/home/biocbuild/bbs-3.6-bioc/R/include -DNDEBUG -I"/home/biocbuild/bbs-3.6-bioc/R/library/Rcpp/include" -I"/home/biocbuild/bbs-3.6-bioc/R/library/RcppArmadillo/include" -I"/home/biocbuild/bbs-3.6-bioc/R/library/BH/include" -I"/home/biocbuild/bbs-3.6-bioc/R/library/Rhdf5lib/include" -I/usr/local/include -fpic -g -O2 -Wall -c init.c -o init.o
g++ -I/home/biocbuild/bbs-3.6-bioc/R/include -DNDEBUG -I"/home/biocbuild/bbs-3.6-bioc/R/library/Rcpp/include" -I"/home/biocbuild/bbs-3.6-bioc/R/library/RcppArmadillo/include" -I"/home/biocbuild/bbs-3.6-bioc/R/library/BH/include" -I"/home/biocbuild/bbs-3.6-bioc/R/library/Rhdf5lib/include" -I/usr/local/include -fpic -g -O2 -Wall -c readFrame.cpp -o readFrame.o
mkdir -p "/home/biocbuild/bbs-3.6-bioc/meat/ncdfFlow.Rcheck/ncdfFlow/lib"
ar rs "/home/biocbuild/bbs-3.6-bioc/meat/ncdfFlow.Rcheck/ncdfFlow/lib/libncdfFlow.a" RcppExports.o bitOps.o hdfFlow.o init.o readFrame.o
ar: creating /home/biocbuild/bbs-3.6-bioc/meat/ncdfFlow.Rcheck/ncdfFlow/lib/libncdfFlow.a
g++ -shared -L/home/biocbuild/bbs-3.6-bioc/R/lib -L/usr/local/lib -o ncdfFlow.so RcppExports.o bitOps.o hdfFlow.o init.o readFrame.o /home/biocbuild/bbs-3.6-bioc/R/library/Rhdf5lib/lib/libhdf5.a /home/biocbuild/bbs-3.6-bioc/R/library/Rhdf5lib/lib/libsz.a -L/home/biocbuild/bbs-3.6-bioc/R/lib -lR
installing to /home/biocbuild/bbs-3.6-bioc/meat/ncdfFlow.Rcheck/ncdfFlow/libs
** R
** inst
** preparing package for lazy loading
** help
*** installing help indices
** building package indices
** installing vignettes
** testing if installed package can be loaded
* DONE (ncdfFlow)
ncdfFlow.Rcheck/tests/testthat.Rout
R version 3.4.4 (2018-03-15) -- "Someone to Lean On"
Copyright (C) 2018 The R Foundation for Statistical Computing
Platform: x86_64-pc-linux-gnu (64-bit)
R is free software and comes with ABSOLUTELY NO WARRANTY.
You are welcome to redistribute it under certain conditions.
Type 'license()' or 'licence()' for distribution details.
R is a collaborative project with many contributors.
Type 'contributors()' for more information and
'citation()' on how to cite R or R packages in publications.
Type 'demo()' for some demos, 'help()' for on-line help, or
'help.start()' for an HTML browser interface to help.
Type 'q()' to quit R.
> library(testthat)
> library(ncdfFlow)
Loading required package: flowCore
Attaching package: 'flowCore'
The following object is masked from 'package:base':
sort
Loading required package: RcppArmadillo
Loading required package: BH
>
> test_check("ncdfFlow")
══ testthat results ═══════════════════════════════════════════════════════════
OK: 376 SKIPPED: 0 FAILED: 0
Warning message:
closing unused connection 3 (/tmp/RtmpQYXAxz/file2c305e36ea1)
> #devtools::test("˜/rglab/workspace/ncdfFlow")
> #test_file("˜/rglab/workspace/ncdfFlow/inst/tests/test_ncdfFlowSet_accessor.R")
> #test_file("˜/rglab/workspace/ncdfFlow/inst/tests/test_ncdfFlowList.R")
>
>
> proc.time()
user system elapsed
9.360 0.132 9.585
ncdfFlow.Rcheck/ncdfFlow-Ex.timings
| name | user | system | elapsed | |
| Indices | 1.560 | 0.056 | 1.634 | |
| as.flowSet | 0.780 | 0.016 | 0.796 | |
| clone.ncdfFlowSet | 1.008 | 0.016 | 1.058 | |
| extractFlowFrame | 0.676 | 0.016 | 0.691 | |
| ncdfFlowList-class | 0.684 | 0.020 | 0.702 | |
| ncdfFlowSet-constructor | 0.648 | 0.004 | 0.653 | |
| ncfsApply-ncdfFlowSet-method | 0.796 | 0.012 | 0.808 | |
| rbind2-method | 0.844 | 0.016 | 0.860 | |
| read.ncdfFlowSet | 0.532 | 0.000 | 0.533 | |
| replacement-method-for-ncdfFlowSet | 0.716 | 0.016 | 0.732 | |
| save_ncfs | 0.004 | 0.000 | 0.000 | |
| subset-methods | 0.628 | 0.028 | 0.659 | |
| unlink-ncdfFlowSet-method | 0.640 | 0.008 | 0.647 | |