| Back to Multiple platform build/check report for BioC 3.6 | 
 | 
This page was generated on 2018-04-12 13:31:53 -0400 (Thu, 12 Apr 2018).
| Package 816/1472 | Hostname | OS / Arch | INSTALL | BUILD | CHECK | BUILD BIN | ||||||
| metaArray 1.56.0 Hyungwon Choi 
 | malbec1 | Linux (Ubuntu 16.04.1 LTS) / x86_64 | OK | OK | OK |  | ||||||
| tokay1 | Windows Server 2012 R2 Standard / x64 | OK | OK | OK | OK |  | ||||||
| veracruz1 | OS X 10.11.6 El Capitan / x86_64 | [ OK ] | OK | OK | OK |  | 
| Package: metaArray | 
| Version: 1.56.0 | 
| Command: /Library/Frameworks/R.framework/Versions/Current/Resources/bin/R CMD INSTALL metaArray | 
| StartedAt: 2018-04-11 18:04:44 -0400 (Wed, 11 Apr 2018) | 
| EndedAt: 2018-04-11 18:04:51 -0400 (Wed, 11 Apr 2018) | 
| EllapsedTime: 6.4 seconds | 
| RetCode: 0 | 
| Status: OK | 
##############################################################################
##############################################################################
###
### Running command:
###
###   /Library/Frameworks/R.framework/Versions/Current/Resources/bin/R CMD INSTALL metaArray
###
##############################################################################
##############################################################################
* installing to library ‘/Library/Frameworks/R.framework/Versions/3.4/Resources/library’
* installing *source* package ‘metaArray’ ...
** libs
clang -I/Library/Frameworks/R.framework/Resources/include -DNDEBUG   -I/usr/local/include  -DUSEDOUBLE -fPIC  -Wall -g -O2  -c contr.c -o contr.o
clang -I/Library/Frameworks/R.framework/Resources/include -DNDEBUG   -I/usr/local/include  -DUSEDOUBLE -fPIC  -Wall -g -O2  -c dproc.c -o dproc.o
dproc.c:192:16: warning: unused variable 'nc' [-Wunused-variable]
  int num, nr, nc;
               ^
1 warning generated.
clang -I/Library/Frameworks/R.framework/Resources/include -DNDEBUG   -I/usr/local/include  -DUSEDOUBLE -fPIC  -Wall -g -O2  -c dproc2.c -o dproc2.o
clang -I/Library/Frameworks/R.framework/Resources/include -DNDEBUG   -I/usr/local/include  -DUSEDOUBLE -fPIC  -Wall -g -O2  -c intcor.c -o intcor.o
clang -I/Library/Frameworks/R.framework/Resources/include -DNDEBUG   -I/usr/local/include  -DUSEDOUBLE -fPIC  -Wall -g -O2  -c lowess.c -o lowess.o
clang -I/Library/Frameworks/R.framework/Resources/include -DNDEBUG   -I/usr/local/include  -DUSEDOUBLE -fPIC  -Wall -g -O2  -c mmath.c -o mmath.o
clang -I/Library/Frameworks/R.framework/Resources/include -DNDEBUG   -I/usr/local/include  -DUSEDOUBLE -fPIC  -Wall -g -O2  -c perm.c -o perm.o
clang -I/Library/Frameworks/R.framework/Resources/include -DNDEBUG   -I/usr/local/include  -DUSEDOUBLE -fPIC  -Wall -g -O2  -c poe.c -o poe.o
clang++ -dynamiclib -Wl,-headerpad_max_install_names -undefined dynamic_lookup -single_module -multiply_defined suppress -L/Library/Frameworks/R.framework/Resources/lib -L/usr/local/lib -o metaArray.so contr.o dproc.o dproc2.o intcor.o lowess.o mmath.o perm.o poe.o -lm -F/Library/Frameworks/R.framework/.. -framework R -Wl,-framework -Wl,CoreFoundation
installing to /Library/Frameworks/R.framework/Versions/3.4/Resources/library/metaArray/libs
** R
** data
** preparing package for lazy loading
** help
*** installing help indices
** building package indices
** installing vignettes
** testing if installed package can be loaded
* DONE (metaArray)